BEGIN:VCALENDAR
VERSION:2.0
PRODID:-//Jackson Tourism - ECPv6.15.20//NONSGML v1.0//EN
CALSCALE:GREGORIAN
METHOD:PUBLISH
X-ORIGINAL-URL:https://visitjacksontn.com
X-WR-CALDESC:Events for Jackson Tourism
REFRESH-INTERVAL;VALUE=DURATION:PT1H
X-Robots-Tag:noindex
X-PUBLISHED-TTL:PT1H
BEGIN:VTIMEZONE
TZID:America/Chicago
BEGIN:DAYLIGHT
TZOFFSETFROM:-0600
TZOFFSETTO:-0500
TZNAME:CDT
DTSTART:20240310T080000
END:DAYLIGHT
BEGIN:STANDARD
TZOFFSETFROM:-0500
TZOFFSETTO:-0600
TZNAME:CST
DTSTART:20241103T070000
END:STANDARD
BEGIN:DAYLIGHT
TZOFFSETFROM:-0600
TZOFFSETTO:-0500
TZNAME:CDT
DTSTART:20250309T080000
END:DAYLIGHT
BEGIN:STANDARD
TZOFFSETFROM:-0500
TZOFFSETTO:-0600
TZNAME:CST
DTSTART:20251102T070000
END:STANDARD
BEGIN:DAYLIGHT
TZOFFSETFROM:-0600
TZOFFSETTO:-0500
TZNAME:CDT
DTSTART:20260308T080000
END:DAYLIGHT
BEGIN:STANDARD
TZOFFSETFROM:-0500
TZOFFSETTO:-0600
TZNAME:CST
DTSTART:20261101T070000
END:STANDARD
END:VTIMEZONE
BEGIN:VEVENT
DTSTART;TZID=America/Chicago:20250508T090000
DTEND;TZID=America/Chicago:20250508T110000
DTSTAMP:20260423T015648
CREATED:20250501T153244Z
LAST-MODIFIED:20250501T153244Z
UID:10005537-1746694800-1746702000@visitjacksontn.com
SUMMARY:Muffins with Mom
DESCRIPTION:Come eat muffins\, make a craft and enjoy open play at Muffins with Mom! \nEnjoy giveaways just for the moms and come enter in those and take home some sweet gifts with you from local businesses in town.
URL:https://visitjacksontn.com/event/muffins-with-mom/
LOCATION:We Rock The Spectrum\, 2211 Express Drive\, Jackson\, TN\, 38305\, United States
CATEGORIES:Events
ATTACH;FMTTYPE=image/jpeg:https://visitjacksontn.com/wp-content/uploads/494061553_661577490061600_649106896169808054_n.jpg
END:VEVENT
BEGIN:VEVENT
DTSTART;TZID=America/Chicago:20250508T180000
DTEND;TZID=America/Chicago:20250508T210000
DTSTAMP:20260423T015648
CREATED:20250430T185852Z
LAST-MODIFIED:20250430T185852Z
UID:10005532-1746727200-1746738000@visitjacksontn.com
SUMMARY:A Magical Mom’s Night Out
DESCRIPTION:Join us for A Magical Mom’s Night Out – A Whimsical Evening of Treats\, Scents\, & Sparkle on Wednesday! \nTickets includes a hands-on watercolor workshop with Threads and Bristles\, delicious snacks from the café (coffee and specialty drinks available for purchase)\, and a full custom perfume experience with Salem and Sage Studios—complete with a personalized bottle to take home. Enjoy $5 off chain purchases at the Permanent Jewelry Bar and exclusive access to piercings by Mia Isabella and lingerie fittings and shopping with Fitting Lingerie. \nCome indulge in a magical night made just for you.
URL:https://visitjacksontn.com/event/a-magical-moms-night-out/
LOCATION:A Third Place Coffee & Books\, 107 S Main St\, Medina\, TN\, 38355\, United States
CATEGORIES:Events
ATTACH;FMTTYPE=image/jpeg:https://visitjacksontn.com/wp-content/uploads/492565650_601134682946456_467390325920304463_n.jpg
END:VEVENT
END:VCALENDAR