BEGIN:VCALENDAR
VERSION:2.0
PRODID:-//Jackson Tourism - ECPv6.15.18//NONSGML v1.0//EN
CALSCALE:GREGORIAN
METHOD:PUBLISH
X-ORIGINAL-URL:https://visitjacksontn.com
X-WR-CALDESC:Events for Jackson Tourism
REFRESH-INTERVAL;VALUE=DURATION:PT1H
X-Robots-Tag:noindex
X-PUBLISHED-TTL:PT1H
BEGIN:VTIMEZONE
TZID:America/Chicago
BEGIN:DAYLIGHT
TZOFFSETFROM:-0600
TZOFFSETTO:-0500
TZNAME:CDT
DTSTART:20240310T080000
END:DAYLIGHT
BEGIN:STANDARD
TZOFFSETFROM:-0500
TZOFFSETTO:-0600
TZNAME:CST
DTSTART:20241103T070000
END:STANDARD
BEGIN:DAYLIGHT
TZOFFSETFROM:-0600
TZOFFSETTO:-0500
TZNAME:CDT
DTSTART:20250309T080000
END:DAYLIGHT
BEGIN:STANDARD
TZOFFSETFROM:-0500
TZOFFSETTO:-0600
TZNAME:CST
DTSTART:20251102T070000
END:STANDARD
BEGIN:DAYLIGHT
TZOFFSETFROM:-0600
TZOFFSETTO:-0500
TZNAME:CDT
DTSTART:20260308T080000
END:DAYLIGHT
BEGIN:STANDARD
TZOFFSETFROM:-0500
TZOFFSETTO:-0600
TZNAME:CST
DTSTART:20261101T070000
END:STANDARD
END:VTIMEZONE
BEGIN:VEVENT
DTSTART;TZID=America/Chicago:20250615T150000
DTEND;TZID=America/Chicago:20250615T150000
DTSTAMP:20260420T035318
CREATED:20250218T161341Z
LAST-MODIFIED:20250218T163055Z
UID:10005273-1749999600-1749999600@visitjacksontn.com
SUMMARY:Opening Ceremonies for Miss Volunteer America
DESCRIPTION:Be part of the excitement at the Opening Ceremonies for Miss Volunteer America as they introduce the full Class of Contestants! \nDon’t miss this free and open-to-the-public event. Witness the 51 State Titleholders take the stage\, proudly presenting their state flags and state princesses as they begin their journey toward the crown.
URL:https://visitjacksontn.com/event/opening-ceremonies-for-miss-volunteer-america/
LOCATION:The Ned McWherter West TN Cultural Arts Center\, 314 E. Main St.\, Jackson\, TN\, 38301\, United States
CATEGORIES:Events
ATTACH;FMTTYPE=image/jpeg:https://visitjacksontn.com/wp-content/uploads/478890765_1034704938677212_8367647023871214383_n.jpg
END:VEVENT
BEGIN:VEVENT
DTSTART;TZID=America/Chicago:20250615T193000
DTEND;TZID=America/Chicago:20250615T193000
DTSTAMP:20260420T035318
CREATED:20250218T152022Z
LAST-MODIFIED:20250218T152034Z
UID:10005271-1750015800-1750015800@visitjacksontn.com
SUMMARY:Meet the Miss Volunteer America Contestants!
DESCRIPTION:Don’t miss your chance to meet the contestants vying for the title of Miss Volunteer America 2026!  \nCome take selfies\, get your program book signed and meet the girls from across the country.
URL:https://visitjacksontn.com/event/meet-the-miss-volunteer-america-contestants/
LOCATION:Hub City Brewing\, 250 West Main Street\, Jackson\, TN\, 38301\, United States
CATEGORIES:Events
ATTACH;FMTTYPE=image/jpeg:https://visitjacksontn.com/wp-content/uploads/479682064_1034702312010808_6151758356786932167_n.jpg
END:VEVENT
END:VCALENDAR