BEGIN:VCALENDAR
VERSION:2.0
PRODID:-//Jackson Tourism - ECPv6.15.18//NONSGML v1.0//EN
CALSCALE:GREGORIAN
METHOD:PUBLISH
X-WR-CALNAME:Jackson Tourism
X-ORIGINAL-URL:https://visitjacksontn.com
X-WR-CALDESC:Events for Jackson Tourism
REFRESH-INTERVAL;VALUE=DURATION:PT1H
X-Robots-Tag:noindex
X-PUBLISHED-TTL:PT1H
BEGIN:VTIMEZONE
TZID:America/Chicago
BEGIN:DAYLIGHT
TZOFFSETFROM:-0600
TZOFFSETTO:-0500
TZNAME:CDT
DTSTART:20240310T080000
END:DAYLIGHT
BEGIN:STANDARD
TZOFFSETFROM:-0500
TZOFFSETTO:-0600
TZNAME:CST
DTSTART:20241103T070000
END:STANDARD
BEGIN:DAYLIGHT
TZOFFSETFROM:-0600
TZOFFSETTO:-0500
TZNAME:CDT
DTSTART:20250309T080000
END:DAYLIGHT
BEGIN:STANDARD
TZOFFSETFROM:-0500
TZOFFSETTO:-0600
TZNAME:CST
DTSTART:20251102T070000
END:STANDARD
BEGIN:DAYLIGHT
TZOFFSETFROM:-0600
TZOFFSETTO:-0500
TZNAME:CDT
DTSTART:20260308T080000
END:DAYLIGHT
BEGIN:STANDARD
TZOFFSETFROM:-0500
TZOFFSETTO:-0600
TZNAME:CST
DTSTART:20261101T070000
END:STANDARD
END:VTIMEZONE
BEGIN:VEVENT
DTSTART;TZID=America/Chicago:20250723T190000
DTEND;TZID=America/Chicago:20250723T213000
DTSTAMP:20260419T185805
CREATED:20241113T160402Z
LAST-MODIFIED:20241120T203436Z
UID:10002868-1753297200-1753306200@visitjacksontn.com
SUMMARY:Miss Tennessee Volunteer: Preliminary Night 1
DESCRIPTION:Mark your calendars for the Miss Tennessee Volunteer Pageant & Night 1 of the preliminary competition. The pageant will begin at 7:00 p.m.\, and doors will open at 6:00 pm. \nA nonprofit organization based in Jackson\, Tennessee\, Miss Tennessee Volunteer is a statewide\, service-oriented scholarship program seeking to empower young women through education and opportunity. One of the top providers of scholarships for young women in Tennessee\, Miss Tennessee Volunteer is also the #1 economic driver for the City of Jackson. \nMiss Tennessee Volunteer 2025 will crown her successor on Saturday night after the final night of competition.
URL:https://visitjacksontn.com/event/miss-tennessee-volunteer-preliminary-night-1-3/
LOCATION:Carl Perkins Civic Center\, 400 South Highland Avenue\, Jackson\, TN\, 38301\, United States
CATEGORIES:Events
ATTACH;FMTTYPE=image/jpeg:https://visitjacksontn.com/wp-content/uploads/466790007_963591282467734_4690587543730502403_n.jpg
END:VEVENT
END:VCALENDAR