BEGIN:VCALENDAR
VERSION:2.0
PRODID:-//Jackson Tourism - ECPv6.15.20//NONSGML v1.0//EN
CALSCALE:GREGORIAN
METHOD:PUBLISH
X-WR-CALNAME:Jackson Tourism
X-ORIGINAL-URL:https://visitjacksontn.com
X-WR-CALDESC:Events for Jackson Tourism
REFRESH-INTERVAL;VALUE=DURATION:PT1H
X-Robots-Tag:noindex
X-PUBLISHED-TTL:PT1H
BEGIN:VTIMEZONE
TZID:America/Chicago
BEGIN:DAYLIGHT
TZOFFSETFROM:-0600
TZOFFSETTO:-0500
TZNAME:CDT
DTSTART:20240310T080000
END:DAYLIGHT
BEGIN:STANDARD
TZOFFSETFROM:-0500
TZOFFSETTO:-0600
TZNAME:CST
DTSTART:20241103T070000
END:STANDARD
BEGIN:DAYLIGHT
TZOFFSETFROM:-0600
TZOFFSETTO:-0500
TZNAME:CDT
DTSTART:20250309T080000
END:DAYLIGHT
BEGIN:STANDARD
TZOFFSETFROM:-0500
TZOFFSETTO:-0600
TZNAME:CST
DTSTART:20251102T070000
END:STANDARD
BEGIN:DAYLIGHT
TZOFFSETFROM:-0600
TZOFFSETTO:-0500
TZNAME:CDT
DTSTART:20260308T080000
END:DAYLIGHT
BEGIN:STANDARD
TZOFFSETFROM:-0500
TZOFFSETTO:-0600
TZNAME:CST
DTSTART:20261101T070000
END:STANDARD
END:VTIMEZONE
BEGIN:VEVENT
DTSTART;TZID=America/Chicago:20250524T100000
DTEND;TZID=America/Chicago:20250524T100000
DTSTAMP:20260425T154101
CREATED:20250501T182233Z
LAST-MODIFIED:20250501T182419Z
UID:10005540-1748080800-1748080800@visitjacksontn.com
SUMMARY:A Ride to Remember
DESCRIPTION:Join the Bumpus of Jackson crew for A Ride to Remember\, honoring the brave men and women who gave their lives in service to our country. \nRide out together and meet up with the Bumpus of Memphis crew at Freddy T’s for a shared moment of remembrance and camaraderie. \nSchedule: \nRegistration: 10AM at Bumpus of Jackson \nKickstands Up: 11AM \nFinal Stop: Freddy T’s. \nRide in unity\, reflect on the sacrifices made\, and honor the fallen with the power of two wheels.
URL:https://visitjacksontn.com/event/a-ride-to-remember/
LOCATION:Bumpus Harley Davidson\, 326 Carriage House Drive.\, Jackson\, TN\, 38305\, United States
CATEGORIES:Events,Sports & Outdoor
ATTACH;FMTTYPE=image/jpeg:https://visitjacksontn.com/wp-content/uploads/492218878_1079705024202839_8237250088336945787_n.jpg
END:VEVENT
BEGIN:VEVENT
DTSTART;TZID=America/Chicago:20250526T110000
DTEND;TZID=America/Chicago:20250526T110000
DTSTAMP:20260425T154101
CREATED:20250429T142857Z
LAST-MODIFIED:20250501T155857Z
UID:10005538-1748257200-1748257200@visitjacksontn.com
SUMMARY:Memorial Day Ceremony at Shiloh
DESCRIPTION:Shiloh National Military Park invites guests to bring lawn chairs and join the annual Memorial Day ceremony in the Shiloh National Cemetery. \nThe one-hour service remembering the sacrifice of American service personnel is free and open to the public.
URL:https://visitjacksontn.com/event/memorial-day-ceremony-at-shiloh/
LOCATION:Shiloh National Military Park\, 1055 Pittsburg Landing Road\, Shiloh\, TN\, 38376\, United States
CATEGORIES:Events,History & Civil War
ATTACH;FMTTYPE=image/jpeg:https://visitjacksontn.com/wp-content/uploads/AD45EDA7-D8D1-AA46-007E4F90291AACC9.jpg
END:VEVENT
END:VCALENDAR