BEGIN:VCALENDAR
VERSION:2.0
PRODID:-//Jackson Tourism - ECPv6.15.18//NONSGML v1.0//EN
CALSCALE:GREGORIAN
METHOD:PUBLISH
X-WR-CALNAME:Jackson Tourism
X-ORIGINAL-URL:https://visitjacksontn.com
X-WR-CALDESC:Events for Jackson Tourism
REFRESH-INTERVAL;VALUE=DURATION:PT1H
X-Robots-Tag:noindex
X-PUBLISHED-TTL:PT1H
BEGIN:VTIMEZONE
TZID:America/Chicago
BEGIN:DAYLIGHT
TZOFFSETFROM:-0600
TZOFFSETTO:-0500
TZNAME:CDT
DTSTART:20230312T080000
END:DAYLIGHT
BEGIN:STANDARD
TZOFFSETFROM:-0500
TZOFFSETTO:-0600
TZNAME:CST
DTSTART:20231105T070000
END:STANDARD
BEGIN:DAYLIGHT
TZOFFSETFROM:-0600
TZOFFSETTO:-0500
TZNAME:CDT
DTSTART:20240310T080000
END:DAYLIGHT
BEGIN:STANDARD
TZOFFSETFROM:-0500
TZOFFSETTO:-0600
TZNAME:CST
DTSTART:20241103T070000
END:STANDARD
BEGIN:DAYLIGHT
TZOFFSETFROM:-0600
TZOFFSETTO:-0500
TZNAME:CDT
DTSTART:20250309T080000
END:DAYLIGHT
BEGIN:STANDARD
TZOFFSETFROM:-0500
TZOFFSETTO:-0600
TZNAME:CST
DTSTART:20251102T070000
END:STANDARD
END:VTIMEZONE
BEGIN:VEVENT
DTSTART;TZID=America/Chicago:20240527T110000
DTEND;TZID=America/Chicago:20240527T110000
DTSTAMP:20260420T012432
CREATED:20240514T170948Z
LAST-MODIFIED:20240514T170948Z
UID:10002216-1716807600-1716807600@visitjacksontn.com
SUMMARY:Memorial Day Service in the Shiloh National Cemetery
DESCRIPTION:Join Shiloh for their annual Memorial Day ceremony in the Shiloh National Cemetery. The program features patriotic music\, a salute to our veterans\, a keynote speaker\, a historic firing salute\, the laying of a wreath\, and the playing of Taps. \nBring your lawn chairs and blankets and enjoy this decades long tradition. The service begins at 11:00 am and is free and open to the public. \nFor more information\, call the park’s visitor center at 731-689-5696 or click here.
URL:https://visitjacksontn.com/event/memorial-day-service-in-the-shiloh-national-cemetery/
LOCATION:Shiloh National Military Park\, 1055 Pittsburg Landing Road\, Shiloh\, TN\, 38376\, United States
CATEGORIES:Events,History & Civil War
ATTACH;FMTTYPE=image/jpeg:https://visitjacksontn.com/wp-content/uploads/440399456_814377537387360_4537485293073717889_n.jpg
END:VEVENT
END:VCALENDAR