BEGIN:VCALENDAR
VERSION:2.0
PRODID:-//Jackson Tourism - ECPv6.15.18//NONSGML v1.0//EN
CALSCALE:GREGORIAN
METHOD:PUBLISH
X-WR-CALNAME:Jackson Tourism
X-ORIGINAL-URL:https://visitjacksontn.com
X-WR-CALDESC:Events for Jackson Tourism
REFRESH-INTERVAL;VALUE=DURATION:PT1H
X-Robots-Tag:noindex
X-PUBLISHED-TTL:PT1H
BEGIN:VTIMEZONE
TZID:America/Chicago
BEGIN:DAYLIGHT
TZOFFSETFROM:-0600
TZOFFSETTO:-0500
TZNAME:CDT
DTSTART:20240310T080000
END:DAYLIGHT
BEGIN:STANDARD
TZOFFSETFROM:-0500
TZOFFSETTO:-0600
TZNAME:CST
DTSTART:20241103T070000
END:STANDARD
BEGIN:DAYLIGHT
TZOFFSETFROM:-0600
TZOFFSETTO:-0500
TZNAME:CDT
DTSTART:20250309T080000
END:DAYLIGHT
BEGIN:STANDARD
TZOFFSETFROM:-0500
TZOFFSETTO:-0600
TZNAME:CST
DTSTART:20251102T070000
END:STANDARD
BEGIN:DAYLIGHT
TZOFFSETFROM:-0600
TZOFFSETTO:-0500
TZNAME:CDT
DTSTART:20260308T080000
END:DAYLIGHT
BEGIN:STANDARD
TZOFFSETFROM:-0500
TZOFFSETTO:-0600
TZNAME:CST
DTSTART:20261101T070000
END:STANDARD
END:VTIMEZONE
BEGIN:VEVENT
DTSTART;TZID=America/Chicago:20250724T183000
DTEND;TZID=America/Chicago:20250724T183000
DTSTAMP:20260421T030946
CREATED:20250711T154106Z
LAST-MODIFIED:20250711T154621Z
UID:10005666-1753381800-1753381800@visitjacksontn.com
SUMMARY:Jazz with Roland Barber
DESCRIPTION:Don’t miss a night of Jazz with Roland Barber! \nTrained at Indiana University and the Manhattan School of Music\, Roland Barber has performed with an impressively diverse list of artists including Chaka Khan\, Duke Ellington Orchestra\, Wynton Marsalis and Jazz at Lincoln Center\, Kirk Whalum\, the Wooten Brothers\, the Chico O’Farill Orchestra\, Robin Thicke\, the Temptations\, Manny Oquendo y Libre\, and the Saturday Night Live Band. He’s performed in venues such as Carnegie Hall\, Birdland\, the Blue Note\, the Beacon Theater\, Lincoln Center\, the Kennedy Center\, and Madison Square Garden.
URL:https://visitjacksontn.com/event/jazz-with-roland-barber/
LOCATION:The Ned McWherter West TN Cultural Arts Center\, 314 E. Main St.\, Jackson\, TN\, 38301\, United States
CATEGORIES:Events,Music
ATTACH;FMTTYPE=image/webp:https://visitjacksontn.com/wp-content/uploads/AlbumCover.webp
END:VEVENT
END:VCALENDAR