BEGIN:VCALENDAR
VERSION:2.0
PRODID:-//Jackson Tourism - ECPv6.15.18//NONSGML v1.0//EN
CALSCALE:GREGORIAN
METHOD:PUBLISH
X-ORIGINAL-URL:https://visitjacksontn.com
X-WR-CALDESC:Events for Jackson Tourism
REFRESH-INTERVAL;VALUE=DURATION:PT1H
X-Robots-Tag:noindex
X-PUBLISHED-TTL:PT1H
BEGIN:VTIMEZONE
TZID:America/Chicago
BEGIN:DAYLIGHT
TZOFFSETFROM:-0600
TZOFFSETTO:-0500
TZNAME:CDT
DTSTART:20230312T080000
END:DAYLIGHT
BEGIN:STANDARD
TZOFFSETFROM:-0500
TZOFFSETTO:-0600
TZNAME:CST
DTSTART:20231105T070000
END:STANDARD
BEGIN:DAYLIGHT
TZOFFSETFROM:-0600
TZOFFSETTO:-0500
TZNAME:CDT
DTSTART:20240310T080000
END:DAYLIGHT
BEGIN:STANDARD
TZOFFSETFROM:-0500
TZOFFSETTO:-0600
TZNAME:CST
DTSTART:20241103T070000
END:STANDARD
BEGIN:DAYLIGHT
TZOFFSETFROM:-0600
TZOFFSETTO:-0500
TZNAME:CDT
DTSTART:20250309T080000
END:DAYLIGHT
BEGIN:STANDARD
TZOFFSETFROM:-0500
TZOFFSETTO:-0600
TZNAME:CST
DTSTART:20251102T070000
END:STANDARD
END:VTIMEZONE
BEGIN:VEVENT
DTSTART;TZID=America/Chicago:20241005T110000
DTEND;TZID=America/Chicago:20241005T230000
DTSTAMP:20260422T091055
CREATED:20240924T140723Z
LAST-MODIFIED:20240924T140851Z
UID:10002604-1728126000-1728169200@visitjacksontn.com
SUMMARY:Tennessee Metal Devastation Music Fest
DESCRIPTION:Tennessee Metal Devastation Music Fest 2024! \nFeaturing a stellar array of bands: \nAutumn Lies Buried \nArsenic Addiction \nViolence System \nSummoner’s Circle \nIllusion Of Fate \nH1Z1 \nQuiescent Mantis \nDiabology \nTHE RED MOUNTAIN \nMagnets For Maniacs \nEMBR \nKillcrown \nSun Mantra \nSoma Irot \nTickets are on sale now! Scan the QR code or go to this link: https://hubcityevents.com/…/tennessee-metal-devastation…. \nWe can’t wait to see you all in October for an unforgettable day of metal mayhem! We are SO excited to bring an amazing lineup of bands from all over the country to perform in historic downtown Jackson\, Tennessee. This is the third TMDMF\, and we are happy to be bringing this event back to all heavy metal fans in our area! \nThere are many sub-genres of metal represented\, and with such a diverse lineup\, there will be plenty for metal fans to enjoy. \nThis is an all-ages show (PG-13: Children ages 13 yrs and under will need to be accompanied by a parent or guardian) and will be held at The Amp in downtown Jackson\, TN. Enjoy music\, beautiful October weather\, diverse food\, art\, and merch vendors. Bring a chair\, bring a cooler\, meet the bands\, and spend the day/evening with us!! Every ticket is VIP. We cannot wait to see you there!
URL:https://visitjacksontn.com/event/tennessee-metal-devastation-fest/
LOCATION:Jackson’s Amp at The Market\, 91 New Market Street\, Jackson\, TN\, 38301\, United States
CATEGORIES:Events,Music
ATTACH;FMTTYPE=image/jpeg:https://visitjacksontn.com/wp-content/uploads/metalfest.jpg
END:VEVENT
BEGIN:VEVENT
DTSTART;TZID=America/Chicago:20241005T170000
DTEND;TZID=America/Chicago:20241005T220000
DTSTAMP:20260422T091055
CREATED:20240925T183149Z
LAST-MODIFIED:20240926T140121Z
UID:10002622-1728147600-1728165600@visitjacksontn.com
SUMMARY:2nd Annual Save A Rack
DESCRIPTION:Save the date for the 2nd Annual Save a Rack on October 5 at the Jackson Elks Lodge #192!  #thehuntforpinkoctober \nThis premier outdoor event is sure to be a sellout this year! There will be appetizers\, a silent and live auction\, a catered meal\, live music with opening act Kimberlie Helton & Doug Marcis\, then followed by headliner Kevin & Bethany Paige with their band! \nTickets\, tables\, and sponsorships levels will be available soon.
URL:https://visitjacksontn.com/event/2nd-annual-save-a-rack/
LOCATION:ELKS LODGE 192\, 28 Executive Dr.\, Jackson\, TN\, 38305\, United States
CATEGORIES:Events,Music
ATTACH;FMTTYPE=image/jpeg:https://visitjacksontn.com/wp-content/uploads/448124649_852332506928090_5187543416594714215_n.jpg
END:VEVENT
BEGIN:VEVENT
DTSTART;TZID=America/Chicago:20241011T170000
DTEND;TZID=America/Chicago:20241012T220000
DTSTAMP:20260422T091055
CREATED:20240924T143446Z
LAST-MODIFIED:20240924T143446Z
UID:10002605-1728666000-1728770400@visitjacksontn.com
SUMMARY:Jacob Barker Music Festival
DESCRIPTION:The Jacob Barker Music Fest is an annual concert featuring live music from over 20 local bands supporting the Make-A-Wish Foundation. The festival is only possible because of the performers\, food vendors\, community volunteers\, and music fans who come out each year to enjoy the best of what Jackson has to offer. \nThe festival takes place on October 11-12 at Jackson’s Amp at the Market and is free entry. Music starts at 5:00 pm on October 11 and 3:00 pm on October 12. We hope to see you there!
URL:https://visitjacksontn.com/event/jacob-barker-music-festival/
LOCATION:Jackson’s Amp at The Market\, 91 New Market Street\, Jackson\, TN\, 38301\, United States
CATEGORIES:Events,Music
ATTACH;FMTTYPE=image/jpeg:https://visitjacksontn.com/wp-content/uploads/460957017_934650205369920_2869492966943866014_n.jpg
END:VEVENT
BEGIN:VEVENT
DTSTART;TZID=America/Chicago:20241012T110000
DTEND;TZID=America/Chicago:20241012T150000
DTSTAMP:20260422T091055
CREATED:20240924T161510Z
LAST-MODIFIED:20240924T161510Z
UID:10002608-1728730800-1728745200@visitjacksontn.com
SUMMARY:Save the Tatas Car & Bike Show
DESCRIPTION:2024 Save the Tatas Car and Bike Show at Bumpus Harley-Davidson of Jackson! \nDate: October 12th Time: 11:00 AM – 3:00 PM \nLocation: Bumpus Harley-Davidson of Jackson \nJoin us for a fantastic day of cars\, bikes\, and camaraderie at the 2024 Save the Tatas Car and Bike Show! This exciting event supports a great cause! \nEvent Highlights: \nJudging: Begins at 1:00 PM \nAwards Presentation: 2:00 PM \nLive Music: Enjoy tunes throughout the event! \nFood Trucks: Delicious food available on site. \nAwards and Prizes:  Best in Show Car: Trophy + $100 Bumpus Gift Card \nBest in Show Motorcycle: Trophy + $100 Bumpus Gift Card \nPeople’s Choice Car: Trophy + $100 Bumpus Gift Card \nPeople’s Choice Motorcycle: Trophy + $100 Bumpus Gift Card \nShow T-Shirts: Available for $25\, with proceeds going to the Rack Pack. \nCome out\, show your support\, and have a great time with fellow car and bike enthusiasts. Don’t miss out on this amazing event!
URL:https://visitjacksontn.com/event/save-the-tatas-car-bike-show/
LOCATION:Bumpus Harley Davidson\, 326 Carriage House Drive.\, Jackson\, TN\, 38305\, United States
CATEGORIES:Events,Music
ATTACH;FMTTYPE=image/jpeg:https://visitjacksontn.com/wp-content/uploads/451446666_876406301199380_4355121543287415933_n.jpg
END:VEVENT
END:VCALENDAR