BEGIN:VCALENDAR
VERSION:2.0
PRODID:-//Jackson Tourism - ECPv6.15.18//NONSGML v1.0//EN
CALSCALE:GREGORIAN
METHOD:PUBLISH
X-ORIGINAL-URL:https://visitjacksontn.com
X-WR-CALDESC:Events for Jackson Tourism
REFRESH-INTERVAL;VALUE=DURATION:PT1H
X-Robots-Tag:noindex
X-PUBLISHED-TTL:PT1H
BEGIN:VTIMEZONE
TZID:America/Chicago
BEGIN:DAYLIGHT
TZOFFSETFROM:-0600
TZOFFSETTO:-0500
TZNAME:CDT
DTSTART:20230312T080000
END:DAYLIGHT
BEGIN:STANDARD
TZOFFSETFROM:-0500
TZOFFSETTO:-0600
TZNAME:CST
DTSTART:20231105T070000
END:STANDARD
BEGIN:DAYLIGHT
TZOFFSETFROM:-0600
TZOFFSETTO:-0500
TZNAME:CDT
DTSTART:20240310T080000
END:DAYLIGHT
BEGIN:STANDARD
TZOFFSETFROM:-0500
TZOFFSETTO:-0600
TZNAME:CST
DTSTART:20241103T070000
END:STANDARD
BEGIN:DAYLIGHT
TZOFFSETFROM:-0600
TZOFFSETTO:-0500
TZNAME:CDT
DTSTART:20250309T080000
END:DAYLIGHT
BEGIN:STANDARD
TZOFFSETFROM:-0500
TZOFFSETTO:-0600
TZNAME:CST
DTSTART:20251102T070000
END:STANDARD
END:VTIMEZONE
BEGIN:VEVENT
DTSTART;TZID=America/Chicago:20240608T090000
DTEND;TZID=America/Chicago:20240608T170000
DTSTAMP:20260419T191446
CREATED:20240516T211003Z
LAST-MODIFIED:20240516T211003Z
UID:10002226-1717837200-1717866000@visitjacksontn.com
SUMMARY:Lexington Tennessee Farmers Market
DESCRIPTION:Welcome to the Inaugural Lexington Tennessee Farmers Market Extravaganza! \nSo\, come join us in making history as we kick off this journey together. Let’s cultivate a thriving marketplace where friendships are forged\, stories are shared\, and memories are made. Together\, we’ll sow the seeds for a brighter\, more connected community\, one market at a time. \nJoin us at the Lexington Tennessee Farmers Market – where the spirit of innovation meets the warmth of Southern hospitality. Let’s make this first market one to remember\, and pave the way for countless more to come! \nClick here for more information.
URL:https://visitjacksontn.com/event/lexington-tennessee-farmers-market/
LOCATION:Lexington\, TN\, Lexington\, TN\, Lexington\,\, TN\, 38351\, United States
CATEGORIES:Events
ATTACH;FMTTYPE=image/jpeg:https://visitjacksontn.com/wp-content/uploads/435008750_122122916864232606_1642723007231394488_n.jpg
END:VEVENT
END:VCALENDAR