BEGIN:VCALENDAR
VERSION:2.0
PRODID:-//Jackson Tourism - ECPv6.15.18//NONSGML v1.0//EN
CALSCALE:GREGORIAN
METHOD:PUBLISH
X-ORIGINAL-URL:https://visitjacksontn.com
X-WR-CALDESC:Events for Jackson Tourism
REFRESH-INTERVAL;VALUE=DURATION:PT1H
X-Robots-Tag:noindex
X-PUBLISHED-TTL:PT1H
BEGIN:VTIMEZONE
TZID:America/Chicago
BEGIN:DAYLIGHT
TZOFFSETFROM:-0600
TZOFFSETTO:-0500
TZNAME:CDT
DTSTART:20250309T080000
END:DAYLIGHT
BEGIN:STANDARD
TZOFFSETFROM:-0500
TZOFFSETTO:-0600
TZNAME:CST
DTSTART:20251102T070000
END:STANDARD
BEGIN:DAYLIGHT
TZOFFSETFROM:-0600
TZOFFSETTO:-0500
TZNAME:CDT
DTSTART:20260308T080000
END:DAYLIGHT
BEGIN:STANDARD
TZOFFSETFROM:-0500
TZOFFSETTO:-0600
TZNAME:CST
DTSTART:20261101T070000
END:STANDARD
BEGIN:DAYLIGHT
TZOFFSETFROM:-0600
TZOFFSETTO:-0500
TZNAME:CDT
DTSTART:20270314T080000
END:DAYLIGHT
BEGIN:STANDARD
TZOFFSETFROM:-0500
TZOFFSETTO:-0600
TZNAME:CST
DTSTART:20271107T070000
END:STANDARD
END:VTIMEZONE
BEGIN:VEVENT
DTSTART;TZID=America/Chicago:20260131T140000
DTEND;TZID=America/Chicago:20260131T160000
DTSTAMP:20260419T230829
CREATED:20260114T202111Z
LAST-MODIFIED:20260114T202111Z
UID:10005887-1769868000-1769875200@visitjacksontn.com
SUMMARY:Lane College Women’s Basketball VS Benedict College | 2PM
DESCRIPTION:Lane College Women’s basketball takes on Benedict College at 2PM at J.F. Lane Gymnasium. \nIt’s a great opportunity to experience the excitement of collegiate sports in our community!
URL:https://visitjacksontn.com/event/lane-college-womens-basketball-vs-benedict-college-2pm-2/
LOCATION:J.F. Lane Gymnasium\, 545 Lane Ave\, Jackson\, TN\, 38301\, United States
CATEGORIES:Events,Sports & Outdoor
ATTACH;FMTTYPE=image/png:https://visitjacksontn.com/wp-content/uploads/lane-college-logo-1-1.png
END:VEVENT
BEGIN:VEVENT
DTSTART;TZID=America/Chicago:20260131T160000
DTEND;TZID=America/Chicago:20260131T180000
DTSTAMP:20260419T230829
CREATED:20260114T202158Z
LAST-MODIFIED:20260114T202158Z
UID:10005888-1769875200-1769882400@visitjacksontn.com
SUMMARY:Lane College Men’s Basketball VS Benedict College | 4PM
DESCRIPTION:Lane College Men’s basketball takes on Benedict College at 4PM at J.F. Lane Gymnasium. \nIt’s a great opportunity to experience the excitement of collegiate sports in our community!
URL:https://visitjacksontn.com/event/lane-college-mens-basketball-vs-benedict-college-4pm-2/
LOCATION:J.F. Lane Gymnasium\, 545 Lane Ave\, Jackson\, TN\, 38301\, United States
CATEGORIES:Events,Sports & Outdoor
ATTACH;FMTTYPE=image/png:https://visitjacksontn.com/wp-content/uploads/lane-college-logo-1-1.png
END:VEVENT
END:VCALENDAR