BEGIN:VCALENDAR
VERSION:2.0
PRODID:-//Jackson Tourism - ECPv6.15.18//NONSGML v1.0//EN
CALSCALE:GREGORIAN
METHOD:PUBLISH
X-ORIGINAL-URL:https://visitjacksontn.com
X-WR-CALDESC:Events for Jackson Tourism
REFRESH-INTERVAL;VALUE=DURATION:PT1H
X-Robots-Tag:noindex
X-PUBLISHED-TTL:PT1H
BEGIN:VTIMEZONE
TZID:America/Chicago
BEGIN:DAYLIGHT
TZOFFSETFROM:-0600
TZOFFSETTO:-0500
TZNAME:CDT
DTSTART:20250309T080000
END:DAYLIGHT
BEGIN:STANDARD
TZOFFSETFROM:-0500
TZOFFSETTO:-0600
TZNAME:CST
DTSTART:20251102T070000
END:STANDARD
BEGIN:DAYLIGHT
TZOFFSETFROM:-0600
TZOFFSETTO:-0500
TZNAME:CDT
DTSTART:20260308T080000
END:DAYLIGHT
BEGIN:STANDARD
TZOFFSETFROM:-0500
TZOFFSETTO:-0600
TZNAME:CST
DTSTART:20261101T070000
END:STANDARD
BEGIN:DAYLIGHT
TZOFFSETFROM:-0600
TZOFFSETTO:-0500
TZNAME:CDT
DTSTART:20270314T080000
END:DAYLIGHT
BEGIN:STANDARD
TZOFFSETFROM:-0500
TZOFFSETTO:-0600
TZNAME:CST
DTSTART:20271107T070000
END:STANDARD
END:VTIMEZONE
BEGIN:VEVENT
DTSTART;TZID=America/Chicago:20260709T190000
DTEND;TZID=America/Chicago:20260709T210000
DTSTAMP:20260420T151225
CREATED:20260116T164705Z
LAST-MODIFIED:20260116T164705Z
UID:10005930-1783623600-1783630800@visitjacksontn.com
SUMMARY:Joseph Habedank in Jackson
DESCRIPTION:Join Joseph Habedank LIVE at Carl Perkins Civic Center on Thursday\, July 9\, 2026! 🎤 \nHere is the moment you’ve been waiting for! Joseph Habedank is coming to Carl Perkins Civic Center on Thursday\, July 9\, 2026\, bringing their biggest hits like If God Wrote A Song\, I’m Lovin’ Life and tell the devil to life. With 11.6K+ fans across the globe\, this show is going to be one for the books. \nThere are multiple events lined up for this blockbuster star. But this one? This is the one that will make you feel alive!
URL:https://visitjacksontn.com/event/joseph-habedank-in-jackson/
LOCATION:Carl Perkins Civic Center\, 400 South Highland Avenue\, Jackson\, TN\, 38301\, United States
CATEGORIES:Music
ATTACH;FMTTYPE=image/webp:https://visitjacksontn.com/wp-content/uploads/b2c892e0-d2dd-11f0-8847-13c74ce67ee0-rimg-w1200-h675-dc606060-gmir.webp
END:VEVENT
BEGIN:VEVENT
DTSTART;TZID=America/Chicago:20260709T190000
DTEND;TZID=America/Chicago:20260709T210000
DTSTAMP:20260420T151225
CREATED:20260204T162831Z
LAST-MODIFIED:20260204T162831Z
UID:10005955-1783623600-1783630800@visitjacksontn.com
SUMMARY:Karen Peck & New River LIVE
DESCRIPTION:🎶 Don’t Miss this Out! Karen Peck & New River is Live at Carl Perkins Civic Center on Thursday\, July 9\, 2026! 🎶 \nThis is your moment. Karen Peck & New River is hitting Carl Perkins Civic Center on Thursday\, July 9\, 2026\, and with chart-topping hits like Four Days Late\, I Wanna Know How It Feels and I Wouldn’t Take Nothin for My Journey Now – Homecoming Friends Version and 30.8K+ cheering them on\, you do not want to miss this night of music and magic.
URL:https://visitjacksontn.com/event/karen-peck-new-river-live/
LOCATION:Carl Perkins Civic Center\, 400 South Highland Avenue\, Jackson\, TN\, 38301\, United States
CATEGORIES:Events,Music
ATTACH;FMTTYPE=image/jpeg:https://visitjacksontn.com/wp-content/uploads/71f565d0-f179-11f0-8938-1f473b0b6214-rimg-w640-h640-dc060403-gmir.jpg
END:VEVENT
BEGIN:VEVENT
DTSTART;VALUE=DATE:20260717
DTEND;VALUE=DATE:20260720
DTSTAMP:20260420T151225
CREATED:20260115T185708Z
LAST-MODIFIED:20260115T185856Z
UID:10005919-1784246400-1784505599@visitjacksontn.com
SUMMARY:April Powers (Free Team Entry)
DESCRIPTION:Baseball – USSSA Baseball\, AA/OPEN \nEvent Host: Ryan Blake 731-425-8237
URL:https://visitjacksontn.com/event/april-powers-free-team-entry-3/
LOCATION:West Tennessee Healthcare Sportsplex\, 250 Bancorpsouth Pkwy\, Jackson\, TN\, 38305\, United States
CATEGORIES:Sports & Outdoor
ATTACH;FMTTYPE=image/jpeg:https://visitjacksontn.com/wp-content/uploads/6bf851ba-8e5d-c50d-7909-ba67aaf67a75.jpg
END:VEVENT
BEGIN:VEVENT
DTSTART;TZID=America/Chicago:20261022T180000
DTEND;TZID=America/Chicago:20261022T180000
DTSTAMP:20260420T151225
CREATED:20251217T195016Z
LAST-MODIFIED:20251217T200405Z
UID:10005796-1792692000-1792692000@visitjacksontn.com
SUMMARY:Dancing with the Stars
DESCRIPTION:Get ready for another unforgettable night on the dance floor. Dancing with the STARS Presented by Leaders Credit Union returns on October 22\, 2026 at the Carl Perkins Civic Center. We’re excited to announce that we are now taking referrals for both female and male dancers. If you know someone with great energy\, a big heart and a passion for supporting a meaningful cause\, send their contact information our way. This event changes lives\, and we can’t wait to build another incredible lineup. Save the date\, spread the word and start counting down.
URL:https://visitjacksontn.com/event/dancing-with-the-stars-2/
LOCATION:Carl Perkins Civic Center\, 400 South Highland Avenue\, Jackson\, TN\, 38301\, United States
CATEGORIES:Events,Music
ATTACH;FMTTYPE=image/jpeg:https://visitjacksontn.com/wp-content/uploads/583917369_1307461424726758_8324553358742889054_n.jpg
END:VEVENT
END:VCALENDAR