BEGIN:VCALENDAR
VERSION:2.0
PRODID:-//Jackson Tourism - ECPv6.15.18//NONSGML v1.0//EN
CALSCALE:GREGORIAN
METHOD:PUBLISH
X-ORIGINAL-URL:https://visitjacksontn.com
X-WR-CALDESC:Events for Jackson Tourism
REFRESH-INTERVAL;VALUE=DURATION:PT1H
X-Robots-Tag:noindex
X-PUBLISHED-TTL:PT1H
BEGIN:VTIMEZONE
TZID:America/Chicago
BEGIN:DAYLIGHT
TZOFFSETFROM:-0600
TZOFFSETTO:-0500
TZNAME:CDT
DTSTART:20250309T080000
END:DAYLIGHT
BEGIN:STANDARD
TZOFFSETFROM:-0500
TZOFFSETTO:-0600
TZNAME:CST
DTSTART:20251102T070000
END:STANDARD
BEGIN:DAYLIGHT
TZOFFSETFROM:-0600
TZOFFSETTO:-0500
TZNAME:CDT
DTSTART:20260308T080000
END:DAYLIGHT
BEGIN:STANDARD
TZOFFSETFROM:-0500
TZOFFSETTO:-0600
TZNAME:CST
DTSTART:20261101T070000
END:STANDARD
BEGIN:DAYLIGHT
TZOFFSETFROM:-0600
TZOFFSETTO:-0500
TZNAME:CDT
DTSTART:20270314T080000
END:DAYLIGHT
BEGIN:STANDARD
TZOFFSETFROM:-0500
TZOFFSETTO:-0600
TZNAME:CST
DTSTART:20271107T070000
END:STANDARD
END:VTIMEZONE
BEGIN:VEVENT
DTSTART;TZID=America/Chicago:20260221T180000
DTEND;TZID=America/Chicago:20260221T220000
DTSTAMP:20260421T210552
CREATED:20260116T171629Z
LAST-MODIFIED:20260205T154142Z
UID:10005931-1771696800-1771711200@visitjacksontn.com
SUMMARY:Studio 615 Comedy Show
DESCRIPTION:Grab your girls\, bring the good vibes\, and get ready for a night full of unforgettable comedy. We’re talking belly laughs\, real talk\, and pure fun! 💥 \n3 HOT Comedians from Memphis\, TN: \n\nWild Beale\nTra Wilder\nBigg Mickey\nRyan Bush\n\n🎟️ Get your tickets NOW at: LMAO731.eventbrite.com \nYou don’t want to miss this—this is gonna be the comedy event everyone’s talking about for weeks!
URL:https://visitjacksontn.com/event/studio-615-comedy-show/
LOCATION:Studio 615\, 615 S Royal St\, Jackson\, TN\, 38301\, United States
CATEGORIES:Events
ATTACH;FMTTYPE=image/jpeg:https://visitjacksontn.com/wp-content/uploads/626117648_1888223122053924_7940685875386952294_n.jpg
END:VEVENT
END:VCALENDAR