BEGIN:VCALENDAR
VERSION:2.0
PRODID:-//Jackson Tourism - ECPv6.15.18//NONSGML v1.0//EN
CALSCALE:GREGORIAN
METHOD:PUBLISH
X-ORIGINAL-URL:https://visitjacksontn.com
X-WR-CALDESC:Events for Jackson Tourism
REFRESH-INTERVAL;VALUE=DURATION:PT1H
X-Robots-Tag:noindex
X-PUBLISHED-TTL:PT1H
BEGIN:VTIMEZONE
TZID:America/Chicago
BEGIN:DAYLIGHT
TZOFFSETFROM:-0600
TZOFFSETTO:-0500
TZNAME:CDT
DTSTART:20250309T080000
END:DAYLIGHT
BEGIN:STANDARD
TZOFFSETFROM:-0500
TZOFFSETTO:-0600
TZNAME:CST
DTSTART:20251102T070000
END:STANDARD
BEGIN:DAYLIGHT
TZOFFSETFROM:-0600
TZOFFSETTO:-0500
TZNAME:CDT
DTSTART:20260308T080000
END:DAYLIGHT
BEGIN:STANDARD
TZOFFSETFROM:-0500
TZOFFSETTO:-0600
TZNAME:CST
DTSTART:20261101T070000
END:STANDARD
BEGIN:DAYLIGHT
TZOFFSETFROM:-0600
TZOFFSETTO:-0500
TZNAME:CDT
DTSTART:20270314T080000
END:DAYLIGHT
BEGIN:STANDARD
TZOFFSETFROM:-0500
TZOFFSETTO:-0600
TZNAME:CST
DTSTART:20271107T070000
END:STANDARD
END:VTIMEZONE
BEGIN:VEVENT
DTSTART;TZID=America/Chicago:20260212T173000
DTEND;TZID=America/Chicago:20260212T173000
DTSTAMP:20260421T183326
CREATED:20260116T161139Z
LAST-MODIFIED:20260116T161139Z
UID:10005929-1770917400-1770917400@visitjacksontn.com
SUMMARY:Happy Galentine's Day at Century Farm Winery
DESCRIPTION:Grab your girlfriends and join us for an unforgettable evening of wine\, laughter\, and giving back at Century Farm Winery! \nAn Evening of Fun\, Friendship & Celebrity Waiters \nThis special Galentine’s celebration benefits The Dream Center of Jackson\, a faith-based shelter supporting women and children rebuilding their lives after domestic abuse\, addiction\, and homelessness. \nThursday\, February 12 \nDoors Open: 5:30 PM \nDinner Served: 6:30 PM \nTickets & Tables: \n•$50 per person \n• Table of 4 – $180 \n• Table of 6 – $240 \n• Table of 8 – $320 \nVIP Wine Table Upgrade: \n• Table of 8 – $450 (Includes premium wine service) \nNEW Interactive Fundraiser! \nBid on the Celebrity Waiter you want serving your table! \nBidding starts at $50(All proceeds benefit The Dream Center) \nExpect a night filled with great wine\, delicious food\, music\, laughter\, and lots of Galentine’s fun — all for an incredible cause. \nReserve your spot today: Call 731-424-7437 Tag your Galentine crew and make plans to join us!
URL:https://visitjacksontn.com/event/happy-galentines-day-at-century-farm-winery/
LOCATION:Century Farm Winery\, 1548 Lower Brownsville Rd.\, Jackson\, TN\, 38301\, United States
CATEGORIES:Events
ATTACH;FMTTYPE=image/jpeg:https://visitjacksontn.com/wp-content/uploads/616551235_1461207649343205_5684136107819363284_n.jpg
END:VEVENT
BEGIN:VEVENT
DTSTART;TZID=America/Chicago:20260212T173000
DTEND;TZID=America/Chicago:20260212T193000
DTSTAMP:20260421T183326
CREATED:20260114T170233Z
LAST-MODIFIED:20260114T170233Z
UID:10005858-1770917400-1770924600@visitjacksontn.com
SUMMARY:Union University Women’s Basketball vs. University of West Alabama | 5:30PM
DESCRIPTION:Union University Women’s Basketball takes on University of West Alabama at 5:30PM at Fred DeLay Gymnasium. \nIt’s a great opportunity to experience the excitement of collegiate sports in our community! \nFREE ADMISSION courtesy of FirstBank
URL:https://visitjacksontn.com/event/union-university-womens-basketball-vs-university-of-west-alabama-530pm-2/
LOCATION:Fred DeLay Gymnasium.\, 1050 University Drive\, Jackson\, TN\, 38305\, United States
CATEGORIES:Events,Sports & Outdoor
ATTACH;FMTTYPE=image/png:https://visitjacksontn.com/wp-content/uploads/union-bball-logo.png
END:VEVENT
BEGIN:VEVENT
DTSTART;TZID=America/Chicago:20260212T180000
DTEND;TZID=America/Chicago:20260212T200000
DTSTAMP:20260421T183326
CREATED:20260115T153227Z
LAST-MODIFIED:20260115T153227Z
UID:10005903-1770919200-1770926400@visitjacksontn.com
SUMMARY:Galentine's Night
DESCRIPTION:“Celebrating love with every sip” Join us for a Galantine’s Night that you don’t want to miss. We have limited availability so book your spots before we sale out.
URL:https://visitjacksontn.com/event/galentines-night-2/
LOCATION:DoubleTree by Hilton\, 1770 US-45 BYP\, Jackson\, TN\, 38305\, United States
CATEGORIES:Events
ATTACH;FMTTYPE=image/jpeg:https://visitjacksontn.com/wp-content/uploads/615334245_1476745811118225_4097019920558146664_n.jpg
END:VEVENT
BEGIN:VEVENT
DTSTART;TZID=America/Chicago:20260212T183000
DTEND;TZID=America/Chicago:20260212T183000
DTSTAMP:20260421T183326
CREATED:20260115T213245Z
LAST-MODIFIED:20260115T213245Z
UID:10005925-1770921000-1770921000@visitjacksontn.com
SUMMARY:Valentine's Paint Party
DESCRIPTION:Ms. Alexis with Golden Brush Co.\, a local drink pop-up and I are collabing to bring a fun paint party + drinks for you girls!! \nValentines is most fun celebrated with your girls! \nPaint piece info: it’s a Valentine-themed piece with four textured hearts in soft pinks and whites\, with gold accents throughout. The hearts have a raised\, layered look that makes it really fun and unique. It’s very beginner-friendly\, super relaxing to paint\, and everyone will leave with a cute Valentine piece they can decorate with or gift!! \nTickets are $30 and we have limited availability. \nKeep in mind- for this price you get: a drink of your choice\, paint class\, private shopping and inside scoop giveaways from Taylor Laine! \nRSVP (purchase tickets): messenger or 731-300-0614 \nLet’s celebrate the girls!!
URL:https://visitjacksontn.com/event/valentines-paint-party/
LOCATION:Taylor Laine Boutique Shoppes\, 111 North Liberty Street\, Jackson\, TN\, 38301\, United States
CATEGORIES:Events
ATTACH;FMTTYPE=image/jpeg:https://visitjacksontn.com/wp-content/uploads/616075415_122223375614263673_3225817646068471636_n.jpg
END:VEVENT
BEGIN:VEVENT
DTSTART;TZID=America/Chicago:20260212T193000
DTEND;TZID=America/Chicago:20260212T213000
DTSTAMP:20260421T183326
CREATED:20260114T171018Z
LAST-MODIFIED:20260114T171018Z
UID:10005861-1770924600-1770931800@visitjacksontn.com
SUMMARY:Union University Men’s Basketball vs. University of West Alabama | 7:30PM
DESCRIPTION:Union University Men’s Basketball takes on University of West Alabama at 7:30PM at Fred DeLay Gymnasium. \nIt’s a great opportunity to experience the excitement of collegiate sports in our community! \nFREE ADMISSION courtesy of FirstBank
URL:https://visitjacksontn.com/event/union-university-mens-basketball-vs-university-of-west-alabama-730pm/
LOCATION:Fred DeLay Gymnasium.\, 1050 University Drive\, Jackson\, TN\, 38305\, United States
CATEGORIES:Events,Sports & Outdoor
ATTACH;FMTTYPE=image/png:https://visitjacksontn.com/wp-content/uploads/union-bball-logo.png
END:VEVENT
END:VCALENDAR