BEGIN:VCALENDAR
VERSION:2.0
PRODID:-//Jackson Tourism - ECPv6.15.18//NONSGML v1.0//EN
CALSCALE:GREGORIAN
METHOD:PUBLISH
X-WR-CALNAME:Jackson Tourism
X-ORIGINAL-URL:https://visitjacksontn.com
X-WR-CALDESC:Events for Jackson Tourism
REFRESH-INTERVAL;VALUE=DURATION:PT1H
X-Robots-Tag:noindex
X-PUBLISHED-TTL:PT1H
BEGIN:VTIMEZONE
TZID:America/Chicago
BEGIN:DAYLIGHT
TZOFFSETFROM:-0600
TZOFFSETTO:-0500
TZNAME:CDT
DTSTART:20250309T080000
END:DAYLIGHT
BEGIN:STANDARD
TZOFFSETFROM:-0500
TZOFFSETTO:-0600
TZNAME:CST
DTSTART:20251102T070000
END:STANDARD
BEGIN:DAYLIGHT
TZOFFSETFROM:-0600
TZOFFSETTO:-0500
TZNAME:CDT
DTSTART:20260308T080000
END:DAYLIGHT
BEGIN:STANDARD
TZOFFSETFROM:-0500
TZOFFSETTO:-0600
TZNAME:CST
DTSTART:20261101T070000
END:STANDARD
BEGIN:DAYLIGHT
TZOFFSETFROM:-0600
TZOFFSETTO:-0500
TZNAME:CDT
DTSTART:20270314T080000
END:DAYLIGHT
BEGIN:STANDARD
TZOFFSETFROM:-0500
TZOFFSETTO:-0600
TZNAME:CST
DTSTART:20271107T070000
END:STANDARD
END:VTIMEZONE
BEGIN:VEVENT
DTSTART;VALUE=DATE:20260204
DTEND;VALUE=DATE:20260211
DTSTAMP:20260421T111017
CREATED:20260204T223925Z
LAST-MODIFIED:20260204T223925Z
UID:10005960-1770163200-1770767999@visitjacksontn.com
SUMMARY:Weekly Music Events
DESCRIPTION:WEDNESDAY – FEBRUARY 4th\nPiano After Work\, The Blacksmith\, 4:00\, Jackson \nJosh Smith & Bill Criss\, Mulligan’s\, 7:00\, Jackson \nKaraoke (w/ ATL Karaoke)\, The Downtown Tavern\, 8:00\, Jackson \nKickin’ It w/ Karleigh\, The Tap\, 8:30\, Jackson\n\n\n\n\n\n\n\n\n\n\n\n\n\n\n\n\n\n\n\nTHURSDAY – FEBRUARY 5th\n  \nPiano After Work\, The Blacksmith\, 4:00\, Jackson \nOpen Jam (w/ Justin White)\, The Downtown Tavern\, 7:00\, Jackson \nSingo (w/ Barry Summer)\, Hub City Brewing\, 7:00\, Jackson \nJohnny Mac\, Blues Landing\, 7:00\, Buchanan \nThe Trailblazer Band\, Carroll County Civic Center\, 7:00\, Huntingdon \nKaraoke (w/ DJ Chuck Gee)\, Cadillac’s\, 7:00\, Martin \nKaraoke (w/ ATL Karaoke)\, The Tap\, 9:30\, Jackson\n\n\n\n\n\n\n\n\n\n\n\n\n\n\n\n\n\n\n\nFRIDAY – FEBRUARY 6th\nPiano After Work\, The Blacksmith\, 4:00\, Jackson \nJordan Allen\, Main & Monroe\, 5:30\, Lexington \nCool Daddy Trio\, The Blacksmith\, 6:00\, Jackson \nLive Music\, Tekila\, 6:00\, Jackson \nRev. Jessie and the Holy Smokes\, Baker Bros. BBQ\, 6:30\, Jackson \n Let it Beatles\, The Ned\, 7:00\, Jackson  \nJohn Sutton\, Blues Landing\, 7:00\, Buchanan \nKaraoke\, Southern State\, 7:00\, South Fulton \nMegan Jordan\, Elks Lodge #192\, 7:30\, Jackson \nLindsey Russell Band\, Redbone’s\, 8:00\, Jackson \nStokely and the Bandits\, Twin Oaks Sports Bar\, 8:00\, Brownsville \nJoe Wallace & Keith Dunning\, Elks Lodge\, 8:00\, Trenton \nJohnny Mac\, Mojo’s\, 8:00\, Dyersburg \nKaraoke (w/ DJ Chuck Gee)\, Rotten’s Bar & Grill\, 8:00\, Dresden \nKaraoke Night\, The Bar @ Dana’s Place\, 8:00\, Humboldt \nKaraoke\, Darlin’s\, 8:00\, Sharon \nKaraoke\, Busby’s Bar & Grill\, 8:00\, Jackson \nKaraoke (w/ Barry Summer)\, Hub City Brewing\, 8:30\, Jackson \nKaraoke (w/ Debbie Honey)\, Ricochet Bar\, 9:00\, Jackson \nKaraoke (w/ Kobra Karaoke)\, The Ponds\, 9:00\, Jackson \nLive Music\, The Downtown Tavern\, 9:00\, Jackson \nKelso Mojo\, The Tap\, 9:00\, Jackson \nKaraoke\, Midway Bar\, 10:00\, Dyersburg\n\n\n\n\n\n\n\n\n\n\n\n\n\n\n\n\n\n\n\nSATURDAY – FEBRUARY 7th\nJustUs\, Crown Winery\, 1:00\, Humboldt \nRev. Jessie and the Holy Smokes\, Freddy T’s Dining Room\, 6:00\, Counce \nWayne & Jeanne\, Main & Monroe\, 6:00\, Lexington \nRay Lewis Band\, Blues Landing\, 7:00\, Buchanan \nLive Music\, Community Center\, 7:00\, Reagan \nThe Classics\, Bootsie’s Barn Dance\, 7:00\, Gadsden \nThe Will Beyer Band\, VFW Airways\, 7:00\, Jackson \nKaraoke (w/ ATL Karaoke)\, Art’s Lounge\, 7:00\, Jackson \nTN Songwriters Week: Qualifying Round\, Dixie PAC\, 7:30\, Huntingdon \nCapt’n Tripps\, Slick’s Bar and Grill\, 8:00\, Halls \nHunt Pearson\, Mojo’s\, 8:00\, Dyersburg \nThe Derrick Cole Band\, Southern State\, 8:00\, South Fulton \nKaraoke (w/ Debbie Honey)\, The City Limits Bar\, 8:00\, Trenton \nKaraoke (w/ Bobby & Laurie)\, Hales Water N Hole\, 8:00\, Ridgely \n  \nSingo\, Redbone’s\, 8:30\, Jackson \nKaraoke Contest (w/ Kobra Karaoke)\, The Ponds\, 9:00\, Medon \nKaraoke (w/ Kev)\, Ricochet Bar\, 9:00\, Jackson \nMatt Boone Band\, The Pine Ridge Club\, 9:00\, Medon \nLive Music\, Slide and Ride Rodeo\, 9:00\, Jackson \nLindsey Russell Band\, The Tap\, 9:00\, Jackson \nKimberlie Helton Band\, The Downtown Tavern\, 9:00\, Jackson \nKaraoke\, Midway Bar\, 10:00\, Dyersburg\n\n\n\n\n\n\n\n\n\n\n\n\n\n\n\n\n\n\n\nSUNDAY – FEBRUARY 8th\n  \nDJ Leslie\, The Tap\, 9:30\, Jackson\n\n\n\n\n\n\n\n\n\n\n\n\n\n\n\n\n\n\n\nMONDAY – FEBRUARY 9th\nLive Music\, VFW on Airways\, 7:00\, Jackson\n\n\n\n\n\n\n\n\n\n\n\n\n\n\n\n\n\n\n\nTUESDAY – FEBRUARY 10th\nKaraoke (w/ ATL Karaoke)\, JT’s Sports Bar & Patio\, 7:00\, Jackson \nThe Country Connection Band\, Bootsie’s Barn Dance\, 7:00\, Gadsden
URL:https://visitjacksontn.com/event/weekly-music-events-35/
CATEGORIES:Music
ATTACH;FMTTYPE=image/jpeg:https://visitjacksontn.com/wp-content/uploads/625705464_1370858998387961_2967733087266125911_n.jpg
END:VEVENT
BEGIN:VEVENT
DTSTART;TZID=America/Chicago:20260207T090000
DTEND;TZID=America/Chicago:20260207T120000
DTSTAMP:20260421T111017
CREATED:20260204T221614Z
LAST-MODIFIED:20260204T222152Z
UID:10005958-1770454800-1770465600@visitjacksontn.com
SUMMARY:Improv 101 Beginner Workshop
DESCRIPTION:Step into the magical world of improv comedy with two of HCTC’s improv instructors: Alex Russell and Alice Hardin! This three hour workshop will focus on exercises that allow you to experience fundamental techniques of improv. Get ready to unleash your creativity at this fun and supportive environment. Whether you’re a seasoned performer or just looking to try something new for the first time\, this workshop is designed to build your confidence in a space that celebrates making bold\, creative choices! \nMust be 16+ to participate. (Yes! Teens are invited!)
URL:https://visitjacksontn.com/event/improv-beginner-workshop/
LOCATION:The Carnegie Center for Arts and History\, 305 E. College Street\, Jackson\, T\, 38301\, United States
CATEGORIES:Events
ATTACH;FMTTYPE=image/png:https://visitjacksontn.com/wp-content/uploads/Screenshot-2026-02-04-161308.png
END:VEVENT
BEGIN:VEVENT
DTSTART;TZID=America/Chicago:20260207T090000
DTEND;TZID=America/Chicago:20260207T160000
DTSTAMP:20260421T111017
CREATED:20260120T170840Z
LAST-MODIFIED:20260120T170840Z
UID:10005934-1770454800-1770480000@visitjacksontn.com
SUMMARY:Valentine's Event
DESCRIPTION:Yall loved our Valentine’s event so much last year that you had us COMPLETELY booked! \nWe are bringing you back the same discounts to enjoy again this year and we can’t wait! \nJoin is Saturday February 7th for discounts\, festive treats\, giveaways\, and more!
URL:https://visitjacksontn.com/event/valentines-event/
LOCATION:Solace Skin & Laser\, 1363 Union University Dr Suite F\, Jackson\, TN\, 38305\, United States
CATEGORIES:Events
ATTACH;FMTTYPE=image/jpeg:https://visitjacksontn.com/wp-content/uploads/610784920_1815723852693546_4530052963699964093_n-scaled.jpg
END:VEVENT
BEGIN:VEVENT
DTSTART;TZID=America/Chicago:20260207T090000
DTEND;TZID=America/Chicago:20260207T160000
DTSTAMP:20260421T111017
CREATED:20260205T181241Z
LAST-MODIFIED:20260205T181241Z
UID:10005963-1770454800-1770480000@visitjacksontn.com
SUMMARY:Super Bowl Sports Card Show
DESCRIPTION:Admission is free. We will be giving away free prizes in a scavenger hunt contest. \n  \nWe will have dealers coming in from all over the Mid-South showcasing their sports cards and Pokémon cards. \nThe dealers will be selling\, buying\, and trading with customers. \nThis is a family-friendly event with free admission to all who attend. \nWe will be having a scavenger hunt where we will be giving away a table full of prizes. \nContact info. Clint Lindsey 731-225-3408
URL:https://visitjacksontn.com/event/super-bowl-sports-card-show/
LOCATION:Clarion Hotel\, 541 Carriage House Dr\, Jackson\, TN\, 38305\, United States
CATEGORIES:Events,Sports & Outdoor
ATTACH;FMTTYPE=image/jpeg:https://visitjacksontn.com/wp-content/uploads/627961499_1411863947303382_170498813252077119_n.jpg
END:VEVENT
END:VCALENDAR