BEGIN:VCALENDAR
VERSION:2.0
PRODID:-//Jackson Tourism - ECPv6.15.18//NONSGML v1.0//EN
CALSCALE:GREGORIAN
METHOD:PUBLISH
X-WR-CALNAME:Jackson Tourism
X-ORIGINAL-URL:https://visitjacksontn.com
X-WR-CALDESC:Events for Jackson Tourism
REFRESH-INTERVAL;VALUE=DURATION:PT1H
X-Robots-Tag:noindex
X-PUBLISHED-TTL:PT1H
BEGIN:VTIMEZONE
TZID:America/Chicago
BEGIN:DAYLIGHT
TZOFFSETFROM:-0600
TZOFFSETTO:-0500
TZNAME:CDT
DTSTART:20250309T080000
END:DAYLIGHT
BEGIN:STANDARD
TZOFFSETFROM:-0500
TZOFFSETTO:-0600
TZNAME:CST
DTSTART:20251102T070000
END:STANDARD
BEGIN:DAYLIGHT
TZOFFSETFROM:-0600
TZOFFSETTO:-0500
TZNAME:CDT
DTSTART:20260308T080000
END:DAYLIGHT
BEGIN:STANDARD
TZOFFSETFROM:-0500
TZOFFSETTO:-0600
TZNAME:CST
DTSTART:20261101T070000
END:STANDARD
BEGIN:DAYLIGHT
TZOFFSETFROM:-0600
TZOFFSETTO:-0500
TZNAME:CDT
DTSTART:20270314T080000
END:DAYLIGHT
BEGIN:STANDARD
TZOFFSETFROM:-0500
TZOFFSETTO:-0600
TZNAME:CST
DTSTART:20271107T070000
END:STANDARD
END:VTIMEZONE
BEGIN:VEVENT
DTSTART;TZID=America/Chicago:20260118T130000
DTEND;TZID=America/Chicago:20260118T160000
DTSTAMP:20260422T001834
CREATED:20260115T211926Z
LAST-MODIFIED:20260115T211926Z
UID:10005924-1768741200-1768752000@visitjacksontn.com
SUMMARY:Shop and Open Studio
DESCRIPTION:Stop by to shop and/ or pick a project to paint! \nBring Zollie projects back in to work on them a bit more for free! Food and drinks are welcome. Though there is no instruction during open studio hours\, there are many beginner friendly projects to choose from! \nAges 5 and up are welcome! \nRegistration is only required for instructor led paint classes. \nWalk-ins are welcome during Shop and Open Studio\, however\, if you have a group reach out in advance to have your spaces reserved\, set up and ready for you upon arrival.
URL:https://visitjacksontn.com/event/shop-and-open-studio/
LOCATION:Zollie Shop and Studio\, 201 S. Missouri St\, Jackson\, 38301\, United States
CATEGORIES:Events
ATTACH;FMTTYPE=image/jpeg:https://visitjacksontn.com/wp-content/uploads/607615945_798396243247914_6291831087234455241_n.jpg
END:VEVENT
END:VCALENDAR