BEGIN:VCALENDAR
VERSION:2.0
PRODID:-//Jackson Tourism - ECPv6.15.18//NONSGML v1.0//EN
CALSCALE:GREGORIAN
METHOD:PUBLISH
X-WR-CALNAME:Jackson Tourism
X-ORIGINAL-URL:https://visitjacksontn.com
X-WR-CALDESC:Events for Jackson Tourism
REFRESH-INTERVAL;VALUE=DURATION:PT1H
X-Robots-Tag:noindex
X-PUBLISHED-TTL:PT1H
BEGIN:VTIMEZONE
TZID:America/Chicago
BEGIN:DAYLIGHT
TZOFFSETFROM:-0600
TZOFFSETTO:-0500
TZNAME:CDT
DTSTART:20240310T080000
END:DAYLIGHT
BEGIN:STANDARD
TZOFFSETFROM:-0500
TZOFFSETTO:-0600
TZNAME:CST
DTSTART:20241103T070000
END:STANDARD
BEGIN:DAYLIGHT
TZOFFSETFROM:-0600
TZOFFSETTO:-0500
TZNAME:CDT
DTSTART:20250309T080000
END:DAYLIGHT
BEGIN:STANDARD
TZOFFSETFROM:-0500
TZOFFSETTO:-0600
TZNAME:CST
DTSTART:20251102T070000
END:STANDARD
BEGIN:DAYLIGHT
TZOFFSETFROM:-0600
TZOFFSETTO:-0500
TZNAME:CDT
DTSTART:20260308T080000
END:DAYLIGHT
BEGIN:STANDARD
TZOFFSETFROM:-0500
TZOFFSETTO:-0600
TZNAME:CST
DTSTART:20261101T070000
END:STANDARD
END:VTIMEZONE
BEGIN:VEVENT
DTSTART;TZID=America/Chicago:20250521T180000
DTEND;TZID=America/Chicago:20250521T210000
DTSTAMP:20260420T124229
CREATED:20250430T190433Z
LAST-MODIFIED:20250430T190433Z
UID:10005533-1747850400-1747861200@visitjacksontn.com
SUMMARY:Summer Wine & Whiskey Tasting Event
DESCRIPTION:Join Caddies Sports Club for the Summer Wine & Whiskey Tasting Event! \nEnjoy a relaxed evening of tasting our favorite summer wines and whiskeys\, perfect for both seasoned connoisseurs and curious newcomers. Learn how to craft the ultimate summer charcuterie board to complement your drinks. It’s an ideal night to mingle\, savor\, and expand your palate in a fun\, laid-back atmosphere. \nDon’t miss this flavorful celebration—mark your calendars!
URL:https://visitjacksontn.com/event/summer-wine-whiskey-tasting-event/
LOCATION:Caddies Sports Club\, 601 Vann Drive #Unit B\, Jackson\, TN\, 38305\, United States
CATEGORIES:Events
ATTACH;FMTTYPE=image/jpeg:https://visitjacksontn.com/wp-content/uploads/493135891_122166894062351837_4624826090245501716_n.jpg
END:VEVENT
END:VCALENDAR