BEGIN:VCALENDAR
VERSION:2.0
PRODID:-//Jackson Tourism - ECPv6.15.18//NONSGML v1.0//EN
CALSCALE:GREGORIAN
METHOD:PUBLISH
X-ORIGINAL-URL:https://visitjacksontn.com
X-WR-CALDESC:Events for Jackson Tourism
REFRESH-INTERVAL;VALUE=DURATION:PT1H
X-Robots-Tag:noindex
X-PUBLISHED-TTL:PT1H
BEGIN:VTIMEZONE
TZID:America/Chicago
BEGIN:DAYLIGHT
TZOFFSETFROM:-0600
TZOFFSETTO:-0500
TZNAME:CDT
DTSTART:20230312T080000
END:DAYLIGHT
BEGIN:STANDARD
TZOFFSETFROM:-0500
TZOFFSETTO:-0600
TZNAME:CST
DTSTART:20231105T070000
END:STANDARD
BEGIN:DAYLIGHT
TZOFFSETFROM:-0600
TZOFFSETTO:-0500
TZNAME:CDT
DTSTART:20240310T080000
END:DAYLIGHT
BEGIN:STANDARD
TZOFFSETFROM:-0500
TZOFFSETTO:-0600
TZNAME:CST
DTSTART:20241103T070000
END:STANDARD
BEGIN:DAYLIGHT
TZOFFSETFROM:-0600
TZOFFSETTO:-0500
TZNAME:CDT
DTSTART:20250309T080000
END:DAYLIGHT
BEGIN:STANDARD
TZOFFSETFROM:-0500
TZOFFSETTO:-0600
TZNAME:CST
DTSTART:20251102T070000
END:STANDARD
END:VTIMEZONE
BEGIN:VEVENT
DTSTART;VALUE=DATE:20240401
DTEND;VALUE=DATE:20240501
DTSTAMP:20260419T193340
CREATED:20240416T155658Z
LAST-MODIFIED:20240416T155711Z
UID:10002110-1711929600-1714521599@visitjacksontn.com
SUMMARY:April Old Country Store Events
DESCRIPTION:MONDAYS: 10:30 am-Craft Camp at Casey Jones Museum in the Jackson Room\nApril 1st\nApril 8th\nApril 15th\nApril 22nd\nApril 29th \nTUESDAYS: 12:00 pm-1:00 pm Live Music in the Delta Room\nApril 2nd: Bill Laarz\nApril 9th: Scott Myatt\nApril 16th: Lindsey Russell\nApril 23rd: Justin White\nApril 30th: Just Us \nWEDNESDAYS: 10:30 am-Story Time at the Casey Jones Museum in the Jackson Room\nApril 3rd\nApril 10th\nApril 17th\nApril 24th \nTHURSDAYS: 9:00 am-Testimonies at the Table\nApril 4th\nApril 11th\nApril 18th\nApril 25th \nFRIDAYS: 10:30 am-Old Country Store Kids Music with Alice on the Farm\nApril 5th\nApril 12th\nApril 19th\nApril 26th \n6:30 pm-7:30 pm: Live Music in the Delta Room\nApril 5th: Justin White\nApril 12th: Daniel McClain\nApril 19th: Hope Macgregor\nApril 26th: Brandon Kirk \nSATURDAYS:\nApril 20: 10:00 am-2:00 p.m.—Petting Zoo on the Farm\, \n 
URL:https://visitjacksontn.com/event/37549/
LOCATION:Old Country Store\, 56 Casey Jones Lane\, Jackson\, TN\, 38305\, United States
CATEGORIES:Events
END:VEVENT
BEGIN:VEVENT
DTSTART;TZID=America/Chicago:20240420T090000
DTEND;TZID=America/Chicago:20240420T130000
DTSTAMP:20260419T193340
CREATED:20240412T200327Z
LAST-MODIFIED:20240412T200327Z
UID:10002080-1713603600-1713618000@visitjacksontn.com
SUMMARY:City of Jackson Earth Day Festival
DESCRIPTION:The City of Jackson Earth Day Festival will be held Saturday\, April 20\, 2024\, at The Jackson Fairgrounds from 9 AM-1 PM. \nClick here for the most up-to-date event information.
URL:https://visitjacksontn.com/event/city-of-jackson-earth-day-festival/
LOCATION:Jackson Fairgrounds\, 800 S. Highland Ave\, Jackson\, TN\, 38301\, United States
CATEGORIES:Events
ATTACH;FMTTYPE=image/jpeg:https://visitjacksontn.com/wp-content/uploads/428713011_806302308198896_7211440530014137164_n.jpg
END:VEVENT
BEGIN:VEVENT
DTSTART;TZID=America/Chicago:20240420T153000
DTEND;TZID=America/Chicago:20240420T170000
DTSTAMP:20260419T193340
CREATED:20240412T154307Z
LAST-MODIFIED:20240412T154307Z
UID:10002072-1713627000-1713632400@visitjacksontn.com
SUMMARY:Jackson Choral Society Spring Concert: "Light!"
DESCRIPTION:The Jackson Choral Society\, under the direction of Zach Young\, will be joined by members of the Jackson State Community College Innovation ensemble\, directed Esther Gray. The 80+ member combined choir will be accompanied by a string orchestra. The program will consist of several shorter pieces around the theme of “Light!\,” followed by the the Mid-South premier of Illuminare\, a recently-composed multi-movement choral work by Elaine Hagenberg. The piece takes us through a season of beauty and goodness that has been disrupted by darkness and confusion. But as Light gradually returns\, hope is restored\, illuminating our future and guiding us in peace. \nThe concert will be held at First Baptist Church on Saturday\, April 20 at 3:00 pm. Tickets are $20 at the door and $15 for students. For more information about Jackson Choral Society or the concert\, visit their Facebook page.
URL:https://visitjacksontn.com/event/jackson-choral-society-spring-concert-light/
LOCATION:First Baptist Church\, 1627 N Highland Ave.\, Jackson\, TN\, 38301\, United States
CATEGORIES:Arts & Culture,Events,Music
ATTACH;FMTTYPE=image/jpeg:https://visitjacksontn.com/wp-content/uploads/jackson-choral-society.jpg
END:VEVENT
END:VCALENDAR