BEGIN:VCALENDAR
VERSION:2.0
PRODID:-//Jackson Tourism - ECPv6.15.18//NONSGML v1.0//EN
CALSCALE:GREGORIAN
METHOD:PUBLISH
X-WR-CALNAME:Jackson Tourism
X-ORIGINAL-URL:https://visitjacksontn.com
X-WR-CALDESC:Events for Jackson Tourism
REFRESH-INTERVAL;VALUE=DURATION:PT1H
X-Robots-Tag:noindex
X-PUBLISHED-TTL:PT1H
BEGIN:VTIMEZONE
TZID:America/Chicago
BEGIN:DAYLIGHT
TZOFFSETFROM:-0600
TZOFFSETTO:-0500
TZNAME:CDT
DTSTART:20240310T080000
END:DAYLIGHT
BEGIN:STANDARD
TZOFFSETFROM:-0500
TZOFFSETTO:-0600
TZNAME:CST
DTSTART:20241103T070000
END:STANDARD
BEGIN:DAYLIGHT
TZOFFSETFROM:-0600
TZOFFSETTO:-0500
TZNAME:CDT
DTSTART:20250309T080000
END:DAYLIGHT
BEGIN:STANDARD
TZOFFSETFROM:-0500
TZOFFSETTO:-0600
TZNAME:CST
DTSTART:20251102T070000
END:STANDARD
BEGIN:DAYLIGHT
TZOFFSETFROM:-0600
TZOFFSETTO:-0500
TZNAME:CDT
DTSTART:20260308T080000
END:DAYLIGHT
BEGIN:STANDARD
TZOFFSETFROM:-0500
TZOFFSETTO:-0600
TZNAME:CST
DTSTART:20261101T070000
END:STANDARD
END:VTIMEZONE
BEGIN:VEVENT
DTSTART;VALUE=DATE:20250709
DTEND;VALUE=DATE:20250713
DTSTAMP:20260420T021816
CREATED:20241120T205628Z
LAST-MODIFIED:20250708T152151Z
UID:10002916-1752019200-1752364799@visitjacksontn.com
SUMMARY:Jackson Sings the Gospel 2025
DESCRIPTION:Jackson Sings the Gospel returns to Jackson\, TN this July! \nEnjoy four nights and seven concerts featuring top Southern Gospel artists like Greater Vision\, Triumphant Quartet\, Karen Peck & New River\, Kingdom Heirs\, and many more. Daily matinee concerts are free with a love offering\, and Saturday includes the Singing News Talent Search. Don’t miss this uplifting weekend of music! \n 
URL:https://visitjacksontn.com/event/jackson-sings-the-gospel-2025/
LOCATION:Carl Perkins Civic Center\, 400 South Highland Avenue\, Jackson\, TN\, 38301\, United States
CATEGORIES:Events,Music
ATTACH;FMTTYPE=image/jpeg:https://visitjacksontn.com/wp-content/uploads/17927853.jpg
END:VEVENT
END:VCALENDAR