BEGIN:VCALENDAR
VERSION:2.0
PRODID:-//Jackson Tourism - ECPv6.15.20//NONSGML v1.0//EN
CALSCALE:GREGORIAN
METHOD:PUBLISH
X-ORIGINAL-URL:https://visitjacksontn.com
X-WR-CALDESC:Events for Jackson Tourism
REFRESH-INTERVAL;VALUE=DURATION:PT1H
X-Robots-Tag:noindex
X-PUBLISHED-TTL:PT1H
BEGIN:VTIMEZONE
TZID:America/Chicago
BEGIN:DAYLIGHT
TZOFFSETFROM:-0600
TZOFFSETTO:-0500
TZNAME:CDT
DTSTART:20230312T080000
END:DAYLIGHT
BEGIN:STANDARD
TZOFFSETFROM:-0500
TZOFFSETTO:-0600
TZNAME:CST
DTSTART:20231105T070000
END:STANDARD
BEGIN:DAYLIGHT
TZOFFSETFROM:-0600
TZOFFSETTO:-0500
TZNAME:CDT
DTSTART:20240310T080000
END:DAYLIGHT
BEGIN:STANDARD
TZOFFSETFROM:-0500
TZOFFSETTO:-0600
TZNAME:CST
DTSTART:20241103T070000
END:STANDARD
BEGIN:DAYLIGHT
TZOFFSETFROM:-0600
TZOFFSETTO:-0500
TZNAME:CDT
DTSTART:20250309T080000
END:DAYLIGHT
BEGIN:STANDARD
TZOFFSETFROM:-0500
TZOFFSETTO:-0600
TZNAME:CST
DTSTART:20251102T070000
END:STANDARD
END:VTIMEZONE
BEGIN:VEVENT
DTSTART;VALUE=DATE:20241027
DTEND;VALUE=DATE:20241028
DTSTAMP:20260422T235320
CREATED:20240823T133229Z
LAST-MODIFIED:20240823T133244Z
UID:10002505-1729987200-1730073599@visitjacksontn.com
SUMMARY:University of Tennessee Volunteers versus Troy University Trojans Baseball Game
DESCRIPTION:The 2024 National Champion University of Tennessee Volunteers will return to Rockabillys Stadium on Sunday\, October 27th\, to take on the Troy University Trojans\, a member of the D1 Sun Belt Conference. This event marks the second time the Volunteers have played at the stadium\, following a November 2022 Sunday game against the University of Memphis. \nAs the hosts of this fall game\, the Jackson Rockabillys will announce ticketing information in the following weeks. \nStay tuned for ticket information.
URL:https://visitjacksontn.com/event/university-of-tennessee-volunteers-versus-troy-university-trojans/
LOCATION:The Jackson Baseball Stadium\, 4 Fun Place\, Jackson\, TN\, 38305\, United States
CATEGORIES:Events,Sports & Outdoor
ATTACH;FMTTYPE=image/jpeg:https://visitjacksontn.com/wp-content/uploads/456652063_528357729755329_1979206488032212036_n.jpg
END:VEVENT
END:VCALENDAR