BEGIN:VCALENDAR
VERSION:2.0
PRODID:-//Jackson Tourism - ECPv6.15.20//NONSGML v1.0//EN
CALSCALE:GREGORIAN
METHOD:PUBLISH
X-ORIGINAL-URL:https://visitjacksontn.com
X-WR-CALDESC:Events for Jackson Tourism
REFRESH-INTERVAL;VALUE=DURATION:PT1H
X-Robots-Tag:noindex
X-PUBLISHED-TTL:PT1H
BEGIN:VTIMEZONE
TZID:America/Chicago
BEGIN:DAYLIGHT
TZOFFSETFROM:-0600
TZOFFSETTO:-0500
TZNAME:CDT
DTSTART:20240310T080000
END:DAYLIGHT
BEGIN:STANDARD
TZOFFSETFROM:-0500
TZOFFSETTO:-0600
TZNAME:CST
DTSTART:20241103T070000
END:STANDARD
BEGIN:DAYLIGHT
TZOFFSETFROM:-0600
TZOFFSETTO:-0500
TZNAME:CDT
DTSTART:20250309T080000
END:DAYLIGHT
BEGIN:STANDARD
TZOFFSETFROM:-0500
TZOFFSETTO:-0600
TZNAME:CST
DTSTART:20251102T070000
END:STANDARD
BEGIN:DAYLIGHT
TZOFFSETFROM:-0600
TZOFFSETTO:-0500
TZNAME:CDT
DTSTART:20260308T080000
END:DAYLIGHT
BEGIN:STANDARD
TZOFFSETFROM:-0500
TZOFFSETTO:-0600
TZNAME:CST
DTSTART:20261101T070000
END:STANDARD
END:VTIMEZONE
BEGIN:VEVENT
DTSTART;VALUE=DATE:20250628
DTEND;VALUE=DATE:20250630
DTSTAMP:20260425T105518
CREATED:20250324T184352Z
LAST-MODIFIED:20250324T184352Z
UID:10005429-1751068800-1751241599@visitjacksontn.com
SUMMARY:Jackson Rockabillys vs. Terre Haute Rex
DESCRIPTION:The Jackson Rockabillys take on the Terre Haute Rex at 7:00 PM. \nGet your gear on and come show support for Jackson’s hometown team!
URL:https://visitjacksontn.com/event/jackson-rockabillys-vs-terre-haute-rex/
LOCATION:Jackson Rockabillys Stadium\, 4 Fun Place\, Jackson\, TN\, 38305\, United States
CATEGORIES:Events,Sports & Outdoor
ATTACH;FMTTYPE=image/png:https://visitjacksontn.com/wp-content/uploads/Primary_Logo-0-3x-1.png
END:VEVENT
BEGIN:VEVENT
DTSTART;TZID=America/Chicago:20250629T180000
DTEND;TZID=America/Chicago:20250629T180000
DTSTAMP:20260425T105518
CREATED:20250514T165231Z
LAST-MODIFIED:20250623T202033Z
UID:10005578-1751220000-1751220000@visitjacksontn.com
SUMMARY:Bluey Night at the Ballpark
DESCRIPTION:Get ready for a night of family fun at Bluey Night at the Ballpark! \nGates open at 6:00 PM\, concert starts at 6:15 PM\, and Bluey throws out the first pitch at 7:00 PM. Fans of all ages can enjoy a special meet and greet with Bluey before the game\, plus a live concert under the pavilion with Music with Alice after the final inning. It’s the perfect evening for families and little ones\, packed with laughs\, dancing\, and unforgettable moments. \nDon’t forget to wear your favorite Bluey gear and grab your tickets at here!
URL:https://visitjacksontn.com/event/bluey-night-at-the-ballpark/
LOCATION:Jackson Rockabillys Stadium\, 4 Fun Place\, Jackson\, TN\, 38305\, United States
CATEGORIES:Events,Music,Sports & Outdoor
ATTACH;FMTTYPE=image/jpeg:https://visitjacksontn.com/wp-content/uploads/497579100_717733640817736_6055989077583961589_n.jpg
END:VEVENT
END:VCALENDAR