BEGIN:VCALENDAR
VERSION:2.0
PRODID:-//Jackson Tourism - ECPv6.15.20//NONSGML v1.0//EN
CALSCALE:GREGORIAN
METHOD:PUBLISH
X-WR-CALNAME:Jackson Tourism
X-ORIGINAL-URL:https://visitjacksontn.com
X-WR-CALDESC:Events for Jackson Tourism
REFRESH-INTERVAL;VALUE=DURATION:PT1H
X-Robots-Tag:noindex
X-PUBLISHED-TTL:PT1H
BEGIN:VTIMEZONE
TZID:America/Chicago
BEGIN:DAYLIGHT
TZOFFSETFROM:-0600
TZOFFSETTO:-0500
TZNAME:CDT
DTSTART:20230312T080000
END:DAYLIGHT
BEGIN:STANDARD
TZOFFSETFROM:-0500
TZOFFSETTO:-0600
TZNAME:CST
DTSTART:20231105T070000
END:STANDARD
BEGIN:DAYLIGHT
TZOFFSETFROM:-0600
TZOFFSETTO:-0500
TZNAME:CDT
DTSTART:20240310T080000
END:DAYLIGHT
BEGIN:STANDARD
TZOFFSETFROM:-0500
TZOFFSETTO:-0600
TZNAME:CST
DTSTART:20241103T070000
END:STANDARD
BEGIN:DAYLIGHT
TZOFFSETFROM:-0600
TZOFFSETTO:-0500
TZNAME:CDT
DTSTART:20250309T080000
END:DAYLIGHT
BEGIN:STANDARD
TZOFFSETFROM:-0500
TZOFFSETTO:-0600
TZNAME:CST
DTSTART:20251102T070000
END:STANDARD
END:VTIMEZONE
BEGIN:VEVENT
DTSTART;TZID=America/Chicago:20240621T180000
DTEND;TZID=America/Chicago:20240621T180000
DTSTAMP:20260423T201616
CREATED:20240501T190738Z
LAST-MODIFIED:20240501T190738Z
UID:10002194-1718992800-1718992800@visitjacksontn.com
SUMMARY:A Twilight Stroll at Pinson Mounds
DESCRIPTION:Join your friends from the library and a park ranger at Pinson Mounds for a fun and educational Summer evening adventure. \nClick here for more event information.
URL:https://visitjacksontn.com/event/a-twilight-stroll-at-pinson-mounds/
LOCATION:Pinson Mounds\, 460 Ozier Rd\, Pinson\, TN\, 38366\, United States
CATEGORIES:Events,Sports & Outdoor
ATTACH;FMTTYPE=image/jpeg:https://visitjacksontn.com/wp-content/uploads/440885817_813130660862836_2424778962154267965_n.jpg
END:VEVENT
BEGIN:VEVENT
DTSTART;TZID=America/Chicago:20240629T100000
DTEND;TZID=America/Chicago:20240629T113000
DTSTAMP:20260423T201616
CREATED:20240520T190041Z
LAST-MODIFIED:20240520T190608Z
UID:10002236-1719655200-1719660600@visitjacksontn.com
SUMMARY:2024 Asteroid Day Special Event
DESCRIPTION:The University of Memphis Lambuth M. D. Anderson Planetarium and the Jackson-Madison County Public Library will host a special Asteroid Day event Saturday\, June 29\, at 10:00 a.m. in the Program Room of the library\, 433 E. Lafayette Street\, Jackson\, TN. \nJoin us for games and activities for kids\, Q&A about asteroids\, and a screening of Incoming! a short film about asteroids\, narrated by George Takei. \nClick here for more event information.
URL:https://visitjacksontn.com/event/2024-asteroid-day-special-event/
LOCATION:Jackson Madison County Library\, 433 East Lafayette St.\, Jackson\, TN\, 38301\, United States
CATEGORIES:Events,Sports & Outdoor
ATTACH;FMTTYPE=image/jpeg:https://visitjacksontn.com/wp-content/uploads/441494446_825707319605170_2709999122958364569_n.jpg
END:VEVENT
END:VCALENDAR