BEGIN:VCALENDAR
VERSION:2.0
PRODID:-//Jackson Tourism - ECPv6.15.20//NONSGML v1.0//EN
CALSCALE:GREGORIAN
METHOD:PUBLISH
X-ORIGINAL-URL:https://visitjacksontn.com
X-WR-CALDESC:Events for Jackson Tourism
REFRESH-INTERVAL;VALUE=DURATION:PT1H
X-Robots-Tag:noindex
X-PUBLISHED-TTL:PT1H
BEGIN:VTIMEZONE
TZID:America/Chicago
BEGIN:DAYLIGHT
TZOFFSETFROM:-0600
TZOFFSETTO:-0500
TZNAME:CDT
DTSTART:20230312T080000
END:DAYLIGHT
BEGIN:STANDARD
TZOFFSETFROM:-0500
TZOFFSETTO:-0600
TZNAME:CST
DTSTART:20231105T070000
END:STANDARD
BEGIN:DAYLIGHT
TZOFFSETFROM:-0600
TZOFFSETTO:-0500
TZNAME:CDT
DTSTART:20240310T080000
END:DAYLIGHT
BEGIN:STANDARD
TZOFFSETFROM:-0500
TZOFFSETTO:-0600
TZNAME:CST
DTSTART:20241103T070000
END:STANDARD
BEGIN:DAYLIGHT
TZOFFSETFROM:-0600
TZOFFSETTO:-0500
TZNAME:CDT
DTSTART:20250309T080000
END:DAYLIGHT
BEGIN:STANDARD
TZOFFSETFROM:-0500
TZOFFSETTO:-0600
TZNAME:CST
DTSTART:20251102T070000
END:STANDARD
END:VTIMEZONE
BEGIN:VEVENT
DTSTART;TZID=America/Chicago:20240608T100000
DTEND;TZID=America/Chicago:20240608T160000
DTSTAMP:20260424T152148
CREATED:20240524T154148Z
LAST-MODIFIED:20240528T161717Z
UID:10002250-1717840800-1717862400@visitjacksontn.com
SUMMARY:Henry County Summerfest
DESCRIPTION:Join us for the Henry County Summerfest on June 8th! With over 80 unique vendors\, this is an event you won’t want to miss. FREE Admission! \nDiscover trendy boutiques\, dazzling jewelry\, stunning handmade items\, and beautiful arts & crafts. Shop for charming wooden decor\, delicious cakes and cookies\, spicy pickles\, mouth-watering fudge\, and special treats like freeze-dried candy. Experience the fun of building your own plushie and find stylish dog clothes for your furry friends. Don’t forget to check out the hat bar for custom hats that fit your style! \nPlus\, satisfy your cravings with a diverse selection of food trucks offering tasty delights. \nBring the whole family and enjoy the petting zoo\, and make lasting memories with family photos by Llama Llama Adventures. \nClick here for more event information.
URL:https://visitjacksontn.com/event/henry-county-summerfest/
LOCATION:Henry County Fairgrounds\, 517 Royal Oak Dr.\, Paris\, TN\, 38242\, United States
CATEGORIES:Events
ATTACH;FMTTYPE=image/jpeg:https://visitjacksontn.com/wp-content/uploads/443717015_426500353472933_781163726270260738_n.jpg
END:VEVENT
END:VCALENDAR