BEGIN:VCALENDAR
VERSION:2.0
PRODID:-//Jackson Tourism - ECPv6.15.20//NONSGML v1.0//EN
CALSCALE:GREGORIAN
METHOD:PUBLISH
X-ORIGINAL-URL:https://visitjacksontn.com
X-WR-CALDESC:Events for Jackson Tourism
REFRESH-INTERVAL;VALUE=DURATION:PT1H
X-Robots-Tag:noindex
X-PUBLISHED-TTL:PT1H
BEGIN:VTIMEZONE
TZID:America/Chicago
BEGIN:DAYLIGHT
TZOFFSETFROM:-0600
TZOFFSETTO:-0500
TZNAME:CDT
DTSTART:20230312T080000
END:DAYLIGHT
BEGIN:STANDARD
TZOFFSETFROM:-0500
TZOFFSETTO:-0600
TZNAME:CST
DTSTART:20231105T070000
END:STANDARD
BEGIN:DAYLIGHT
TZOFFSETFROM:-0600
TZOFFSETTO:-0500
TZNAME:CDT
DTSTART:20240310T080000
END:DAYLIGHT
BEGIN:STANDARD
TZOFFSETFROM:-0500
TZOFFSETTO:-0600
TZNAME:CST
DTSTART:20241103T070000
END:STANDARD
BEGIN:DAYLIGHT
TZOFFSETFROM:-0600
TZOFFSETTO:-0500
TZNAME:CDT
DTSTART:20250309T080000
END:DAYLIGHT
BEGIN:STANDARD
TZOFFSETFROM:-0500
TZOFFSETTO:-0600
TZNAME:CST
DTSTART:20251102T070000
END:STANDARD
END:VTIMEZONE
BEGIN:VEVENT
DTSTART;TZID=America/Chicago:20241025T170000
DTEND;TZID=America/Chicago:20241025T200000
DTSTAMP:20260423T214414
CREATED:20240924T150855Z
LAST-MODIFIED:20240924T150855Z
UID:10002606-1729875600-1729886400@visitjacksontn.com
SUMMARY:Halloween Bike Night
DESCRIPTION:Join us for a spooky evening of fun at the Bumpus Harley-Davidson of Jackson Halloween Bike Night! Bring the whole family and enjoy a night filled with thrilling activities and contests: \n**Trunk or Treat**: Decorate your car or motorcycle in your best Halloween theme! The best-decorated car and motorcycle each win a $50 gift card. \n**Costume Contest**: Dress to impress! The best-dressed adult will win a $50 gift card\, and the best-dressed kid will take home a special Halloween gift basket. \n**Slow Race**: Test your riding skills in our slow race. The last rider standing wins a $50 gift card! \n**Food Truck**: Grab some delicious eats while you enjoy the festivities. \n**Drive-In Movie**: Stick around after the contests for a showing of The Addams Family. \nIt’s going to be a ghoulishly good time\, so don’t miss out!
URL:https://visitjacksontn.com/event/halloween-bike-night/
LOCATION:Bumpus Harley Davidson\, 326 Carriage House Drive.\, Jackson\, TN\, 38305\, United States
CATEGORIES:Arts & Culture,Events
ATTACH;FMTTYPE=image/jpeg:https://visitjacksontn.com/wp-content/uploads/461260883_922113783295298_2371489638794135130_n.jpg
END:VEVENT
BEGIN:VEVENT
DTSTART;TZID=America/Chicago:20241025T170000
DTEND;TZID=America/Chicago:20241025T203000
DTSTAMP:20260423T214414
CREATED:20241017T190131Z
LAST-MODIFIED:20241017T190958Z
UID:10002654-1729875600-1729888200@visitjacksontn.com
SUMMARY:Jackson Area Business and Professional Women's Ghosts A-Walking Tour
DESCRIPTION:Celebrate the spooky season at the Jackson Area Business and Professional Women’s Ghosts A-Walking Tour right before Halloween! \nThe tour begins at Riverside Cemetery\, followed by dinner at First United Methodist Church\, where ghosts will share their life stories at each table. \nProceeds support scholarships for women returning to school to enhance their careers. \nTickets are available for purchase here\, and for more information\, please call 731-423-2234.
URL:https://visitjacksontn.com/event/jackson-area-business-and-professional-womens-ghosts-a-walking-tour/
LOCATION:First United Methodist Church\, 200 S. Church St.\, Jackson\, TN\, 38301\, United States
CATEGORIES:Arts & Culture,Events
ATTACH;FMTTYPE=image/jpeg:https://visitjacksontn.com/wp-content/uploads/462044536_10233235876707048_7775730745371402550_n.jpg
END:VEVENT
END:VCALENDAR