BEGIN:VCALENDAR
VERSION:2.0
PRODID:-//Jackson Tourism - ECPv6.15.20//NONSGML v1.0//EN
CALSCALE:GREGORIAN
METHOD:PUBLISH
X-WR-CALNAME:Jackson Tourism
X-ORIGINAL-URL:https://visitjacksontn.com
X-WR-CALDESC:Events for Jackson Tourism
REFRESH-INTERVAL;VALUE=DURATION:PT1H
X-Robots-Tag:noindex
X-PUBLISHED-TTL:PT1H
BEGIN:VTIMEZONE
TZID:America/Chicago
BEGIN:DAYLIGHT
TZOFFSETFROM:-0600
TZOFFSETTO:-0500
TZNAME:CDT
DTSTART:20230312T080000
END:DAYLIGHT
BEGIN:STANDARD
TZOFFSETFROM:-0500
TZOFFSETTO:-0600
TZNAME:CST
DTSTART:20231105T070000
END:STANDARD
BEGIN:DAYLIGHT
TZOFFSETFROM:-0600
TZOFFSETTO:-0500
TZNAME:CDT
DTSTART:20240310T080000
END:DAYLIGHT
BEGIN:STANDARD
TZOFFSETFROM:-0500
TZOFFSETTO:-0600
TZNAME:CST
DTSTART:20241103T070000
END:STANDARD
BEGIN:DAYLIGHT
TZOFFSETFROM:-0600
TZOFFSETTO:-0500
TZNAME:CDT
DTSTART:20250309T080000
END:DAYLIGHT
BEGIN:STANDARD
TZOFFSETFROM:-0500
TZOFFSETTO:-0600
TZNAME:CST
DTSTART:20251102T070000
END:STANDARD
END:VTIMEZONE
BEGIN:VEVENT
DTSTART;TZID=America/Chicago:20241101T170000
DTEND;TZID=America/Chicago:20241101T193000
DTSTAMP:20260422T174317
CREATED:20240801T140622Z
LAST-MODIFIED:20240801T140622Z
UID:10002439-1730480400-1730489400@visitjacksontn.com
SUMMARY:First Friday Art Walk
DESCRIPTION:Walk throughout Downtown Jackson and shop for local art on the first Friday of every month April – June and September – November. \nParticipating businesses include:\nThe Ned\nTurntable Coffee Counter\nHavner’s Frame Shop\nSacred Adornments\nEast Main Salon\nThe 906\nSmith Oddities\nIdea Factory \nParticipating artists coming soon! \nArtist members of the Jackson Arts Council can still register to participate.https://forms.gle/Wdc1diCX4VtrpYC19 \nClick here for the most up to date event information.
URL:https://visitjacksontn.com/event/first-friday-art-walk-14/
LOCATION:Art Walk on Main\, 301 E Main St\, Jackson\, 38301\, United States
CATEGORIES:Events
ATTACH;FMTTYPE=image/jpeg:https://visitjacksontn.com/wp-content/uploads/453508976_1050471863747400_192664674224455620_n.jpg
END:VEVENT
END:VCALENDAR