BEGIN:VCALENDAR
VERSION:2.0
PRODID:-//Jackson Tourism - ECPv6.15.20//NONSGML v1.0//EN
CALSCALE:GREGORIAN
METHOD:PUBLISH
X-ORIGINAL-URL:https://visitjacksontn.com
X-WR-CALDESC:Events for Jackson Tourism
REFRESH-INTERVAL;VALUE=DURATION:PT1H
X-Robots-Tag:noindex
X-PUBLISHED-TTL:PT1H
BEGIN:VTIMEZONE
TZID:America/Chicago
BEGIN:DAYLIGHT
TZOFFSETFROM:-0600
TZOFFSETTO:-0500
TZNAME:CDT
DTSTART:20240310T080000
END:DAYLIGHT
BEGIN:STANDARD
TZOFFSETFROM:-0500
TZOFFSETTO:-0600
TZNAME:CST
DTSTART:20241103T070000
END:STANDARD
BEGIN:DAYLIGHT
TZOFFSETFROM:-0600
TZOFFSETTO:-0500
TZNAME:CDT
DTSTART:20250309T080000
END:DAYLIGHT
BEGIN:STANDARD
TZOFFSETFROM:-0500
TZOFFSETTO:-0600
TZNAME:CST
DTSTART:20251102T070000
END:STANDARD
BEGIN:DAYLIGHT
TZOFFSETFROM:-0600
TZOFFSETTO:-0500
TZNAME:CDT
DTSTART:20260308T080000
END:DAYLIGHT
BEGIN:STANDARD
TZOFFSETFROM:-0500
TZOFFSETTO:-0600
TZNAME:CST
DTSTART:20261101T070000
END:STANDARD
END:VTIMEZONE
BEGIN:VEVENT
DTSTART;TZID=America/Chicago:20250704T150000
DTEND;TZID=America/Chicago:20250704T150000
DTSTAMP:20260425T170338
CREATED:20250512T184426Z
LAST-MODIFIED:20250512T184513Z
UID:10005568-1751641200-1751641200@visitjacksontn.com
SUMMARY:Firefighters Freedom Festival
DESCRIPTION:The Firefighters Freedom Festival is back and ready to light up the sky! \nJoin Madison County’s favorite Independence Day celebration with food trucks\, live music\, family-friendly games\, fire safety demos\, and a stunning professional fireworks show—all organized by the Madison County Fire Department. Celebrate safely\, proudly\, and together this July 4th!
URL:https://visitjacksontn.com/event/firefighters-freedom-festival/
LOCATION:Jackson Regional Airport\, 308 Grady Montgomery Drive\, Jackson\, TN\, 38301
CATEGORIES:Events
ATTACH;FMTTYPE=image/jpeg:https://visitjacksontn.com/wp-content/uploads/494993493_1069315488553466_7155430351983622205_n.jpg
END:VEVENT
END:VCALENDAR