BEGIN:VCALENDAR
VERSION:2.0
PRODID:-//Jackson Tourism - ECPv6.15.20//NONSGML v1.0//EN
CALSCALE:GREGORIAN
METHOD:PUBLISH
X-WR-CALNAME:Jackson Tourism
X-ORIGINAL-URL:https://visitjacksontn.com
X-WR-CALDESC:Events for Jackson Tourism
REFRESH-INTERVAL;VALUE=DURATION:PT1H
X-Robots-Tag:noindex
X-PUBLISHED-TTL:PT1H
BEGIN:VTIMEZONE
TZID:America/Chicago
BEGIN:DAYLIGHT
TZOFFSETFROM:-0600
TZOFFSETTO:-0500
TZNAME:CDT
DTSTART:20240310T080000
END:DAYLIGHT
BEGIN:STANDARD
TZOFFSETFROM:-0500
TZOFFSETTO:-0600
TZNAME:CST
DTSTART:20241103T070000
END:STANDARD
BEGIN:DAYLIGHT
TZOFFSETFROM:-0600
TZOFFSETTO:-0500
TZNAME:CDT
DTSTART:20250309T080000
END:DAYLIGHT
BEGIN:STANDARD
TZOFFSETFROM:-0500
TZOFFSETTO:-0600
TZNAME:CST
DTSTART:20251102T070000
END:STANDARD
BEGIN:DAYLIGHT
TZOFFSETFROM:-0600
TZOFFSETTO:-0500
TZNAME:CDT
DTSTART:20260308T080000
END:DAYLIGHT
BEGIN:STANDARD
TZOFFSETFROM:-0500
TZOFFSETTO:-0600
TZNAME:CST
DTSTART:20261101T070000
END:STANDARD
END:VTIMEZONE
BEGIN:VEVENT
DTSTART;TZID=America/Chicago:20250614T140000
DTEND;TZID=America/Chicago:20250614T200000
DTSTAMP:20260422T215029
CREATED:20250311T151637Z
LAST-MODIFIED:20250311T152254Z
UID:10005386-1749909600-1749931200@visitjacksontn.com
SUMMARY:JAX-MAC Festival
DESCRIPTION:Celebrate community\, creativity\, and culture at the JAX-MAC Festival! \nEnjoy live music from local artists\, explore unique vendors\, savor delicious food truck fare\, and take part in fun games and kid-friendly activities. Lineup subject to change. For more information\, email jaxmacfestival@gmail.com or dwmtm6565@gmail.com. Don’t miss this exciting day of music\, art\, and community fun!
URL:https://visitjacksontn.com/event/jax-mac-festival/
LOCATION:Jackson’s Amp at The Market\, 91 New Market Street\, Jackson\, TN\, 38301\, United States
CATEGORIES:Arts & Culture,Events,Music
ATTACH;FMTTYPE=image/jpeg:https://visitjacksontn.com/wp-content/uploads/482250782_655520437007116_1560469917063204252_n.jpg
END:VEVENT
END:VCALENDAR