BEGIN:VCALENDAR
VERSION:2.0
PRODID:-//Jackson Tourism - ECPv6.15.20//NONSGML v1.0//EN
CALSCALE:GREGORIAN
METHOD:PUBLISH
X-WR-CALNAME:Jackson Tourism
X-ORIGINAL-URL:https://visitjacksontn.com
X-WR-CALDESC:Events for Jackson Tourism
REFRESH-INTERVAL;VALUE=DURATION:PT1H
X-Robots-Tag:noindex
X-PUBLISHED-TTL:PT1H
BEGIN:VTIMEZONE
TZID:America/Chicago
BEGIN:DAYLIGHT
TZOFFSETFROM:-0600
TZOFFSETTO:-0500
TZNAME:CDT
DTSTART:20230312T080000
END:DAYLIGHT
BEGIN:STANDARD
TZOFFSETFROM:-0500
TZOFFSETTO:-0600
TZNAME:CST
DTSTART:20231105T070000
END:STANDARD
BEGIN:DAYLIGHT
TZOFFSETFROM:-0600
TZOFFSETTO:-0500
TZNAME:CDT
DTSTART:20240310T080000
END:DAYLIGHT
BEGIN:STANDARD
TZOFFSETFROM:-0500
TZOFFSETTO:-0600
TZNAME:CST
DTSTART:20241103T070000
END:STANDARD
BEGIN:DAYLIGHT
TZOFFSETFROM:-0600
TZOFFSETTO:-0500
TZNAME:CDT
DTSTART:20250309T080000
END:DAYLIGHT
BEGIN:STANDARD
TZOFFSETFROM:-0500
TZOFFSETTO:-0600
TZNAME:CST
DTSTART:20251102T070000
END:STANDARD
END:VTIMEZONE
BEGIN:VEVENT
DTSTART;TZID=America/Chicago:20240803T180000
DTEND;TZID=America/Chicago:20240803T180000
DTSTAMP:20260423T141828
CREATED:20240715T153604Z
LAST-MODIFIED:20240729T142623Z
UID:10002433-1722708000-1722708000@visitjacksontn.com
SUMMARY:Black Tie & Blue Jeans
DESCRIPTION:Support Friends of Heart with a night of fun at our signature annual event\, Black Tie & Blue Jeans presented by West Tennessee Healthcare\, on Saturday\, August 3rd at the Carl Perkins Civic Center. Dinner\, dancing with Memphis’ own G3 Band\, live & silent auctions\, liquor pull\, and more…all to support AED distribution across 19 counties\, staff education\, clinical research\, Jackson’s 4-Minute City initiative\, and youth EKG screenings! Select sponsorship opportunities still available. \nPurchase your table or individual tickets today! Tables can be reserved by calling 731.343.3330. Individual tickets are available on Eventbrite.com. \nCorporate Table of 8: $2\,500\nIndividual Table of 8: $1\,500\nIndividual Tickets: $100 \nDinner\, dancing\, and great auction items! Live for the moments that make your heart beat. \nClick here for more event information.
URL:https://visitjacksontn.com/event/black-tie-blue-jeans/
LOCATION:Carl Perkins Civic Center\, 400 South Highland Avenue\, Jackson\, TN\, 38301\, United States
CATEGORIES:Events
ATTACH;FMTTYPE=image/jpeg:https://visitjacksontn.com/wp-content/uploads/449209536_839474138212460_1739705119734695691_n.jpg
END:VEVENT
END:VCALENDAR