BEGIN:VCALENDAR
VERSION:2.0
PRODID:-//Jackson Tourism - ECPv6.15.20//NONSGML v1.0//EN
CALSCALE:GREGORIAN
METHOD:PUBLISH
X-ORIGINAL-URL:https://visitjacksontn.com
X-WR-CALDESC:Events for Jackson Tourism
REFRESH-INTERVAL;VALUE=DURATION:PT1H
X-Robots-Tag:noindex
X-PUBLISHED-TTL:PT1H
BEGIN:VTIMEZONE
TZID:America/Chicago
BEGIN:DAYLIGHT
TZOFFSETFROM:-0600
TZOFFSETTO:-0500
TZNAME:CDT
DTSTART:20240310T080000
END:DAYLIGHT
BEGIN:STANDARD
TZOFFSETFROM:-0500
TZOFFSETTO:-0600
TZNAME:CST
DTSTART:20241103T070000
END:STANDARD
BEGIN:DAYLIGHT
TZOFFSETFROM:-0600
TZOFFSETTO:-0500
TZNAME:CDT
DTSTART:20250309T080000
END:DAYLIGHT
BEGIN:STANDARD
TZOFFSETFROM:-0500
TZOFFSETTO:-0600
TZNAME:CST
DTSTART:20251102T070000
END:STANDARD
BEGIN:DAYLIGHT
TZOFFSETFROM:-0600
TZOFFSETTO:-0500
TZNAME:CDT
DTSTART:20260308T080000
END:DAYLIGHT
BEGIN:STANDARD
TZOFFSETFROM:-0500
TZOFFSETTO:-0600
TZNAME:CST
DTSTART:20261101T070000
END:STANDARD
END:VTIMEZONE
BEGIN:VEVENT
DTSTART;TZID=America/Chicago:20250213T170000
DTEND;TZID=America/Chicago:20250213T210000
DTSTAMP:20260424T225455
CREATED:20250106T170922Z
LAST-MODIFIED:20250108T214604Z
UID:10005172-1739466000-1739480400@visitjacksontn.com
SUMMARY:Galentine's Dinner
DESCRIPTION:Elks Lodge #192 invites everyone to a Galentine’s Dinner! \nEnjoy dinner\, shopping\, music\, karaoke\, and more\, with all proceeds benefiting The Dream Center. Tickets are $35 per person\, with group table options available. Celebrate friendship while supporting a great cause! For tickets\, contact Dawn Phipps at 731-616-1352 or call 731-668-9020.
URL:https://visitjacksontn.com/event/galentines-dinner-2/
LOCATION:ELKS LODGE 192\, 28 Executive Dr.\, Jackson\, TN\, 38305\, United States
CATEGORIES:Events,Music
ATTACH;FMTTYPE=image/jpeg:https://visitjacksontn.com/wp-content/uploads/472041594_994561176038555_3681865114647358341_n.jpg
END:VEVENT
END:VCALENDAR