BEGIN:VCALENDAR
VERSION:2.0
PRODID:-//Jackson Tourism - ECPv6.15.20//NONSGML v1.0//EN
CALSCALE:GREGORIAN
METHOD:PUBLISH
X-WR-CALNAME:Jackson Tourism
X-ORIGINAL-URL:https://visitjacksontn.com
X-WR-CALDESC:Events for Jackson Tourism
REFRESH-INTERVAL;VALUE=DURATION:PT1H
X-Robots-Tag:noindex
X-PUBLISHED-TTL:PT1H
BEGIN:VTIMEZONE
TZID:America/Chicago
BEGIN:DAYLIGHT
TZOFFSETFROM:-0600
TZOFFSETTO:-0500
TZNAME:CDT
DTSTART:20240310T080000
END:DAYLIGHT
BEGIN:STANDARD
TZOFFSETFROM:-0500
TZOFFSETTO:-0600
TZNAME:CST
DTSTART:20241103T070000
END:STANDARD
BEGIN:DAYLIGHT
TZOFFSETFROM:-0600
TZOFFSETTO:-0500
TZNAME:CDT
DTSTART:20250309T080000
END:DAYLIGHT
BEGIN:STANDARD
TZOFFSETFROM:-0500
TZOFFSETTO:-0600
TZNAME:CST
DTSTART:20251102T070000
END:STANDARD
BEGIN:DAYLIGHT
TZOFFSETFROM:-0600
TZOFFSETTO:-0500
TZNAME:CDT
DTSTART:20260308T080000
END:DAYLIGHT
BEGIN:STANDARD
TZOFFSETFROM:-0500
TZOFFSETTO:-0600
TZNAME:CST
DTSTART:20261101T070000
END:STANDARD
END:VTIMEZONE
BEGIN:VEVENT
DTSTART;TZID=America/Chicago:20251206T120000
DTEND;TZID=America/Chicago:20251206T120000
DTSTAMP:20260425T110937
CREATED:20251112T145445Z
LAST-MODIFIED:20251112T145445Z
UID:10005759-1765022400-1765022400@visitjacksontn.com
SUMMARY:Good Tidings Market
DESCRIPTION:This event is an opportunity for local non-profit organizations to raise money to help support their respective efforts by selling or offering items in exchange for suggested donations. It is also a wonderful chance for members of the community to find unique gifts\, decorations\, keepsakes\, and/or artwork for the holiday season while giving to worthwhile causes! \nRegistration is open to non-profit organizations and community groups free of charge and with no vendor fees. Non-profit organizations can visit our Communications and Engagement website under the Government tab at https://jacksontn.gov and select the “Good Tidings Market Registration” button to register. \nStall and setup for participating organizations will begin at 11:00 AM. \nFor more information\, contact City of Jackson\, TN Community Relations Director Christiana Gallagher at CGallagher@JacksonTN.gov.
URL:https://visitjacksontn.com/event/good-tidings-market/
LOCATION:West TN Farmers Market\, 91 New Market St.\, Jackson\, TN\, 38301\, United States
CATEGORIES:Events
ATTACH;FMTTYPE=image/jpeg:https://visitjacksontn.com/wp-content/uploads/574862138_1156400346680706_6278745631079170925_n.jpg
END:VEVENT
END:VCALENDAR