BEGIN:VCALENDAR
VERSION:2.0
PRODID:-//Jackson Tourism - ECPv6.15.20//NONSGML v1.0//EN
CALSCALE:GREGORIAN
METHOD:PUBLISH
X-ORIGINAL-URL:https://visitjacksontn.com
X-WR-CALDESC:Events for Jackson Tourism
REFRESH-INTERVAL;VALUE=DURATION:PT1H
X-Robots-Tag:noindex
X-PUBLISHED-TTL:PT1H
BEGIN:VTIMEZONE
TZID:America/Chicago
BEGIN:DAYLIGHT
TZOFFSETFROM:-0600
TZOFFSETTO:-0500
TZNAME:CDT
DTSTART:20250309T080000
END:DAYLIGHT
BEGIN:STANDARD
TZOFFSETFROM:-0500
TZOFFSETTO:-0600
TZNAME:CST
DTSTART:20251102T070000
END:STANDARD
BEGIN:DAYLIGHT
TZOFFSETFROM:-0600
TZOFFSETTO:-0500
TZNAME:CDT
DTSTART:20260308T080000
END:DAYLIGHT
BEGIN:STANDARD
TZOFFSETFROM:-0500
TZOFFSETTO:-0600
TZNAME:CST
DTSTART:20261101T070000
END:STANDARD
BEGIN:DAYLIGHT
TZOFFSETFROM:-0600
TZOFFSETTO:-0500
TZNAME:CDT
DTSTART:20270314T080000
END:DAYLIGHT
BEGIN:STANDARD
TZOFFSETFROM:-0500
TZOFFSETTO:-0600
TZNAME:CST
DTSTART:20271107T070000
END:STANDARD
END:VTIMEZONE
BEGIN:VEVENT
DTSTART;TZID=America/Chicago:20260301T150000
DTEND;TZID=America/Chicago:20260301T170000
DTSTAMP:20260425T105218
CREATED:20260212T151207Z
LAST-MODIFIED:20260212T151207Z
UID:10005983-1772377200-1772384400@visitjacksontn.com
SUMMARY:A Thing of Beauty
DESCRIPTION:“A Thing of Beauty” is a powerful drama inspired by a few pivotal days in the life of Edith Stein\, told through the character of Sarah Weiss\, also known as Sister Fransisca. Set within the receiving room of a convent\, the play explores faith\, identity\, and moral courage in the face of Nazi persecution. \n  \nThis production is staged inside a church chapel\, allowing the space itself to become the world of the play. The performance embraces simplicity and reverence\, drawing focus to the actors\, the text\, and the spiritual tension at the heart of the story. Original music and restrained visual design underscore the interior lives of these women as they wrestle with truth in a time of unspeakable danger. At its core\, “A Thing of Beauty” is about faith hard-won and fiercely-held\, the cost of conviction\, and the quiet courage required to remain faithful when the world demands silence. \n  \nContent Advisory: This production includes references to antisemitism\, anti-Jewish rhetoric\, and the realities of Nazi persecution\, which may be distressing for some audience members. \n  \nDoors open half an hour prior to the performance.
URL:https://visitjacksontn.com/event/a-thing-of-beauty/2026-03-01/
LOCATION:First Methodist – Downtown Jackson\, TN\, 200 S. Church St\, Jackson\, TN\, 38301\, United States
CATEGORIES:Events,History
ATTACH;FMTTYPE=image/png:https://visitjacksontn.com/wp-content/uploads/Screenshot-2026-02-12-090435.png
END:VEVENT
BEGIN:VEVENT
DTSTART;TZID=America/Chicago:20260306T190000
DTEND;TZID=America/Chicago:20260306T190000
DTSTAMP:20260425T105218
CREATED:20251112T183108Z
LAST-MODIFIED:20251112T183108Z
UID:10005763-1772823600-1772823600@visitjacksontn.com
SUMMARY:Miss Teen Volunteer America: Preliminary Night 2
DESCRIPTION:Mark your calendars for the Miss Teen Volunteer America Pageant! The event kicks off with two nights of preliminary competitions\, leading up to the final evening when Miss Teen Volunteer 2026\, Izzy Karns\, will crown her successor. \nFor more details\, visit missvolunteeramerica.net.
URL:https://visitjacksontn.com/event/miss-teen-volunteer-america-preliminary-night-2-3/
LOCATION:Carl Perkins Civic Center\, 400 South Highland Avenue\, Jackson\, TN\, 38301\, United States
CATEGORIES:Events
ATTACH;FMTTYPE=image/webp:https://visitjacksontn.com/wp-content/uploads/QUEEN-31-1.webp
END:VEVENT
BEGIN:VEVENT
DTSTART;TZID=America/Chicago:20260306T203000
DTEND;TZID=America/Chicago:20260306T203000
DTSTAMP:20260425T105218
CREATED:20260224T201833Z
LAST-MODIFIED:20260224T201833Z
UID:10006021-1772829000-1772829000@visitjacksontn.com
SUMMARY:Karaoke on Tap!
DESCRIPTION:Grab your friends and come have a fun night singing karaoke! \n  \n18+
URL:https://visitjacksontn.com/event/karaoke-on-tap-4/
LOCATION:Hub City Brewing\, 250 West Main Street\, Jackson\, TN\, 38301\, United States
CATEGORIES:Events,Music
ATTACH;FMTTYPE=image/jpeg:https://visitjacksontn.com/wp-content/uploads/638138778_1556490563149620_984837238671777090_n.jpg
END:VEVENT
BEGIN:VEVENT
DTSTART;TZID=America/Chicago:20260312T170000
DTEND;TZID=America/Chicago:20260312T190000
DTSTAMP:20260425T105218
CREATED:20260223T170416Z
LAST-MODIFIED:20260223T170416Z
UID:10006012-1773334800-1773342000@visitjacksontn.com
SUMMARY:Pictures & Poems
DESCRIPTION:Join us on March 12 from 5pm to 7pm to celebrate the opening of Pictures & Poems. Pictures & Poems is a collaborative exhibition bringing together contemporary photography and poetry in partnership with Little Oak Press\, the Charlottesville\, Virginia based publisher known for championing intimate\, place-driven books and magazines. Pictures & Poems explores the resonant dialogue between image and text\, highlighting how photographs and poems can operate as parallel forms of storytelling. Each art form is shaped by memory\, place\, and emotional experience in distinct yet complementary ways. The exhibition features photographs by Matt Eich\, Al J. Thompson\, Ash Adams\, and Ocean Vuong\, alongside poems by Doug Van Gundy\, Tanio M. McCallum\, Ash Adams\, and Ocean Vuong. Together\, these artists blur the boundaries between visual and literary practices\, inviting viewers to slow down and consider how meaning emerges through careful looking and attentive reading. Light snacks and a decaf coffee bar will be available\, so we hope to see you there!
URL:https://visitjacksontn.com/event/pictures-poems/
LOCATION:The Carnegie Center for Arts and History\, 305 E. College Street\, Jackson\, T\, 38301\, United States
CATEGORIES:Arts & Culture,Events
ATTACH;FMTTYPE=image/jpeg:https://visitjacksontn.com/wp-content/uploads/632567823_122174430356595406_5795261036879779302_n.jpg
END:VEVENT
BEGIN:VEVENT
DTSTART;TZID=America/Chicago:20260313T203000
DTEND;TZID=America/Chicago:20260313T203000
DTSTAMP:20260425T105218
CREATED:20260224T201447Z
LAST-MODIFIED:20260224T201447Z
UID:10006020-1773433800-1773433800@visitjacksontn.com
SUMMARY:Karaoke on Tap!
DESCRIPTION:Grab your friends and come have a fun night singing karaoke! \n  \n18+
URL:https://visitjacksontn.com/event/karaoke-on-tap-3/
LOCATION:Hub City Brewing\, 250 West Main Street\, Jackson\, TN\, 38301\, United States
CATEGORIES:Events,Music
ATTACH;FMTTYPE=image/jpeg:https://visitjacksontn.com/wp-content/uploads/638138778_1556490563149620_984837238671777090_n.jpg
END:VEVENT
BEGIN:VEVENT
DTSTART;TZID=America/Chicago:20260316T083000
DTEND;TZID=America/Chicago:20260320T163000
DTSTAMP:20260425T105218
CREATED:20260204T222931Z
LAST-MODIFIED:20260204T222931Z
UID:10005959-1773649800-1774024200@visitjacksontn.com
SUMMARY:The NED Spring Break Camp!
DESCRIPTION:Welcome to the sign-ups for the Ned’s Spring Break Performing Arts Camp for ages 6-12! Camp will take place March 16 – 20\, Monday through Friday\, from 9 AM to 4:30 PM. \nDrop off starts at 8:30 am and pick up starts at 4:15 pm. \nCampers will spend the week learning about theatre with the Ned Staff. With games\, scenes\, and songs\, campers will practice performance skills in voice\, diction\, movement\, and teamwork – all culminating in a performance on Friday\, March 20\, at 6 PM of Disney’s Finding Nemo KIDS! \nUse the ticket link to sign up or copy and paste this link to your browser: https://forms.gle/Lw41wCq3bscrsWB98 \nIf you are interested in a Scholarship to the camp or have multiple campers in your family\, please call us at (731) 425-8397. \nSee you at Camp!
URL:https://visitjacksontn.com/event/the-ned-spring-break-camp/
LOCATION:The NED\, 314 East Main Street\, Jackson\, TN\, 38301\, United States
CATEGORIES:Arts & Culture,Events,Music
ATTACH;FMTTYPE=image/png:https://visitjacksontn.com/wp-content/uploads/Screenshot-2026-02-04-162421.png
END:VEVENT
BEGIN:VEVENT
DTSTART;TZID=America/Chicago:20260319T180000
DTEND;TZID=America/Chicago:20260319T203000
DTSTAMP:20260425T105218
CREATED:20260113T185010Z
LAST-MODIFIED:20260121T165504Z
UID:10005847-1773943200-1773952200@visitjacksontn.com
SUMMARY:Hope's House
DESCRIPTION:The Jackson Arts Council is excited to present “Hope’s House”! Get ready to enjoy a night of storytelling and songs from one of Jackson’s premier songwriters\, Hope MacGregor! \nTIME: Doors open at 6PM\, event starts at 6:45PM \nTicket link is below or text “hopeshouse” to 50155 \nSeats are limited \nSponsorship opportunities are available \nSave the date so you don’t forget! \nhttps://secure.qgiv.com/…/jacksonarts…/event/hopeshouse/  \nwww.731arts.com  \nThis will be an event you do not want to miss!
URL:https://visitjacksontn.com/event/hopes-house/
LOCATION:Carl Perkins Civic Center\, 400 South Highland Avenue\, Jackson\, TN\, 38301\, United States
CATEGORIES:Events,Music
ATTACH;FMTTYPE=image/jpeg:https://visitjacksontn.com/wp-content/uploads/615202513_1523576319770283_1121525061448250330_n.jpg
END:VEVENT
BEGIN:VEVENT
DTSTART;TZID=America/Chicago:20260320T203000
DTEND;TZID=America/Chicago:20260320T203000
DTSTAMP:20260425T105218
CREATED:20260224T201949Z
LAST-MODIFIED:20260224T201949Z
UID:10006022-1774038600-1774038600@visitjacksontn.com
SUMMARY:Karaoke on Tap!
DESCRIPTION:Grab your friends and come have a fun night singing karaoke! \n  \n18+
URL:https://visitjacksontn.com/event/karaoke-on-tap-5/
LOCATION:Hub City Brewing\, 250 West Main Street\, Jackson\, TN\, 38301\, United States
CATEGORIES:Events,Music
ATTACH;FMTTYPE=image/jpeg:https://visitjacksontn.com/wp-content/uploads/638138778_1556490563149620_984837238671777090_n.jpg
END:VEVENT
BEGIN:VEVENT
DTSTART;TZID=America/Chicago:20260321T120000
DTEND;TZID=America/Chicago:20260321T120000
DTSTAMP:20260425T105218
CREATED:20260128T225039Z
LAST-MODIFIED:20260128T225039Z
UID:10005939-1774094400-1774094400@visitjacksontn.com
SUMMARY:GOAT YOGA
DESCRIPTION:Hosted by 2 Hearts Ranch \nQuestions or to reserve your spot text 731-845-6524
URL:https://visitjacksontn.com/event/goat-yoga/
LOCATION:Groovy Roots\, 114 E Lafayette St\, Jackson\, TN\, 38301\, United States
CATEGORIES:Events
ATTACH;FMTTYPE=image/png:https://visitjacksontn.com/wp-content/uploads/Screenshot-2026-01-28-163910.png
END:VEVENT
BEGIN:VEVENT
DTSTART;TZID=America/Chicago:20260321T200000
DTEND;TZID=America/Chicago:20260321T230000
DTSTAMP:20260425T105218
CREATED:20260224T223806Z
LAST-MODIFIED:20260224T223806Z
UID:10006023-1774123200-1774134000@visitjacksontn.com
SUMMARY:Pressed & Poetic
DESCRIPTION:Saxophone melodies curling through candlelight\, poetry spilling soft and slow between sips of handcrafted mocktails. March 21 Crystal’s Zen and Juice … every note will feel like a deep exhale! And thanks to City of Jackson\, TN – Government and Jackson\, TN Neighborhood Services this event is free but because of space limitations you must register! \nRegistration links Pressed and Poetic (Jazz Edition) · Luma
URL:https://visitjacksontn.com/event/pressed-poetic-2/
LOCATION:Crystal’s Zen and Juice\, 580 S. Royal St.\, Jackson\, TN\, 38301\, United States
CATEGORIES:Events
ATTACH;FMTTYPE=image/jpeg:https://visitjacksontn.com/wp-content/uploads/640609393_907657542021336_4418326006047280879_n.jpg
END:VEVENT
BEGIN:VEVENT
DTSTART;TZID=America/Chicago:20260326T180000
DTEND;TZID=America/Chicago:20260326T210000
DTSTAMP:20260425T105218
CREATED:20260120T183856Z
LAST-MODIFIED:20260120T185808Z
UID:10005935-1774548000-1774558800@visitjacksontn.com
SUMMARY:West Tn Go Red for Women
DESCRIPTION:Go Red for Women is the American Heart Association’s signature women’s initiative\, dedicated to raising awareness of cardiovascular disease as the leading cause of death in women.Life moves fast for women — family\, careers\, calendars and commitments never slow down. But when it comes to our health\, delays are no longer an option. This is where community and connection meet action. \nIn West Tennennesser\, we’re acting for our health\, our future and every woman we love. We’re not waiting. We’re not slowing down. Red Means GO.
URL:https://visitjacksontn.com/event/west-tn-go-red-for-women/
LOCATION:Carl Perkins Civic Center\, 400 South Highland Avenue\, Jackson\, TN\, 38301\, United States
CATEGORIES:Events
ATTACH;FMTTYPE=image/png:https://visitjacksontn.com/wp-content/uploads/GRFW_LOGO_CMYK_RedBlack-1.png
END:VEVENT
BEGIN:VEVENT
DTSTART;TZID=America/Chicago:20260328T090000
DTEND;TZID=America/Chicago:20260328T160000
DTSTAMP:20260425T105218
CREATED:20260105T221125Z
LAST-MODIFIED:20260121T165314Z
UID:10005802-1774688400-1774713600@visitjacksontn.com
SUMMARY:15th Annual Motor Mania Car Show
DESCRIPTION:**RAIN OR SHINE EVENT!** – CASH ONLY EVENT \nThe 15th Annual Thomas Media Motor Mania Car Show is going to be held on Saturday\, March 28th\, 2026 from 9:00am – 4:00pm at the Jackson Fairgrounds Park! Regular Admission is $5! Kids 5 and under are FREE! This event is sponsored by VICTORY HONDA OF JACKSON\, Thomas Media Family- WYN 106.9\, 102.3 The Rocket\, STAR 107.7\, 96 KIX\, and HOT 96.1\, BRONSON’S AUTO BOUTIQUE\, TENNESSEE GUTTER PROS\, & FIRST CITIZENS NATIONAL BANK! \nThe first 300 kids receive a free hot wheel! Music by BANDANA! Showing includes the best in Custom\, Classic\, Hot Rods\, Exotics\, Imports\, Motorcycles\, and more! Every ticket is a vote for your favorite car! \nTrophy categories include Top 20 Cars / Trucks\, Top 5 SUVs\, Most Club Participation\, and Most Unique. Silver Cup categories include Best of Show Car\, Best of Show Truck\, Best of Show Motorcycle\, Best of Show SUV\, Best Classic\, Best Modern\, and Best Overall. \nFor more information visit http://www.wyn1069.com/motormania/
URL:https://visitjacksontn.com/event/15th-annual-motor-mania-car-show/
LOCATION:Jackson Fairgrounds\, 800 S. Highland Ave\, Jackson\, TN\, 38301\, United States
CATEGORIES:Events
ATTACH;FMTTYPE=image/jpeg:https://visitjacksontn.com/wp-content/uploads/590299252_1434509492015007_1648015331852580891_n.jpg
END:VEVENT
END:VCALENDAR