BEGIN:VCALENDAR
VERSION:2.0
PRODID:-//Jackson Tourism - ECPv6.15.20//NONSGML v1.0//EN
CALSCALE:GREGORIAN
METHOD:PUBLISH
X-WR-CALNAME:Jackson Tourism
X-ORIGINAL-URL:https://visitjacksontn.com
X-WR-CALDESC:Events for Jackson Tourism
REFRESH-INTERVAL;VALUE=DURATION:PT1H
X-Robots-Tag:noindex
X-PUBLISHED-TTL:PT1H
BEGIN:VTIMEZONE
TZID:America/Chicago
BEGIN:DAYLIGHT
TZOFFSETFROM:-0600
TZOFFSETTO:-0500
TZNAME:CDT
DTSTART:20240310T080000
END:DAYLIGHT
BEGIN:STANDARD
TZOFFSETFROM:-0500
TZOFFSETTO:-0600
TZNAME:CST
DTSTART:20241103T070000
END:STANDARD
BEGIN:DAYLIGHT
TZOFFSETFROM:-0600
TZOFFSETTO:-0500
TZNAME:CDT
DTSTART:20250309T080000
END:DAYLIGHT
BEGIN:STANDARD
TZOFFSETFROM:-0500
TZOFFSETTO:-0600
TZNAME:CST
DTSTART:20251102T070000
END:STANDARD
BEGIN:DAYLIGHT
TZOFFSETFROM:-0600
TZOFFSETTO:-0500
TZNAME:CDT
DTSTART:20260308T080000
END:DAYLIGHT
BEGIN:STANDARD
TZOFFSETFROM:-0500
TZOFFSETTO:-0600
TZNAME:CST
DTSTART:20261101T070000
END:STANDARD
END:VTIMEZONE
BEGIN:VEVENT
DTSTART;TZID=America/Chicago:20250830T183000
DTEND;TZID=America/Chicago:20250830T220000
DTSTAMP:20260425T094913
CREATED:20250812T212133Z
LAST-MODIFIED:20250812T212438Z
UID:10005693-1756578600-1756591200@visitjacksontn.com
SUMMARY:Sloppy Seconds Album Release Show with Hope MacGregor
DESCRIPTION:This album release show is not one to miss!  \nDinner tickets include a taco bar\, starting at 6:30 pm. Show kicks off at 7:30 pm! Doors open at 6:00. \nHub City Brewing is a CARD ONLY Venue! \nHope MacGregor is a Jackson-based singer-songwriter with an honest story to tell — and she can’t wait for you to hear it! Join Hope and friends for her Album Release Show on August 30th\, 2025. \nMacGregor has made a name for herself from the Carolinas to Colorado as a soulful songwriter with a penchant for finding humor in life’s heartbreak and helping the lonely feel less alone — she writes songs that sound like home. In 2023\, Hope released her debut studio album\, the Matriarch. Since then\, she’s gone on to tour nationally and joined festival bills with Grammy-nominated songwriters and artists. \nClick here to purchase tickets.
URL:https://visitjacksontn.com/event/sloppy-seconds-album-release-show-with-hope-macgregor/
LOCATION:Hub City Brewing\, 250 West Main Street\, Jackson\, TN\, 38301\, United States
CATEGORIES:Arts & Culture,Events,Music
ATTACH;FMTTYPE=image/png:https://visitjacksontn.com/wp-content/uploads/Sloppy-Seconds-Album-Release-Show-Poster.png
END:VEVENT
END:VCALENDAR