BEGIN:VCALENDAR
VERSION:2.0
PRODID:-//Jackson Tourism - ECPv6.15.20//NONSGML v1.0//EN
CALSCALE:GREGORIAN
METHOD:PUBLISH
X-WR-CALNAME:Jackson Tourism
X-ORIGINAL-URL:https://visitjacksontn.com
X-WR-CALDESC:Events for Jackson Tourism
REFRESH-INTERVAL;VALUE=DURATION:PT1H
X-Robots-Tag:noindex
X-PUBLISHED-TTL:PT1H
BEGIN:VTIMEZONE
TZID:America/Chicago
BEGIN:DAYLIGHT
TZOFFSETFROM:-0600
TZOFFSETTO:-0500
TZNAME:CDT
DTSTART:20240310T080000
END:DAYLIGHT
BEGIN:STANDARD
TZOFFSETFROM:-0500
TZOFFSETTO:-0600
TZNAME:CST
DTSTART:20241103T070000
END:STANDARD
BEGIN:DAYLIGHT
TZOFFSETFROM:-0600
TZOFFSETTO:-0500
TZNAME:CDT
DTSTART:20250309T080000
END:DAYLIGHT
BEGIN:STANDARD
TZOFFSETFROM:-0500
TZOFFSETTO:-0600
TZNAME:CST
DTSTART:20251102T070000
END:STANDARD
BEGIN:DAYLIGHT
TZOFFSETFROM:-0600
TZOFFSETTO:-0500
TZNAME:CDT
DTSTART:20260308T080000
END:DAYLIGHT
BEGIN:STANDARD
TZOFFSETFROM:-0500
TZOFFSETTO:-0600
TZNAME:CST
DTSTART:20261101T070000
END:STANDARD
END:VTIMEZONE
BEGIN:VEVENT
DTSTART;VALUE=DATE:20251017
DTEND;VALUE=DATE:20251020
DTSTAMP:20260423T003251
CREATED:20250121T153007Z
LAST-MODIFIED:20250121T153007Z
UID:10005210-1760659200-1760918399@visitjacksontn.com
SUMMARY:David Crockett Homestead and Heritage Festival
DESCRIPTION:Step back in time at the David Crockett Homestead and Heritage Festival! \nThis exciting event brings together artisans\, crafters\, and history enthusiasts to celebrate traditional crafts and heritage. On Friday\, October 17\, enjoy live craft demonstrations by skilled artisans for students and visitors. From October 17-19\, explore the marketplace filled with unique\, handcrafted goods. \nApplications are open until August 31\, 2025. Apply today at https://forms.microsoft.com/r/bUCXVu6eg6. For more information\, contact euselton@discoveryparkofamerica.com.
URL:https://visitjacksontn.com/event/david-crockett-homestead-and-heritage-festival/
LOCATION:Discovery Park of America\, 830 Everett Boulevard\, Union City\, TN\, 38261\, United States
CATEGORIES:Arts & Culture,Events,History & Civil War
ATTACH;FMTTYPE=image/jpeg:https://visitjacksontn.com/wp-content/uploads/HAHF-960x540-1-2048x1152-1.jpg
END:VEVENT
END:VCALENDAR