BEGIN:VCALENDAR
VERSION:2.0
PRODID:-//Jackson Tourism - ECPv6.15.20//NONSGML v1.0//EN
CALSCALE:GREGORIAN
METHOD:PUBLISH
X-WR-CALNAME:Jackson Tourism
X-ORIGINAL-URL:https://visitjacksontn.com
X-WR-CALDESC:Events for Jackson Tourism
REFRESH-INTERVAL;VALUE=DURATION:PT1H
X-Robots-Tag:noindex
X-PUBLISHED-TTL:PT1H
BEGIN:VTIMEZONE
TZID:America/Chicago
BEGIN:DAYLIGHT
TZOFFSETFROM:-0600
TZOFFSETTO:-0500
TZNAME:CDT
DTSTART:20240310T080000
END:DAYLIGHT
BEGIN:STANDARD
TZOFFSETFROM:-0500
TZOFFSETTO:-0600
TZNAME:CST
DTSTART:20241103T070000
END:STANDARD
BEGIN:DAYLIGHT
TZOFFSETFROM:-0600
TZOFFSETTO:-0500
TZNAME:CDT
DTSTART:20250309T080000
END:DAYLIGHT
BEGIN:STANDARD
TZOFFSETFROM:-0500
TZOFFSETTO:-0600
TZNAME:CST
DTSTART:20251102T070000
END:STANDARD
BEGIN:DAYLIGHT
TZOFFSETFROM:-0600
TZOFFSETTO:-0500
TZNAME:CDT
DTSTART:20260308T080000
END:DAYLIGHT
BEGIN:STANDARD
TZOFFSETFROM:-0500
TZOFFSETTO:-0600
TZNAME:CST
DTSTART:20261101T070000
END:STANDARD
END:VTIMEZONE
BEGIN:VEVENT
DTSTART;TZID=America/Chicago:20250726T190000
DTEND;TZID=America/Chicago:20250726T190000
DTSTAMP:20260423T064950
CREATED:20250318T181315Z
LAST-MODIFIED:20250512T214500Z
UID:10005569-1753556400-1753556400@visitjacksontn.com
SUMMARY:Yung Gravy at Rockabillys Stadium
DESCRIPTION:The Jackson Rockabillys are excited to announce that renowned hip-hop artist Yung Gravy will be performing live at Jackson Rockabilly Stadium! \nYung Gravy\, also known as Matthew Hauri\, hails from Rochester\, Minnesota. He burst onto the music scene in 2016 and has since released several successful albums and EPs. Drawing from a diverse array of influences\, Yung Gravy seamlessly mixes modern hip-hop with classic samples from the ’50s and ’60s\, creating a sound that is both fresh and nostalgic. \nLocal favorite DJ Von and Yung Gravy’s DJ Tiiiiiiiiiip will kick off the night with high-energy performances\, setting the stage for an unforgettable concert experience before the main event. \nThis highly anticipated concert promises to be an unforgettable evening of music\, energy\, and entertainment. Tickets will go on sale on Friday\, March 21st at 8:00am at www.rockbillysbaseball.com under concerts.
URL:https://visitjacksontn.com/event/yung-gravy-at-rockabillys-stadium/
LOCATION:Jackson Rockabillys Stadium\, 4 Fun Place\, Jackson\, TN\, 38305\, United States
CATEGORIES:Events,Music
ATTACH;FMTTYPE=image/jpeg:https://visitjacksontn.com/wp-content/uploads/YGTOUR2025_-_SQUARE_-6-.jpg
END:VEVENT
END:VCALENDAR