BEGIN:VCALENDAR
VERSION:2.0
PRODID:-//Jackson Tourism - ECPv6.15.20//NONSGML v1.0//EN
CALSCALE:GREGORIAN
METHOD:PUBLISH
X-ORIGINAL-URL:https://visitjacksontn.com
X-WR-CALDESC:Events for Jackson Tourism
REFRESH-INTERVAL;VALUE=DURATION:PT1H
X-Robots-Tag:noindex
X-PUBLISHED-TTL:PT1H
BEGIN:VTIMEZONE
TZID:America/Chicago
BEGIN:DAYLIGHT
TZOFFSETFROM:-0600
TZOFFSETTO:-0500
TZNAME:CDT
DTSTART:20240310T080000
END:DAYLIGHT
BEGIN:STANDARD
TZOFFSETFROM:-0500
TZOFFSETTO:-0600
TZNAME:CST
DTSTART:20241103T070000
END:STANDARD
BEGIN:DAYLIGHT
TZOFFSETFROM:-0600
TZOFFSETTO:-0500
TZNAME:CDT
DTSTART:20250309T080000
END:DAYLIGHT
BEGIN:STANDARD
TZOFFSETFROM:-0500
TZOFFSETTO:-0600
TZNAME:CST
DTSTART:20251102T070000
END:STANDARD
BEGIN:DAYLIGHT
TZOFFSETFROM:-0600
TZOFFSETTO:-0500
TZNAME:CDT
DTSTART:20260308T080000
END:DAYLIGHT
BEGIN:STANDARD
TZOFFSETFROM:-0500
TZOFFSETTO:-0600
TZNAME:CST
DTSTART:20261101T070000
END:STANDARD
END:VTIMEZONE
BEGIN:VEVENT
DTSTART;TZID=America/Chicago:20250531T190000
DTEND;TZID=America/Chicago:20250531T230000
DTSTAMP:20260422T193713
CREATED:20250307T162012Z
LAST-MODIFIED:20250307T162012Z
UID:10005365-1748718000-1748732400@visitjacksontn.com
SUMMARY:Corey Smith
DESCRIPTION:Get ready for an unforgettable night with Corey Smith at Hub City Brewing! \nWith over a million concert tickets sold and a devoted fan base across the country\, Corey has built his career on raw storytelling and energetic performances. Known for hits like Twenty-One\, If I Could Do It Again\, and I Love Everyone\, he captivates audiences with honest lyrics and powerful melodies. Now\, he’s back on the road\, bringing songs from his latest album\, Suburban Drawl\, including the new single Cellophane. Doors open at 7:00 PM\, and the show kicks off at 8:30 PM. Hub City Brewing is a card only venue\, so plan accordingly. \nDon’t miss your chance to experience Corey Smith live—grab your tickets now!
URL:https://visitjacksontn.com/event/corey-smith/
LOCATION:Hub City Brewing\, 250 West Main Street\, Jackson\, TN\, 38301\, United States
CATEGORIES:Events,Music
ATTACH;FMTTYPE=image/png:https://visitjacksontn.com/wp-content/uploads/74d3701c-f538-4a82-a623-8b659aeda3fb.png
END:VEVENT
END:VCALENDAR