BEGIN:VCALENDAR
VERSION:2.0
PRODID:-//Jackson Tourism - ECPv6.15.20//NONSGML v1.0//EN
CALSCALE:GREGORIAN
METHOD:PUBLISH
X-WR-CALNAME:Jackson Tourism
X-ORIGINAL-URL:https://visitjacksontn.com
X-WR-CALDESC:Events for Jackson Tourism
REFRESH-INTERVAL;VALUE=DURATION:PT1H
X-Robots-Tag:noindex
X-PUBLISHED-TTL:PT1H
BEGIN:VTIMEZONE
TZID:America/Chicago
BEGIN:DAYLIGHT
TZOFFSETFROM:-0600
TZOFFSETTO:-0500
TZNAME:CDT
DTSTART:20240310T080000
END:DAYLIGHT
BEGIN:STANDARD
TZOFFSETFROM:-0500
TZOFFSETTO:-0600
TZNAME:CST
DTSTART:20241103T070000
END:STANDARD
BEGIN:DAYLIGHT
TZOFFSETFROM:-0600
TZOFFSETTO:-0500
TZNAME:CDT
DTSTART:20250309T080000
END:DAYLIGHT
BEGIN:STANDARD
TZOFFSETFROM:-0500
TZOFFSETTO:-0600
TZNAME:CST
DTSTART:20251102T070000
END:STANDARD
BEGIN:DAYLIGHT
TZOFFSETFROM:-0600
TZOFFSETTO:-0500
TZNAME:CDT
DTSTART:20260308T080000
END:DAYLIGHT
BEGIN:STANDARD
TZOFFSETFROM:-0500
TZOFFSETTO:-0600
TZNAME:CST
DTSTART:20261101T070000
END:STANDARD
END:VTIMEZONE
BEGIN:VEVENT
DTSTART;TZID=America/Chicago:20250306T190000
DTEND;TZID=America/Chicago:20250306T190000
DTSTAMP:20260423T045610
CREATED:20250224T185350Z
LAST-MODIFIED:20250224T185400Z
UID:10005289-1741287600-1741287600@visitjacksontn.com
SUMMARY:Lambuth Pop Ensemble Winter Concert
DESCRIPTION:Get ready for an electrifying night at the Lambuth Pop Ensemble Winter Concert! \nPresented by the University of Memphis – Lambuth Music & Entertainment Program\, this high-energy performance will feature the most pop and mainstream hits yet—guaranteed to have you singing along! Enjoy an unforgettable evening of music and free entry.
URL:https://visitjacksontn.com/event/lambuth-pop-ensemble-winter-concert/
LOCATION:Hamilton Center for the Performing Arts\, Lambuth Campus\, 220 Maple Street\, Dresden\, TN\, 38225\, United States
CATEGORIES:Arts & Culture,Events,Music
ATTACH;FMTTYPE=image/jpeg:https://visitjacksontn.com/wp-content/uploads/480582020_10111583090525745_9089648114354267555_n.jpg
END:VEVENT
BEGIN:VEVENT
DTSTART;TZID=America/Chicago:20250308T190000
DTEND;TZID=America/Chicago:20250308T230000
DTSTAMP:20260423T045610
CREATED:20250121T192736Z
LAST-MODIFIED:20250121T192736Z
UID:10005214-1741460400-1741474800@visitjacksontn.com
SUMMARY:Creed Fisher - Between Heaven and Hell Tour
DESCRIPTION:Don’t miss Creed Fisher’s Between Heaven and Hell Tour! \nDoors open at 7:00 PM\, with the show starting at 8:30 PM. A rising star in the Outlaw Country scene\, Fisher’s unique sound blends traditional country with modern elements\, all wrapped in raw\, authentic storytelling. With nearly 100 million Spotify streams and 60 million YouTube views\, Creed’s music is a testament to his hard-working\, patriotic spirit. This is a must-see night for country music fans.
URL:https://visitjacksontn.com/event/creed-fisher-between-heaven-and-hell-tour/
LOCATION:Hub City Brewing\, 250 West Main Street\, Jackson\, TN\, 38301\, United States
CATEGORIES:Events,Music
ATTACH;FMTTYPE=image/jpeg:https://visitjacksontn.com/wp-content/uploads/4fcd60d9-e126-4b71-908b-bb2ea279a478.jpg
END:VEVENT
BEGIN:VEVENT
DTSTART;TZID=America/Chicago:20250311T190000
DTEND;TZID=America/Chicago:20250311T190000
DTSTAMP:20260423T045610
CREATED:20250224T190824Z
LAST-MODIFIED:20250224T190832Z
UID:10005291-1741719600-1741719600@visitjacksontn.com
SUMMARY:FHU Legacy Symphonic Wind Ensemble and Jazz Concerts
DESCRIPTION:Experience the energy and artistry of the FHU Legacy Symphonic Wind and Jazz Ensembles as they unite for a spectacular performance! \nFrom bold brass fanfares to smooth jazz rhythms\, this concert promises an electrifying night of live music. Don’t miss this one-of-a-kind musical event! \n 
URL:https://visitjacksontn.com/event/fhu-legacy-symphonic-wind-ensemble-and-jazz-concerts/
LOCATION:Draughon Center for the Musical Arts\, 158 E Main St\, Henderson\, TN\, 38340\, United States
CATEGORIES:Arts & Culture,Events,Music
ATTACH;FMTTYPE=image/jpeg:https://visitjacksontn.com/wp-content/uploads/479188016_1032412485581037_7435601374838168922_n.jpg
END:VEVENT
END:VCALENDAR