BEGIN:VCALENDAR
VERSION:2.0
PRODID:-//Jackson Tourism - ECPv6.15.20//NONSGML v1.0//EN
CALSCALE:GREGORIAN
METHOD:PUBLISH
X-WR-CALNAME:Jackson Tourism
X-ORIGINAL-URL:https://visitjacksontn.com
X-WR-CALDESC:Events for Jackson Tourism
REFRESH-INTERVAL;VALUE=DURATION:PT1H
X-Robots-Tag:noindex
X-PUBLISHED-TTL:PT1H
BEGIN:VTIMEZONE
TZID:America/Chicago
BEGIN:DAYLIGHT
TZOFFSETFROM:-0600
TZOFFSETTO:-0500
TZNAME:CDT
DTSTART:20230312T080000
END:DAYLIGHT
BEGIN:STANDARD
TZOFFSETFROM:-0500
TZOFFSETTO:-0600
TZNAME:CST
DTSTART:20231105T070000
END:STANDARD
BEGIN:DAYLIGHT
TZOFFSETFROM:-0600
TZOFFSETTO:-0500
TZNAME:CDT
DTSTART:20240310T080000
END:DAYLIGHT
BEGIN:STANDARD
TZOFFSETFROM:-0500
TZOFFSETTO:-0600
TZNAME:CST
DTSTART:20241103T070000
END:STANDARD
BEGIN:DAYLIGHT
TZOFFSETFROM:-0600
TZOFFSETTO:-0500
TZNAME:CDT
DTSTART:20250309T080000
END:DAYLIGHT
BEGIN:STANDARD
TZOFFSETFROM:-0500
TZOFFSETTO:-0600
TZNAME:CST
DTSTART:20251102T070000
END:STANDARD
END:VTIMEZONE
BEGIN:VEVENT
DTSTART;VALUE=DATE:20241213
DTEND;VALUE=DATE:20241215
DTSTAMP:20260423T021634
CREATED:20241107T152151Z
LAST-MODIFIED:20241107T152151Z
UID:10002846-1734048000-1734220799@visitjacksontn.com
SUMMARY:Christmas in the Park
DESCRIPTION:The beloved holiday tradition of Christmas in the Park at Pickwick Landing State Park is happening this holiday season! Don’t miss out on the annual Holiday Mart inside the Pickwick Lodge Conference Center on Friday from noon-9 p.m. and Saturday from 10 a.m.-9 p.m. \nEnjoy free carriage and wagon rides each night through the park’s beautiful\, lighted displays. Families can also delight in bedtime stories with the elves every evening\, a TN RiverLine Christmas Along the River hike on Saturday morning\, and so much more festive fun! \nFor accommodations\, please contact Pickwick Landing State Park at 731-689-3135. For additional event details\, reach out to the Hardin County Chamber of Commerce at 731-925-2363.
URL:https://visitjacksontn.com/event/christmas-in-the-park-2/
LOCATION:Pickwick Landing State Park\, 116 State Park Lane\, Counce\, TN\, 38326\, United States
CATEGORIES:Events
ATTACH;FMTTYPE=image/png:https://visitjacksontn.com/wp-content/uploads/244717244_1703430619865976_5095169278317926191_n.png
GEO:35.0512585;-88.2396876
X-APPLE-STRUCTURED-LOCATION;VALUE=URI;X-ADDRESS=Pickwick Landing State Park 116 State Park Lane Counce TN 38326 United States;X-APPLE-RADIUS=500;X-TITLE=116 State Park Lane:geo:-88.2396876,35.0512585
END:VEVENT
END:VCALENDAR