BEGIN:VCALENDAR
VERSION:2.0
PRODID:-//Jackson Tourism - ECPv6.15.18//NONSGML v1.0//EN
CALSCALE:GREGORIAN
METHOD:PUBLISH
X-WR-CALNAME:Jackson Tourism
X-ORIGINAL-URL:https://visitjacksontn.com
X-WR-CALDESC:Events for Jackson Tourism
REFRESH-INTERVAL;VALUE=DURATION:PT1H
X-Robots-Tag:noindex
X-PUBLISHED-TTL:PT1H
BEGIN:VTIMEZONE
TZID:America/Chicago
BEGIN:DAYLIGHT
TZOFFSETFROM:-0600
TZOFFSETTO:-0500
TZNAME:CDT
DTSTART:20240310T080000
END:DAYLIGHT
BEGIN:STANDARD
TZOFFSETFROM:-0500
TZOFFSETTO:-0600
TZNAME:CST
DTSTART:20241103T070000
END:STANDARD
BEGIN:DAYLIGHT
TZOFFSETFROM:-0600
TZOFFSETTO:-0500
TZNAME:CDT
DTSTART:20250309T080000
END:DAYLIGHT
BEGIN:STANDARD
TZOFFSETFROM:-0500
TZOFFSETTO:-0600
TZNAME:CST
DTSTART:20251102T070000
END:STANDARD
BEGIN:DAYLIGHT
TZOFFSETFROM:-0600
TZOFFSETTO:-0500
TZNAME:CDT
DTSTART:20260308T080000
END:DAYLIGHT
BEGIN:STANDARD
TZOFFSETFROM:-0500
TZOFFSETTO:-0600
TZNAME:CST
DTSTART:20261101T070000
END:STANDARD
END:VTIMEZONE
BEGIN:VEVENT
DTSTART;TZID=America/Chicago:20251202T171500
DTEND;TZID=America/Chicago:20251202T171500
DTSTAMP:20260420T135920
CREATED:20251110T152222Z
LAST-MODIFIED:20251202T181128Z
UID:10005757-1764695700-1764695700@visitjacksontn.com
SUMMARY:Superhero Christmas
DESCRIPTION:Mark Your Calendars\, Jackson! The annual City of Jackson Christmas Parade is coming Tuesday\, December 2nd— and you won’t want to miss it! \nThis year’s theme is “Superhero Christmas” — so get your capes ready and bring the whole family for an evening of lights\, music\, and holiday cheer. \nDowntown Jackson \nTree Lighting: 5:15 PM at City Hall \nParade Starts: 6:30 PM \nIt’s one of the most magical nights of the year in the Hub City — so go ahead and make plans to be there!
URL:https://visitjacksontn.com/event/superhero-christmas/
LOCATION:Jackson City Hall\, 101 E. Main St.\, Jackson\, TN\, 38301\, United States
CATEGORIES:History
ATTACH;FMTTYPE=image/jpeg:https://visitjacksontn.com/wp-content/uploads/574883269_1340233498114307_1539245600621231397_n.jpg
END:VEVENT
END:VCALENDAR