BEGIN:VCALENDAR
VERSION:2.0
PRODID:-//Jackson Tourism - ECPv6.15.20//NONSGML v1.0//EN
CALSCALE:GREGORIAN
METHOD:PUBLISH
X-WR-CALNAME:Jackson Tourism
X-ORIGINAL-URL:https://visitjacksontn.com
X-WR-CALDESC:Events for Jackson Tourism
REFRESH-INTERVAL;VALUE=DURATION:PT1H
X-Robots-Tag:noindex
X-PUBLISHED-TTL:PT1H
BEGIN:VTIMEZONE
TZID:America/Chicago
BEGIN:DAYLIGHT
TZOFFSETFROM:-0600
TZOFFSETTO:-0500
TZNAME:CDT
DTSTART:20230312T080000
END:DAYLIGHT
BEGIN:STANDARD
TZOFFSETFROM:-0500
TZOFFSETTO:-0600
TZNAME:CST
DTSTART:20231105T070000
END:STANDARD
BEGIN:DAYLIGHT
TZOFFSETFROM:-0600
TZOFFSETTO:-0500
TZNAME:CDT
DTSTART:20240310T080000
END:DAYLIGHT
BEGIN:STANDARD
TZOFFSETFROM:-0500
TZOFFSETTO:-0600
TZNAME:CST
DTSTART:20241103T070000
END:STANDARD
BEGIN:DAYLIGHT
TZOFFSETFROM:-0600
TZOFFSETTO:-0500
TZNAME:CDT
DTSTART:20250309T080000
END:DAYLIGHT
BEGIN:STANDARD
TZOFFSETFROM:-0500
TZOFFSETTO:-0600
TZNAME:CST
DTSTART:20251102T070000
END:STANDARD
END:VTIMEZONE
BEGIN:VEVENT
DTSTART;TZID=America/Chicago:20240829T173000
DTEND;TZID=America/Chicago:20240829T173000
DTSTAMP:20260425T181103
CREATED:20240701T212250Z
LAST-MODIFIED:20240701T212250Z
UID:10002377-1724952600-1724952600@visitjacksontn.com
SUMMARY:Disco Bunco Night
DESCRIPTION:Get ready to boogie down at Century Farm Winery’s Bunco Night on August 29th at 5:30 PM! \nWe’re turning up the disco vibes\, so grab your bell-bottoms and disco balls for a night of retro fun! \nFor just $25\, you can join in on the Bunco excitement and compete for fantastic prizes. Plus\, don’t forget to channel your inner disco diva or disco king because we’re giving away special prizes for the best-dressed participants! \nGather your friends and make it a night to remember filled with laughter and unforgettable memories. Whether you’re a seasoned Bunco player or a newbie\, everyone’s welcome to join in the fun. \nClick here for tickets and more event information.
URL:https://visitjacksontn.com/event/disco-bunco-night/
LOCATION:Century Farm Winery\, 1548 Lower Brownsville Rd.\, Jackson\, TN\, 38301\, United States
CATEGORIES:Events
ATTACH;FMTTYPE=image/jpeg:https://visitjacksontn.com/wp-content/uploads/449143726_992280429569265_1526922462329053535_n.jpg
END:VEVENT
END:VCALENDAR