BEGIN:VCALENDAR
VERSION:2.0
PRODID:-//Jackson Tourism - ECPv6.15.20//NONSGML v1.0//EN
CALSCALE:GREGORIAN
METHOD:PUBLISH
X-ORIGINAL-URL:https://visitjacksontn.com
X-WR-CALDESC:Events for Jackson Tourism
REFRESH-INTERVAL;VALUE=DURATION:PT1H
X-Robots-Tag:noindex
X-PUBLISHED-TTL:PT1H
BEGIN:VTIMEZONE
TZID:America/Chicago
BEGIN:DAYLIGHT
TZOFFSETFROM:-0600
TZOFFSETTO:-0500
TZNAME:CDT
DTSTART:20230312T080000
END:DAYLIGHT
BEGIN:STANDARD
TZOFFSETFROM:-0500
TZOFFSETTO:-0600
TZNAME:CST
DTSTART:20231105T070000
END:STANDARD
BEGIN:DAYLIGHT
TZOFFSETFROM:-0600
TZOFFSETTO:-0500
TZNAME:CDT
DTSTART:20240310T080000
END:DAYLIGHT
BEGIN:STANDARD
TZOFFSETFROM:-0500
TZOFFSETTO:-0600
TZNAME:CST
DTSTART:20241103T070000
END:STANDARD
BEGIN:DAYLIGHT
TZOFFSETFROM:-0600
TZOFFSETTO:-0500
TZNAME:CDT
DTSTART:20250309T080000
END:DAYLIGHT
BEGIN:STANDARD
TZOFFSETFROM:-0500
TZOFFSETTO:-0600
TZNAME:CST
DTSTART:20251102T070000
END:STANDARD
END:VTIMEZONE
BEGIN:VEVENT
DTSTART;TZID=America/Chicago:20240725T170000
DTEND;TZID=America/Chicago:20240725T190000
DTSTAMP:20260425T142906
CREATED:20240423T143117Z
LAST-MODIFIED:20240423T143117Z
UID:10002167-1721926800-1721934000@visitjacksontn.com
SUMMARY:Day in the Life of the Winemaker
DESCRIPTION:Step into the world of winemaking at Century Farm Winery\, where we invite you to experience a Day in the Life of the Winemaker. Immerse yourself in the art and science behind crafting exceptional wines. Your journey begins with a guided tour through our picturesque vineyard\, where Bart will unveil the secrets of vineyard agriculture. Learn about the delicate balance of soil\, climate\, and grape varieties that contribute to the unique character of our wines. Next\, you will venture into the heart of our operation with a tour of the cellar. Here\, you’ll witness firsthand the meticulous process of wine production\, from vine to wine. Discover the intricacies of fermentation\, aging\, and blending. After exploring the vineyard and cellar\, you will retire to our back event room for the grand finale—a flight of our finest wines. \nClick here for more event information.
URL:https://visitjacksontn.com/event/day-in-the-life-of-the-winemaker/
LOCATION:Century Farm Winery\, 1548 Lower Brownsville Rd.\, Jackson\, TN\, 38301\, United States
CATEGORIES:Events
ATTACH;FMTTYPE=image/jpeg:https://visitjacksontn.com/wp-content/uploads/435708405_941427041321271_866318260109683766_n.jpg
END:VEVENT
END:VCALENDAR