BEGIN:VCALENDAR
VERSION:2.0
PRODID:-//Jackson Tourism - ECPv6.15.20//NONSGML v1.0//EN
CALSCALE:GREGORIAN
METHOD:PUBLISH
X-ORIGINAL-URL:https://visitjacksontn.com
X-WR-CALDESC:Events for Jackson Tourism
REFRESH-INTERVAL;VALUE=DURATION:PT1H
X-Robots-Tag:noindex
X-PUBLISHED-TTL:PT1H
BEGIN:VTIMEZONE
TZID:America/Chicago
BEGIN:DAYLIGHT
TZOFFSETFROM:-0600
TZOFFSETTO:-0500
TZNAME:CDT
DTSTART:20230312T080000
END:DAYLIGHT
BEGIN:STANDARD
TZOFFSETFROM:-0500
TZOFFSETTO:-0600
TZNAME:CST
DTSTART:20231105T070000
END:STANDARD
BEGIN:DAYLIGHT
TZOFFSETFROM:-0600
TZOFFSETTO:-0500
TZNAME:CDT
DTSTART:20240310T080000
END:DAYLIGHT
BEGIN:STANDARD
TZOFFSETFROM:-0500
TZOFFSETTO:-0600
TZNAME:CST
DTSTART:20241103T070000
END:STANDARD
BEGIN:DAYLIGHT
TZOFFSETFROM:-0600
TZOFFSETTO:-0500
TZNAME:CDT
DTSTART:20250309T080000
END:DAYLIGHT
BEGIN:STANDARD
TZOFFSETFROM:-0500
TZOFFSETTO:-0600
TZNAME:CST
DTSTART:20251102T070000
END:STANDARD
END:VTIMEZONE
BEGIN:VEVENT
DTSTART;TZID=America/Chicago:20241026T090000
DTEND;TZID=America/Chicago:20241026T170000
DTSTAMP:20260423T155320
CREATED:20240501T164718Z
LAST-MODIFIED:20240501T164718Z
UID:10002191-1729933200-1729962000@visitjacksontn.com
SUMMARY:Century Farm Winery Haunted 5K Run
DESCRIPTION:Registration is open for the Century Farm Haunted Wine Run 5k! Like Running or Walking? Love Wine? This race is for you! \nJoin Century Farm Winery on Saturday\, October 26\, 2024\, at 9:00 am for an exciting Halloween-themed event that features the Winery! At Century Farm Winery\, the entire vine-to-wine process is executed. Grapes are harvested in the gall and go through crushing\, de-stemming\, pressing\, fermenting\, aging\, and bottling to eventually tasting and selling of the finished product. Wine enthusiasts enjoy the warm and inviting atmosphere of tranquil farm life coupled with the exciting tastes of award-winning wines. Century Farm wines include Dry Reds\, Semi-Sweet Red\, White and Blush wines\, Sweet and Fruit wines as well as a Dessert or Port Style wine.. With extra swag options for all wine lovers\, walkers\, and runners\, this race is a sure thing for a great time! This race is timed and scored by J3 Timing. Results will be posted at www.J3Timing.com. \nRegistration Includes:\nT-shirt: Super Soft Ring Spun Cotton t-shirt included!\nWine Glass: Shatterproof\, Collapsible\, and Portable!\nFinisher Medal: Doubles as a Wine Coaster!\nRace Bib: Chip timed 5k run/walk\nResults Posted Online…and of course\, a pour of wine! \nPrice Increase Dates:\n4/29/24 to 8/2/24: $25\n8/3/24 to 9/13/24: $30\n9/14/24 to 9/27/24: $35\n9/28/24 to 10/15/24: $40\n10/16/24 to 10/25/24: $45\nDay of Event: $50 \nClick here for more details and to sign up or click ‘learn more.’
URL:https://visitjacksontn.com/event/century-farm-winery-haunted-5k-run/
LOCATION:Century Farm Winery\, 1548 Lower Brownsville Rd.\, Jackson\, TN\, 38301\, United States
CATEGORIES:Events,Sports & Outdoor
ATTACH;FMTTYPE=image/jpeg:https://visitjacksontn.com/wp-content/uploads/439815588_951166250347350_2321789840666160768_n-e1714581929362.jpg
END:VEVENT
END:VCALENDAR