BEGIN:VCALENDAR
VERSION:2.0
PRODID:-//Jackson Tourism - ECPv6.15.20//NONSGML v1.0//EN
CALSCALE:GREGORIAN
METHOD:PUBLISH
X-ORIGINAL-URL:https://visitjacksontn.com
X-WR-CALDESC:Events for Jackson Tourism
REFRESH-INTERVAL;VALUE=DURATION:PT1H
X-Robots-Tag:noindex
X-PUBLISHED-TTL:PT1H
BEGIN:VTIMEZONE
TZID:America/Chicago
BEGIN:DAYLIGHT
TZOFFSETFROM:-0600
TZOFFSETTO:-0500
TZNAME:CDT
DTSTART:20230312T080000
END:DAYLIGHT
BEGIN:STANDARD
TZOFFSETFROM:-0500
TZOFFSETTO:-0600
TZNAME:CST
DTSTART:20231105T070000
END:STANDARD
BEGIN:DAYLIGHT
TZOFFSETFROM:-0600
TZOFFSETTO:-0500
TZNAME:CDT
DTSTART:20240310T080000
END:DAYLIGHT
BEGIN:STANDARD
TZOFFSETFROM:-0500
TZOFFSETTO:-0600
TZNAME:CST
DTSTART:20241103T070000
END:STANDARD
BEGIN:DAYLIGHT
TZOFFSETFROM:-0600
TZOFFSETTO:-0500
TZNAME:CDT
DTSTART:20250309T080000
END:DAYLIGHT
BEGIN:STANDARD
TZOFFSETFROM:-0500
TZOFFSETTO:-0600
TZNAME:CST
DTSTART:20251102T070000
END:STANDARD
END:VTIMEZONE
BEGIN:VEVENT
DTSTART;TZID=America/Chicago:20240723T173000
DTEND;TZID=America/Chicago:20240723T193000
DTSTAMP:20260425T105715
CREATED:20240530T164314Z
LAST-MODIFIED:20240530T164314Z
UID:10002271-1721755800-1721763000@visitjacksontn.com
SUMMARY:Wine-O Night
DESCRIPTION:Dive into Fun at Century Farm Winery’s Wine-O Night! \nJoin us on July 23rd at 5:30 PM for a beach-themed evening of excitement\, laughs\, and\, of course\, prizes! \nManage to hold onto the coveted pool float\, and win an extra prize! \nCost: $25 per spot (wine not included – must be purchased upon arrival). \nDon’t miss out on this wave of fun! \nClick here for more event information.
URL:https://visitjacksontn.com/event/wine-o-night-3/
LOCATION:Century Farm Winery\, 1548 Lower Brownsville Rd.\, Jackson\, TN\, 38301\, United States
CATEGORIES:Events
ATTACH;FMTTYPE=image/jpeg:https://visitjacksontn.com/wp-content/uploads/444501072_972741431523165_8784729966058114168_n-e1717087348832.jpg
END:VEVENT
BEGIN:VEVENT
DTSTART;TZID=America/Chicago:20240725T170000
DTEND;TZID=America/Chicago:20240725T190000
DTSTAMP:20260425T105715
CREATED:20240423T143117Z
LAST-MODIFIED:20240423T143117Z
UID:10002167-1721926800-1721934000@visitjacksontn.com
SUMMARY:Day in the Life of the Winemaker
DESCRIPTION:Step into the world of winemaking at Century Farm Winery\, where we invite you to experience a Day in the Life of the Winemaker. Immerse yourself in the art and science behind crafting exceptional wines. Your journey begins with a guided tour through our picturesque vineyard\, where Bart will unveil the secrets of vineyard agriculture. Learn about the delicate balance of soil\, climate\, and grape varieties that contribute to the unique character of our wines. Next\, you will venture into the heart of our operation with a tour of the cellar. Here\, you’ll witness firsthand the meticulous process of wine production\, from vine to wine. Discover the intricacies of fermentation\, aging\, and blending. After exploring the vineyard and cellar\, you will retire to our back event room for the grand finale—a flight of our finest wines. \nClick here for more event information.
URL:https://visitjacksontn.com/event/day-in-the-life-of-the-winemaker/
LOCATION:Century Farm Winery\, 1548 Lower Brownsville Rd.\, Jackson\, TN\, 38301\, United States
CATEGORIES:Events
ATTACH;FMTTYPE=image/jpeg:https://visitjacksontn.com/wp-content/uploads/435708405_941427041321271_866318260109683766_n.jpg
END:VEVENT
BEGIN:VEVENT
DTSTART;TZID=America/Chicago:20240727T190000
DTEND;TZID=America/Chicago:20240727T220000
DTSTAMP:20260425T105715
CREATED:20240530T173705Z
LAST-MODIFIED:20240530T173705Z
UID:10002276-1722106800-1722117600@visitjacksontn.com
SUMMARY:Voices in the Vineyard - The Bullet Town Trio
DESCRIPTION:Get ready for a night of musical magic at Century Farm Winery on July 27th! Join us for a FREE concert featuring the incredible talents of the “Bullet Town Trio”! \nStarting at 7:00 PM\, immerse yourself in the soulful sounds of Allan & Barbara Davis\, along with Cory Bridges. Together\, they’ll take you on a journey through Blues\, Motown\, classic rock and a sprinkle of country – it’s a musical fusion you won’t want to miss! \nGather your friends\, family\, and picnic blankets for a wonderful summer evening filled with great music\, fantastic wine\, and unforgettable moments. \nPlease note:\nNo pets\, smoking\, or outside alcohol are allowed.\nChildren are welcome\, but must be supervised at all times.\nMake sure to make table reservations soon as they go quickly! \nClick here for more event information.
URL:https://visitjacksontn.com/event/voices-in-the-vineyard-the-bullet-town-trio/
LOCATION:Century Farm Winery\, 1548 Lower Brownsville Rd.\, Jackson\, TN\, 38301\, United States
CATEGORIES:Events,Music
ATTACH;FMTTYPE=image/jpeg:https://visitjacksontn.com/wp-content/uploads/435767541_943632944434014_878735011374426850_n.jpg
END:VEVENT
BEGIN:VEVENT
DTSTART;TZID=America/Chicago:20240731T173000
DTEND;TZID=America/Chicago:20240731T183000
DTSTAMP:20260425T105715
CREATED:20240701T190949Z
LAST-MODIFIED:20240701T190949Z
UID:10002373-1722447000-1722450600@visitjacksontn.com
SUMMARY:Yoga in the Vineyard
DESCRIPTION:Join us for a blissful evening of yoga and wine July 31st at 5:30pm. \nImmerse yourself in the serene surroundings of our beautiful winery as you flow through a rejuvenating yoga session lead by Erin Nerren. \nWhether you’re a seasoned yogi or just starting\, this event is designed for all levels.\nEvent Cost: $5 for the yoga class \nDon’t miss out on this opportunity to nourish your mind\, body\, and soul in the heart of our vineyard. Bring your friends and make it a memorable evening of wellness and wine! \nNo Reservation Needed \nClick here for more event information.
URL:https://visitjacksontn.com/event/yoga-in-the-vineyard-3/
LOCATION:Century Farm Winery\, 1548 Lower Brownsville Rd.\, Jackson\, TN\, 38301\, United States
CATEGORIES:Events,Sports & Outdoor
ATTACH;FMTTYPE=image/jpeg:https://visitjacksontn.com/wp-content/uploads/448060789_979639717500003_1661701181113293626_n.jpg
END:VEVENT
END:VCALENDAR