BEGIN:VCALENDAR
VERSION:2.0
PRODID:-//Jackson Tourism - ECPv6.15.18//NONSGML v1.0//EN
CALSCALE:GREGORIAN
METHOD:PUBLISH
X-WR-CALNAME:Jackson Tourism
X-ORIGINAL-URL:https://visitjacksontn.com
X-WR-CALDESC:Events for Jackson Tourism
REFRESH-INTERVAL;VALUE=DURATION:PT1H
X-Robots-Tag:noindex
X-PUBLISHED-TTL:PT1H
BEGIN:VTIMEZONE
TZID:America/Chicago
BEGIN:DAYLIGHT
TZOFFSETFROM:-0600
TZOFFSETTO:-0500
TZNAME:CDT
DTSTART:20230312T080000
END:DAYLIGHT
BEGIN:STANDARD
TZOFFSETFROM:-0500
TZOFFSETTO:-0600
TZNAME:CST
DTSTART:20231105T070000
END:STANDARD
BEGIN:DAYLIGHT
TZOFFSETFROM:-0600
TZOFFSETTO:-0500
TZNAME:CDT
DTSTART:20240310T080000
END:DAYLIGHT
BEGIN:STANDARD
TZOFFSETFROM:-0500
TZOFFSETTO:-0600
TZNAME:CST
DTSTART:20241103T070000
END:STANDARD
BEGIN:DAYLIGHT
TZOFFSETFROM:-0600
TZOFFSETTO:-0500
TZNAME:CDT
DTSTART:20250309T080000
END:DAYLIGHT
BEGIN:STANDARD
TZOFFSETFROM:-0500
TZOFFSETTO:-0600
TZNAME:CST
DTSTART:20251102T070000
END:STANDARD
END:VTIMEZONE
BEGIN:VEVENT
DTSTART;VALUE=DATE:20240710
DTEND;VALUE=DATE:20240714
DTSTAMP:20260419T112149
CREATED:20240510T161625Z
LAST-MODIFIED:20240510T161703Z
UID:10002214-1720569600-1720915199@visitjacksontn.com
SUMMARY:Jackson Sings the Gospel 2024
DESCRIPTION:Come out and enjoy Jackson Sings the Gospel on Wednesday July 10-Saturday\, July 13 @ The Carl Perkins Civic Center! \nWed\, 7 pm – BOOTH BROTHERS\, GREATER VISION\, MARK TRAMMELL QT\, MYLON HAYES FAMILY \nThur\, 7pm – GOLD CITY\, KAREN PECK & NEW RIVER\, BRIAN FREE & ASSURANCE\, JEFF & SHERI EASTER\, GUARDIANS \nFri\, 7pm – TRIUMPHANT QT\, HOPPERS\, JOSEPH HABEDANK\, DOWN EAST BOYS\, JOSH & ASHLEY FRANKS \nSat\, 6pm – INSPIRATIONS\, KINGSMEN\, TRIBUTE QT\, ERWINS\, WHISNANTS \nCall 941-756-6942 for tickets. \nClick here for more information.
URL:https://visitjacksontn.com/event/jackson-sings-the-gospel/
LOCATION:Carl Perkins Civic Center\, 400 South Highland Avenue\, Jackson\, TN\, 38301\, United States
CATEGORIES:Events,Music
ATTACH;FMTTYPE=image/jpeg:https://visitjacksontn.com/wp-content/uploads/437739985_450691494155998_7256622226599831209_n.jpg
END:VEVENT
END:VCALENDAR