BEGIN:VCALENDAR
VERSION:2.0
PRODID:-//Jackson Tourism - ECPv6.15.18//NONSGML v1.0//EN
CALSCALE:GREGORIAN
METHOD:PUBLISH
X-ORIGINAL-URL:https://visitjacksontn.com
X-WR-CALDESC:Events for Jackson Tourism
REFRESH-INTERVAL;VALUE=DURATION:PT1H
X-Robots-Tag:noindex
X-PUBLISHED-TTL:PT1H
BEGIN:VTIMEZONE
TZID:America/Chicago
BEGIN:DAYLIGHT
TZOFFSETFROM:-0600
TZOFFSETTO:-0500
TZNAME:CDT
DTSTART:20230312T080000
END:DAYLIGHT
BEGIN:STANDARD
TZOFFSETFROM:-0500
TZOFFSETTO:-0600
TZNAME:CST
DTSTART:20231105T070000
END:STANDARD
BEGIN:DAYLIGHT
TZOFFSETFROM:-0600
TZOFFSETTO:-0500
TZNAME:CDT
DTSTART:20240310T080000
END:DAYLIGHT
BEGIN:STANDARD
TZOFFSETFROM:-0500
TZOFFSETTO:-0600
TZNAME:CST
DTSTART:20241103T070000
END:STANDARD
BEGIN:DAYLIGHT
TZOFFSETFROM:-0600
TZOFFSETTO:-0500
TZNAME:CDT
DTSTART:20250309T080000
END:DAYLIGHT
BEGIN:STANDARD
TZOFFSETFROM:-0500
TZOFFSETTO:-0600
TZNAME:CST
DTSTART:20251102T070000
END:STANDARD
END:VTIMEZONE
BEGIN:VEVENT
DTSTART;TZID=America/Chicago:20240830T183000
DTEND;TZID=America/Chicago:20240830T193000
DTSTAMP:20260419T201343
CREATED:20240709T180937Z
LAST-MODIFIED:20240709T180937Z
UID:10002391-1725042600-1725046200@visitjacksontn.com
SUMMARY:Candlelight: Vivaldi's Four Seasons & More
DESCRIPTION:Candlelight concerts bring the magic of a live\, multi-sensory musical experience to awe-inspiring locations like never seen before in Jackson. Get your tickets now to discover Vivaldi and more at The Ned under the gentle glow of candlelight. \nVenue: The Ned\nDuration: 60 minutes (doors open 45 mins prior to the start time and late entry is not permitted)\nAge requirement: 8 years old or older. Anyone under the age of 16 must be accompanied by an adult \nTentative Program \n\nThe Four Seasons\, Violin Concerto in G Minor\, Op. 8 No. 1 RV 269: Spring – Vivaldi\nThe Four Seasons\, Violin Concerto in G Minor\, Op. 8 No. 2 RV 315: Summer – Vivaldi\nThe Four Seasons\, Violin Concerto in G Minor\, Op. 8 No. 3 RV 293: Autumn – Vivaldi\nThe Four Seasons\, Violin Concerto in G Minor\, Op. 8 No. 4 RV 297: Winter – Vivaldi\n\nClick here for tickets and more information.
URL:https://visitjacksontn.com/event/candlelight-vivaldis-four-seasons-more/
LOCATION:The NED\, 314 East Main Street\, Jackson\, TN\, 38301\, United States
CATEGORIES:Arts & Culture,Events,Music
ATTACH;FMTTYPE=image/jpeg:https://visitjacksontn.com/wp-content/uploads/CANDLELIGHT-Concert.jpg
END:VEVENT
BEGIN:VEVENT
DTSTART;TZID=America/Chicago:20240830T210000
DTEND;TZID=America/Chicago:20240830T210000
DTSTAMP:20260419T201343
CREATED:20240709T180540Z
LAST-MODIFIED:20240709T180540Z
UID:10002390-1725051600-1725051600@visitjacksontn.com
SUMMARY:Candlelight: A Tribute to Taylor Swift
DESCRIPTION:Candlelight concerts bring the magic of a live\, multi-sensory musical experience to awe-inspiring locations like never seen before in Jackson. Get your tickets now to discover the music of Taylor Swift at The Ned under the gentle glow of candlelight. \nVenue: The Ned\nDuration: 60 minutes (doors open 45 mins prior to the start time and late entry is not permitted)\nAge requirement: 8 years old or older. Anyone under the age of 16 must be accompanied by an adult \nTentative Program \n\n“Love Story”\n“Cardigan”\n“Blank Space”\n“Enchanted”\n“Anti-Hero”\n“Lavender Haze”\n“Fortnight (ft. Post Malone)”\n“All Too Well”\n“We Are Never Ever Getting Back Together”\n“Cruel Summer”\n“But Daddy I Love Him”\n“You Belong With Me”\n“Shake It Off”\n\nClick here for tickets and more information.
URL:https://visitjacksontn.com/event/candlelight-a-tribute-to-taylor-swift/
LOCATION:The NED\, 314 East Main Street\, Jackson\, TN\, 38301\, United States
CATEGORIES:Arts & Culture,Events,Music
ATTACH;FMTTYPE=image/jpeg:https://visitjacksontn.com/wp-content/uploads/CANDLELIGHT-Concert.jpg
END:VEVENT
END:VCALENDAR