BEGIN:VCALENDAR
VERSION:2.0
PRODID:-//Jackson Tourism - ECPv6.15.20//NONSGML v1.0//EN
CALSCALE:GREGORIAN
METHOD:PUBLISH
X-WR-CALNAME:Jackson Tourism
X-ORIGINAL-URL:https://visitjacksontn.com
X-WR-CALDESC:Events for Jackson Tourism
REFRESH-INTERVAL;VALUE=DURATION:PT1H
X-Robots-Tag:noindex
X-PUBLISHED-TTL:PT1H
BEGIN:VTIMEZONE
TZID:America/Chicago
BEGIN:DAYLIGHT
TZOFFSETFROM:-0600
TZOFFSETTO:-0500
TZNAME:CDT
DTSTART:20230312T080000
END:DAYLIGHT
BEGIN:STANDARD
TZOFFSETFROM:-0500
TZOFFSETTO:-0600
TZNAME:CST
DTSTART:20231105T070000
END:STANDARD
BEGIN:DAYLIGHT
TZOFFSETFROM:-0600
TZOFFSETTO:-0500
TZNAME:CDT
DTSTART:20240310T080000
END:DAYLIGHT
BEGIN:STANDARD
TZOFFSETFROM:-0500
TZOFFSETTO:-0600
TZNAME:CST
DTSTART:20241103T070000
END:STANDARD
BEGIN:DAYLIGHT
TZOFFSETFROM:-0600
TZOFFSETTO:-0500
TZNAME:CDT
DTSTART:20250309T080000
END:DAYLIGHT
BEGIN:STANDARD
TZOFFSETFROM:-0500
TZOFFSETTO:-0600
TZNAME:CST
DTSTART:20251102T070000
END:STANDARD
END:VTIMEZONE
BEGIN:VEVENT
DTSTART;TZID=America/Chicago:20241029T173000
DTEND;TZID=America/Chicago:20241029T173000
DTSTAMP:20260425T204155
CREATED:20240924T205922Z
LAST-MODIFIED:20240924T205935Z
UID:10002615-1730223000-1730223000@visitjacksontn.com
SUMMARY:Bunco for Breast Cancer Awareness
DESCRIPTION:Join us for the Bunco Tournament for Breast Cancer Awareness on October 29 at 5:30 pm. \nThe tournament will be held at the Jackson Elks Lodge #192. Along with the tournament\, there will be food\, prizes\, a silent auction\, and a member-sponsored cash bar! \nThe registration fee is $35\, and the proceeds benefit the Breast Cancer Awareness Fund at the West Tennessee Healthcare Foundation. \n 
URL:https://visitjacksontn.com/event/bunco-for-breast-cancer-awareness/
LOCATION:ELKS LODGE 192\, 28 Executive Dr.\, Jackson\, TN\, 38305\, United States
CATEGORIES:Events
ATTACH;FMTTYPE=image/jpeg:https://visitjacksontn.com/wp-content/uploads/452512575_880319397462734_6314977529217731260_n.jpg
END:VEVENT
END:VCALENDAR