BEGIN:VCALENDAR
VERSION:2.0
PRODID:-//Jackson Tourism - ECPv6.15.20//NONSGML v1.0//EN
CALSCALE:GREGORIAN
METHOD:PUBLISH
X-ORIGINAL-URL:https://visitjacksontn.com
X-WR-CALDESC:Events for Jackson Tourism
REFRESH-INTERVAL;VALUE=DURATION:PT1H
X-Robots-Tag:noindex
X-PUBLISHED-TTL:PT1H
BEGIN:VTIMEZONE
TZID:America/Chicago
BEGIN:DAYLIGHT
TZOFFSETFROM:-0600
TZOFFSETTO:-0500
TZNAME:CDT
DTSTART:20230312T080000
END:DAYLIGHT
BEGIN:STANDARD
TZOFFSETFROM:-0500
TZOFFSETTO:-0600
TZNAME:CST
DTSTART:20231105T070000
END:STANDARD
BEGIN:DAYLIGHT
TZOFFSETFROM:-0600
TZOFFSETTO:-0500
TZNAME:CDT
DTSTART:20240310T080000
END:DAYLIGHT
BEGIN:STANDARD
TZOFFSETFROM:-0500
TZOFFSETTO:-0600
TZNAME:CST
DTSTART:20241103T070000
END:STANDARD
BEGIN:DAYLIGHT
TZOFFSETFROM:-0600
TZOFFSETTO:-0500
TZNAME:CDT
DTSTART:20250309T080000
END:DAYLIGHT
BEGIN:STANDARD
TZOFFSETFROM:-0500
TZOFFSETTO:-0600
TZNAME:CST
DTSTART:20251102T070000
END:STANDARD
END:VTIMEZONE
BEGIN:VEVENT
DTSTART;VALUE=DATE:20240509
DTEND;VALUE=DATE:20240512
DTSTAMP:20260425T064158
CREATED:20240424T211252Z
LAST-MODIFIED:20240424T211252Z
UID:10002174-1715212800-1715471999@visitjacksontn.com
SUMMARY:Buford Pusser Festival
DESCRIPTION:The Buford Pusser Festival will be held May 9-11! \nMay 11: Bus Tour: Bus boards at the museum at 8:00 am. Goes to all the places in Mcnairy County where it all happened – the ambush sites\, cemetery\, jail\, crash site\, state line & MANY others. Then we feed you lunch and go to Chester County to see the sites that you recognize from the movies. Seats are $75 each. All food\, drinks and snacks are included. You may tour the museum as many times as you want that weekend. \nClick here for the most up to date information regarding the festival.
URL:https://visitjacksontn.com/event/buford-pusser-festival/
LOCATION:Adamsville City Park\, 215 Crowe St\, Adamsville\, TN\, 38310\, United States
CATEGORIES:Events,History & Civil War
ATTACH;FMTTYPE=image/jpeg:https://visitjacksontn.com/wp-content/uploads/435071479_825269079638667_1429014931755644923_n.jpg
END:VEVENT
END:VCALENDAR