BEGIN:VCALENDAR
VERSION:2.0
PRODID:-//Jackson Tourism - ECPv6.15.18//NONSGML v1.0//EN
CALSCALE:GREGORIAN
METHOD:PUBLISH
X-ORIGINAL-URL:https://visitjacksontn.com
X-WR-CALDESC:Events for Jackson Tourism
REFRESH-INTERVAL;VALUE=DURATION:PT1H
X-Robots-Tag:noindex
X-PUBLISHED-TTL:PT1H
BEGIN:VTIMEZONE
TZID:America/Chicago
BEGIN:DAYLIGHT
TZOFFSETFROM:-0600
TZOFFSETTO:-0500
TZNAME:CDT
DTSTART:20230312T080000
END:DAYLIGHT
BEGIN:STANDARD
TZOFFSETFROM:-0500
TZOFFSETTO:-0600
TZNAME:CST
DTSTART:20231105T070000
END:STANDARD
BEGIN:DAYLIGHT
TZOFFSETFROM:-0600
TZOFFSETTO:-0500
TZNAME:CDT
DTSTART:20240310T080000
END:DAYLIGHT
BEGIN:STANDARD
TZOFFSETFROM:-0500
TZOFFSETTO:-0600
TZNAME:CST
DTSTART:20241103T070000
END:STANDARD
BEGIN:DAYLIGHT
TZOFFSETFROM:-0600
TZOFFSETTO:-0500
TZNAME:CDT
DTSTART:20250309T080000
END:DAYLIGHT
BEGIN:STANDARD
TZOFFSETFROM:-0500
TZOFFSETTO:-0600
TZNAME:CST
DTSTART:20251102T070000
END:STANDARD
END:VTIMEZONE
BEGIN:VEVENT
DTSTART;TZID=America/Chicago:20240613T160000
DTEND;TZID=America/Chicago:20240613T180000
DTSTAMP:20260421T210403
CREATED:20240524T145321Z
LAST-MODIFIED:20240524T145321Z
UID:10002246-1718294400-1718301600@visitjacksontn.com
SUMMARY:Lendon Noe "In This Moment" Bicentennial Art Reception
DESCRIPTION:Prints from Lendon Noe’s “In This Moment: An Interpretation of 200 Years of Jackson Madison County History” Bicentennial art gallery will be available for purchase for a limited time on Thursday\, June 13 at City Hall from 4 p.m. to 6 p.m. \nMore than a dozen pieces from the gallery have been hand-selected by artist Lendon Noe for reproduction. Unframed prints will range from $25 – $30. A preview of the high-quality prints that will be available for purchase can be found on the Jackson Madison County Bicentennial Facebook page. \nThe “In This Moment” art gallery was unveiled on the second floor of City Hall on Monday\, October 2\, 2023. It embodies the remarkable spirit of the people of Jackson and Madison County throughout two hundred years of history\, culture and community. Noe drew inspiration from the Bicentennial Milestones book\, to craft 37 canvases and mixed media exhibits that pay homage to the multifaceted history of Jackson and Madison County. Pieces within the gallery reflect dozens of themes that have shaped Jackson’s identity over the past two centuries including healthcare\, education\, arts\, entertainment\, religion\, medicine and more. \nLendon’s gallery is one of many legacy projects coordinated by the Bicentennial commission to commemorate our past and inspire future generations. Additional Bicentennial legacy projects include the Milestones history book\, a commissioned art gallery at Madison County Courthouse by Caleb O’Connor\, a time capsule\, Bicentennial Park and an archive book. These projects are made possible by our Legacy sponsors – City of Jackson\, Madison County\, Jackson Energy Authority and West Tennessee Healthcare. \nClick here for more information.
URL:https://visitjacksontn.com/event/lendon-noe-in-this-moment-bicentennial-art-reception/
LOCATION:Jackson City Hall\, 101 E. Main St.\, Jackson\, TN\, 38301\, United States
CATEGORIES:Events
ATTACH;FMTTYPE=image/jpeg:https://visitjacksontn.com/wp-content/uploads/444747388_1350952199102376_5071032713121822920_n.jpg
END:VEVENT
END:VCALENDAR