BEGIN:VCALENDAR
VERSION:2.0
PRODID:-//Jackson Tourism - ECPv6.15.20//NONSGML v1.0//EN
CALSCALE:GREGORIAN
METHOD:PUBLISH
X-WR-CALNAME:Jackson Tourism
X-ORIGINAL-URL:https://visitjacksontn.com
X-WR-CALDESC:Events for Jackson Tourism
REFRESH-INTERVAL;VALUE=DURATION:PT1H
X-Robots-Tag:noindex
X-PUBLISHED-TTL:PT1H
BEGIN:VTIMEZONE
TZID:America/Chicago
BEGIN:DAYLIGHT
TZOFFSETFROM:-0600
TZOFFSETTO:-0500
TZNAME:CDT
DTSTART:20230312T080000
END:DAYLIGHT
BEGIN:STANDARD
TZOFFSETFROM:-0500
TZOFFSETTO:-0600
TZNAME:CST
DTSTART:20231105T070000
END:STANDARD
BEGIN:DAYLIGHT
TZOFFSETFROM:-0600
TZOFFSETTO:-0500
TZNAME:CDT
DTSTART:20240310T080000
END:DAYLIGHT
BEGIN:STANDARD
TZOFFSETFROM:-0500
TZOFFSETTO:-0600
TZNAME:CST
DTSTART:20241103T070000
END:STANDARD
BEGIN:DAYLIGHT
TZOFFSETFROM:-0600
TZOFFSETTO:-0500
TZNAME:CDT
DTSTART:20250309T080000
END:DAYLIGHT
BEGIN:STANDARD
TZOFFSETFROM:-0500
TZOFFSETTO:-0600
TZNAME:CST
DTSTART:20251102T070000
END:STANDARD
END:VTIMEZONE
BEGIN:VEVENT
DTSTART;TZID=America/Chicago:20241119T180000
DTEND;TZID=America/Chicago:20241119T203000
DTSTAMP:20260422T191908
CREATED:20241106T205327Z
LAST-MODIFIED:20241106T210250Z
UID:10002838-1732039200-1732048200@visitjacksontn.com
SUMMARY:Bemis Historical Society Meeting
DESCRIPTION:The Bemis Historical Society invites the community\, history enthusiast\, and potential members to its monthly meeting! \nKathy Haney Williams will honor World War II veterans through a special presentation. \nAttendees will enjoy a slideshow featuring 35 vintage scrapbooks from The Jackson Sun\, packed with war stories\, weddings\, and milestones that bring Bemis’ past to life! \nCome out and explore the museum’s artifacts\, uncover more of Bemis’ rich history! \n 
URL:https://visitjacksontn.com/event/bemis-historical-society-meeting/
LOCATION:Bemis Mill Village Museum\, 2 N Missouri St\, Jackson\, TN\, TN\, 38301\, United States
CATEGORIES:Arts & Culture,Events,History & Civil War
ATTACH;FMTTYPE=image/webp:https://visitjacksontn.com/wp-content/uploads/Bemis-Museum-2022May21-Hollamon.webp
END:VEVENT
END:VCALENDAR