BEGIN:VCALENDAR
VERSION:2.0
PRODID:-//Jackson Tourism - ECPv6.15.20//NONSGML v1.0//EN
CALSCALE:GREGORIAN
METHOD:PUBLISH
X-ORIGINAL-URL:https://visitjacksontn.com
X-WR-CALDESC:Events for Jackson Tourism
REFRESH-INTERVAL;VALUE=DURATION:PT1H
X-Robots-Tag:noindex
X-PUBLISHED-TTL:PT1H
BEGIN:VTIMEZONE
TZID:America/Chicago
BEGIN:DAYLIGHT
TZOFFSETFROM:-0600
TZOFFSETTO:-0500
TZNAME:CDT
DTSTART:20230312T080000
END:DAYLIGHT
BEGIN:STANDARD
TZOFFSETFROM:-0500
TZOFFSETTO:-0600
TZNAME:CST
DTSTART:20231105T070000
END:STANDARD
BEGIN:DAYLIGHT
TZOFFSETFROM:-0600
TZOFFSETTO:-0500
TZNAME:CDT
DTSTART:20240310T080000
END:DAYLIGHT
BEGIN:STANDARD
TZOFFSETFROM:-0500
TZOFFSETTO:-0600
TZNAME:CST
DTSTART:20241103T070000
END:STANDARD
BEGIN:DAYLIGHT
TZOFFSETFROM:-0600
TZOFFSETTO:-0500
TZNAME:CDT
DTSTART:20250309T080000
END:DAYLIGHT
BEGIN:STANDARD
TZOFFSETFROM:-0500
TZOFFSETTO:-0600
TZNAME:CST
DTSTART:20251102T070000
END:STANDARD
END:VTIMEZONE
BEGIN:VEVENT
DTSTART;VALUE=DATE:20241005
DTEND;VALUE=DATE:20241007
DTSTAMP:20260422T192242
CREATED:20240808T211628Z
LAST-MODIFIED:20240808T211704Z
UID:10002471-1728086400-1728259199@visitjacksontn.com
SUMMARY:Sportsplex Fall Baseball Championships
DESCRIPTION:FREE TOURNAMENT! \nAA/Open\, Global State Qualifier\, Pool to Single Elimination \n7U\, 8U\, 9U\, 10U\, 11U\, 12U\, 13U\, 14U\, and 15U \nClick here to register or for more event information.
URL:https://visitjacksontn.com/event/sportsplex-fall-baseball-championships-2/
LOCATION:West Tennessee Healthcare Sportsplex\, 250 Bancorpsouth Pkwy\, Jackson\, TN\, 38305\, United States
CATEGORIES:Events,Sports & Outdoor
ATTACH;FMTTYPE=image/jpeg:https://visitjacksontn.com/wp-content/uploads/sportsplex-1.jpg
END:VEVENT
BEGIN:VEVENT
DTSTART;VALUE=DATE:20241012
DTEND;VALUE=DATE:20241014
DTSTAMP:20260422T192242
CREATED:20240808T211856Z
LAST-MODIFIED:20240808T211856Z
UID:10002472-1728691200-1728863999@visitjacksontn.com
SUMMARY:Battle of the Bats Baseball Tournament
DESCRIPTION:FREE TOURNAMENT! \nUSSSA Baseball\, AA/Open\, Double State Qualifier\, Pool to Single Elimination \n7U\, 8U\, 9U\, 10U\, 11U\, 12U\, 13U\, 14U\, and 15U \nClick here to register or for more event information.
URL:https://visitjacksontn.com/event/battle-of-the-bats-baseball-tournament/
LOCATION:West Tennessee Healthcare Sportsplex\, 250 Bancorpsouth Pkwy\, Jackson\, TN\, 38305\, United States
CATEGORIES:Events,Sports & Outdoor
ATTACH;FMTTYPE=image/jpeg:https://visitjacksontn.com/wp-content/uploads/sportsplex-1.jpg
END:VEVENT
BEGIN:VEVENT
DTSTART;VALUE=DATE:20241019
DTEND;VALUE=DATE:20241021
DTSTAMP:20260422T192242
CREATED:20240808T212009Z
LAST-MODIFIED:20240808T212009Z
UID:10002473-1729296000-1729468799@visitjacksontn.com
SUMMARY:Fall Brawl Baseball Tournament
DESCRIPTION:FREE TOURNAMENT! \nUSSSA Baseball\, AA/Open\, USSSA Fall State\, Pool to Single Elimination \n9U\, 10U\, 11U\, 12U\, 13U\, 14U\, and 15U \nClick here to register or for more event information.
URL:https://visitjacksontn.com/event/fall-brawl-baseball-tournament-2/
LOCATION:West Tennessee Healthcare Sportsplex\, 250 Bancorpsouth Pkwy\, Jackson\, TN\, 38305\, United States
CATEGORIES:Events,Sports & Outdoor
ATTACH;FMTTYPE=image/jpeg:https://visitjacksontn.com/wp-content/uploads/sportsplex-1.jpg
END:VEVENT
BEGIN:VEVENT
DTSTART;VALUE=DATE:20241026
DTEND;VALUE=DATE:20241028
DTSTAMP:20260422T192242
CREATED:20240808T212152Z
LAST-MODIFIED:20240808T212152Z
UID:10002474-1729900800-1730073599@visitjacksontn.com
SUMMARY:Pumpkin Smash Global State Baseball Tournament
DESCRIPTION:FREE TOURNAMENT! \nUSSSA Baseball\, AA Only\, USSSA Fall State\, Pool to Single Elimination \n7U\, 8U\, 9U\, 10U\, 11U\, 12U\, 13U\, 14U\, and 15U \nClick here to register or for more event information.
URL:https://visitjacksontn.com/event/pumpkin-smash-global-state-baseball-tournament-2/
LOCATION:West Tennessee Healthcare Sportsplex\, 250 Bancorpsouth Pkwy\, Jackson\, TN\, 38305\, United States
CATEGORIES:Events,Sports & Outdoor
ATTACH;FMTTYPE=image/jpeg:https://visitjacksontn.com/wp-content/uploads/sportsplex-1.jpg
END:VEVENT
END:VCALENDAR