BEGIN:VCALENDAR
VERSION:2.0
PRODID:-//Jackson Tourism - ECPv6.15.20//NONSGML v1.0//EN
CALSCALE:GREGORIAN
METHOD:PUBLISH
X-ORIGINAL-URL:https://visitjacksontn.com
X-WR-CALDESC:Events for Jackson Tourism
REFRESH-INTERVAL;VALUE=DURATION:PT1H
X-Robots-Tag:noindex
X-PUBLISHED-TTL:PT1H
BEGIN:VTIMEZONE
TZID:America/Chicago
BEGIN:DAYLIGHT
TZOFFSETFROM:-0600
TZOFFSETTO:-0500
TZNAME:CDT
DTSTART:20230312T080000
END:DAYLIGHT
BEGIN:STANDARD
TZOFFSETFROM:-0500
TZOFFSETTO:-0600
TZNAME:CST
DTSTART:20231105T070000
END:STANDARD
BEGIN:DAYLIGHT
TZOFFSETFROM:-0600
TZOFFSETTO:-0500
TZNAME:CDT
DTSTART:20240310T080000
END:DAYLIGHT
BEGIN:STANDARD
TZOFFSETFROM:-0500
TZOFFSETTO:-0600
TZNAME:CST
DTSTART:20241103T070000
END:STANDARD
BEGIN:DAYLIGHT
TZOFFSETFROM:-0600
TZOFFSETTO:-0500
TZNAME:CDT
DTSTART:20250309T080000
END:DAYLIGHT
BEGIN:STANDARD
TZOFFSETFROM:-0500
TZOFFSETTO:-0600
TZNAME:CST
DTSTART:20251102T070000
END:STANDARD
END:VTIMEZONE
BEGIN:VEVENT
DTSTART;VALUE=DATE:20240907
DTEND;VALUE=DATE:20240909
DTSTAMP:20260423T043556
CREATED:20240808T205406Z
LAST-MODIFIED:20240808T205406Z
UID:10002467-1725667200-1725839999@visitjacksontn.com
SUMMARY:September Shootout Global State Baseball Tournament
DESCRIPTION:FREE Tournament! \nAA/Open\, USSSA NIT\, Pool to Single Elimination \n7U\, 8U\, 9U\, 10U\, 11U\, 12U\, 13U\, 14U\, 15U \nClick here to register or for more information.
URL:https://visitjacksontn.com/event/september-shootout-global-state-baseball-tournament-2/
LOCATION:West Tennessee Healthcare Sportsplex\, 250 Bancorpsouth Pkwy\, Jackson\, TN\, 38305\, United States
CATEGORIES:Events,Sports & Outdoor
ATTACH;FMTTYPE=image/jpeg:https://visitjacksontn.com/wp-content/uploads/sportsplex-1.jpg
END:VEVENT
BEGIN:VEVENT
DTSTART;VALUE=DATE:20240914
DTEND;VALUE=DATE:20240916
DTSTAMP:20260423T043556
CREATED:20240808T210748Z
LAST-MODIFIED:20240808T210748Z
UID:10002468-1726272000-1726444799@visitjacksontn.com
SUMMARY:Dinger Woodbat Classic Global State Baseball Tournament
DESCRIPTION:FREE TOURNAMENT! \nAA/Open\, Global WS Qualifier\, Pool to SIngle Elimination \n7U\, 8U\, 9U\, 10U\, 11U\, 12U\, 13U\, 14U\, and 15U \nClick here to register or for more event information.
URL:https://visitjacksontn.com/event/dinger-woodbat-classic-global-state-baseball-tournament/
LOCATION:West Tennessee Healthcare Sportsplex\, 250 Bancorpsouth Pkwy\, Jackson\, TN\, 38305\, United States
CATEGORIES:Events,Sports & Outdoor
ATTACH;FMTTYPE=image/jpeg:https://visitjacksontn.com/wp-content/uploads/sportsplex-1.jpg
END:VEVENT
BEGIN:VEVENT
DTSTART;VALUE=DATE:20240921
DTEND;VALUE=DATE:20240923
DTSTAMP:20260423T043556
CREATED:20240808T210925Z
LAST-MODIFIED:20240808T210925Z
UID:10002469-1726876800-1727049599@visitjacksontn.com
SUMMARY:Hub City Showdown Baseball Tournament
DESCRIPTION:FREE TOURNAMENT! \nAA/Open\, Double State Qualifier\, Pool to Single Elimination \n7U\, 8U\, 9U\, 10U\, 11U\, 12U\, 13U\, 14U\, and 15U \nClick here to register or for more event information.
URL:https://visitjacksontn.com/event/hub-city-showdown-baseball-tournament/
LOCATION:West Tennessee Healthcare Sportsplex\, 250 Bancorpsouth Pkwy\, Jackson\, TN\, 38305\, United States
CATEGORIES:Events,Sports & Outdoor
ATTACH;FMTTYPE=image/jpeg:https://visitjacksontn.com/wp-content/uploads/sportsplex-1.jpg
END:VEVENT
BEGIN:VEVENT
DTSTART;VALUE=DATE:20240928
DTEND;VALUE=DATE:20240930
DTSTAMP:20260423T043556
CREATED:20240808T211245Z
LAST-MODIFIED:20240808T211245Z
UID:10002470-1727481600-1727654399@visitjacksontn.com
SUMMARY:Fall Slugfest Baseball Tournament
DESCRIPTION:FREE TOURNAMENT! \nAA/Open\, USSSA NIT\, Pool to Single Elimination \n9U\, 10U\, 11U\, 12U\, 13U\, 14U\, and 15U \nClick here to register or for more event information.
URL:https://visitjacksontn.com/event/fall-slugfest-baseball-tournament-2/
LOCATION:West Tennessee Healthcare Sportsplex\, 250 Bancorpsouth Pkwy\, Jackson\, TN\, 38305\, United States
CATEGORIES:Events,Sports & Outdoor
ATTACH;FMTTYPE=image/jpeg:https://visitjacksontn.com/wp-content/uploads/sportsplex-1.jpg
END:VEVENT
END:VCALENDAR