BEGIN:VCALENDAR
VERSION:2.0
PRODID:-//Jackson Tourism - ECPv6.15.18//NONSGML v1.0//EN
CALSCALE:GREGORIAN
METHOD:PUBLISH
X-WR-CALNAME:Jackson Tourism
X-ORIGINAL-URL:https://visitjacksontn.com
X-WR-CALDESC:Events for Jackson Tourism
REFRESH-INTERVAL;VALUE=DURATION:PT1H
X-Robots-Tag:noindex
X-PUBLISHED-TTL:PT1H
BEGIN:VTIMEZONE
TZID:America/Chicago
BEGIN:DAYLIGHT
TZOFFSETFROM:-0600
TZOFFSETTO:-0500
TZNAME:CDT
DTSTART:20240310T080000
END:DAYLIGHT
BEGIN:STANDARD
TZOFFSETFROM:-0500
TZOFFSETTO:-0600
TZNAME:CST
DTSTART:20241103T070000
END:STANDARD
BEGIN:DAYLIGHT
TZOFFSETFROM:-0600
TZOFFSETTO:-0500
TZNAME:CDT
DTSTART:20250309T080000
END:DAYLIGHT
BEGIN:STANDARD
TZOFFSETFROM:-0500
TZOFFSETTO:-0600
TZNAME:CST
DTSTART:20251102T070000
END:STANDARD
BEGIN:DAYLIGHT
TZOFFSETFROM:-0600
TZOFFSETTO:-0500
TZNAME:CDT
DTSTART:20260308T080000
END:DAYLIGHT
BEGIN:STANDARD
TZOFFSETFROM:-0500
TZOFFSETTO:-0600
TZNAME:CST
DTSTART:20261101T070000
END:STANDARD
END:VTIMEZONE
BEGIN:VEVENT
DTSTART;TZID=America/Chicago:20251011T083000
DTEND;TZID=America/Chicago:20251011T083000
DTSTAMP:20260419T222333
CREATED:20250107T212241Z
LAST-MODIFIED:20250107T212321Z
UID:10005181-1760171400-1760171400@visitjacksontn.com
SUMMARY:Haunted 1M\, 5K\, 10K\, 15K\, & Half Marathon
DESCRIPTION:Get into the spooky spirit with the Haunted 1M\, 5K\, 10K\, 15K\, & Half Marathon! This eerie\, paved out-and-back course offers distances for every runner\, from 1M to a Half Marathon. The race begins at 8:30 AM\, with packet pickup starting 30 minutes before (no on-site registration). \nAll finishers receive a haunted-themed medal\, and costumes are encouraged with a group photo and Best Costume Award at the start. The course has a time limit of 3 hours and 30 minutes. Parking is available by the tennis courts\, with the starting line near the playground. \nRegister now on RunSignup and join us for a hauntingly good race experience!
URL:https://visitjacksontn.com/event/haunted-1m-5k-10k-15k-half-marathon/
LOCATION:North Park Soccer Complex\, 210 Demonbreun Drive\, Jackson\, TN\, 38305\, United States
CATEGORIES:Events,Sports & Outdoor
ATTACH;FMTTYPE=image/png:https://visitjacksontn.com/wp-content/uploads/genericImage-websiteLogo-227190-1736032511.4434-0.bNECd_.png
END:VEVENT
END:VCALENDAR