BEGIN:VCALENDAR
VERSION:2.0
PRODID:-//Jackson Tourism - ECPv6.15.20//NONSGML v1.0//EN
CALSCALE:GREGORIAN
METHOD:PUBLISH
X-ORIGINAL-URL:https://visitjacksontn.com
X-WR-CALDESC:Events for Jackson Tourism
REFRESH-INTERVAL;VALUE=DURATION:PT1H
X-Robots-Tag:noindex
X-PUBLISHED-TTL:PT1H
BEGIN:VTIMEZONE
TZID:America/Chicago
BEGIN:DAYLIGHT
TZOFFSETFROM:-0600
TZOFFSETTO:-0500
TZNAME:CDT
DTSTART:20240310T080000
END:DAYLIGHT
BEGIN:STANDARD
TZOFFSETFROM:-0500
TZOFFSETTO:-0600
TZNAME:CST
DTSTART:20241103T070000
END:STANDARD
BEGIN:DAYLIGHT
TZOFFSETFROM:-0600
TZOFFSETTO:-0500
TZNAME:CDT
DTSTART:20250309T080000
END:DAYLIGHT
BEGIN:STANDARD
TZOFFSETFROM:-0500
TZOFFSETTO:-0600
TZNAME:CST
DTSTART:20251102T070000
END:STANDARD
BEGIN:DAYLIGHT
TZOFFSETFROM:-0600
TZOFFSETTO:-0500
TZNAME:CDT
DTSTART:20260308T080000
END:DAYLIGHT
BEGIN:STANDARD
TZOFFSETFROM:-0500
TZOFFSETTO:-0600
TZNAME:CST
DTSTART:20261101T070000
END:STANDARD
END:VTIMEZONE
BEGIN:VEVENT
DTSTART;TZID=America/Chicago:20250510T083000
DTEND;TZID=America/Chicago:20250510T120000
DTSTAMP:20260422T223755
CREATED:20250127T172352Z
LAST-MODIFIED:20250127T172352Z
UID:10005238-1746865800-1746878400@visitjacksontn.com
SUMMARY:Luau 1M\, 5K\, 10K\, 15K\, and Half Marathon
DESCRIPTION:Don’t miss the Luau 1M\, 5K\, 10K\, 15K\, and Half Marathon! \nRunners of all levels are invited to compete in this exciting\, out-and-back course on a paved path. Whether you’re tackling the 1M\, a challenging 15K\, or the half marathon\, every finisher will be celebrated with a themed medal. A special award will go to the best costume\, so don’t forget to show off your creative side! Race day starts at 8:30 AM\, and packet pickup begins 30 minutes before the race.
URL:https://visitjacksontn.com/event/luau-1m-5k-10k-15k-and-half-marathon/
LOCATION:North Park Soccer Complex\, 210 Demonbreun Drive\, Jackson\, TN\, 38305\, United States
CATEGORIES:Events,Sports & Outdoor
ATTACH;FMTTYPE=image/png:https://visitjacksontn.com/wp-content/uploads/genericImage-websiteLogo-244863-1735964628.0432-0.bNElFu.png
END:VEVENT
END:VCALENDAR